BEGIN:VCALENDAR
VERSION:2.0
PRODID:-//Iowa City Bird Club - ECPv6.15.3//NONSGML v1.0//EN
CALSCALE:GREGORIAN
METHOD:PUBLISH
X-WR-CALNAME:Iowa City Bird Club
X-ORIGINAL-URL:https://iowacitybirdclub.org
X-WR-CALDESC:Events for Iowa City Bird Club
REFRESH-INTERVAL;VALUE=DURATION:PT1H
X-Robots-Tag:noindex
X-PUBLISHED-TTL:PT1H
BEGIN:VTIMEZONE
TZID:America/Chicago
BEGIN:DAYLIGHT
TZOFFSETFROM:-0600
TZOFFSETTO:-0500
TZNAME:CDT
DTSTART:20260308T080000
END:DAYLIGHT
BEGIN:STANDARD
TZOFFSETFROM:-0500
TZOFFSETTO:-0600
TZNAME:CST
DTSTART:20261101T070000
END:STANDARD
END:VTIMEZONE
BEGIN:VEVENT
DTSTART;TZID=America/Chicago:20260304T080000
DTEND;TZID=America/Chicago:20260304T100000
DTSTAMP:20260423T082917
CREATED:20251214T024102Z
LAST-MODIFIED:20260304T154006Z
UID:53375-1772611200-1772618400@iowacitybirdclub.org
SUMMARY:Kent Park Bird Walk
DESCRIPTION:Kent Park Bird Walk. Join leader Chris Edwards on the first Wednesday of each month for a bird walk in Kent Park.  In the winter months we’ll spend time in the bird blind and then go for a walk. In the summer months we’llswitch to butterfly walks. \nMeet in the parking lot of Conservation Education Center.
URL:https://iowacitybirdclub.org/event/kent-park-bird-walk-18/
LOCATION:F.W. Kent Park\, Oxford\, IA\, United States
END:VEVENT
BEGIN:VEVENT
DTSTART;TZID=America/Chicago:20260307T063000
DTEND;TZID=America/Chicago:20260307T140000
DTSTAMP:20260423T082917
CREATED:20251214T034015Z
LAST-MODIFIED:20260307T192505Z
UID:53386-1772865000-1772892000@iowacitybirdclub.org
SUMMARY:Field Trip: Burlington Area Mississippi River
DESCRIPTION:Burlington Area and Mississippi River:   This is an all-day trip led by local Burlington expert birder Chuck Fuller. With spring waterfowl migration underway\, the target birds include various species of ducks and geese\, as well as pelicans. We’ll also look for songbirds like Winter Wren. Seventy-one species were seen on this trip in 2025! Walking is usually short-distance from frequent car stops at locks and dams\, riverside parks\, and other hotspots. We will stop for lunch at a nearby restaurant. Dress for cold and wind\, and bring a scope if you have one.  \nTo carpool\, meet Karen Disbrow at 6:30 a.m. at the front parking lot of the Johnson County Fairgrounds\, 3109 Old Highway 218 South\, Iowa City. Alternately\, you can meet us at 8 a.m. at the Port of Burlington\, 400 Front Street\, Burlington. \n  \n 
URL:https://iowacitybirdclub.org/event/field-trip-burlington-area-mississippi-river/
LOCATION:IA
END:VEVENT
BEGIN:VEVENT
DTSTART;TZID=America/Chicago:20260319T184500
DTEND;TZID=America/Chicago:20260319T203000
DTSTAMP:20260423T082917
CREATED:20251214T034018Z
LAST-MODIFIED:20260320T012422Z
UID:53387-1773945900-1773952200@iowacitybirdclub.org
SUMMARY:IC Bird Club Meeting
DESCRIPTION:March 19th\, Thursday\, 7 p.m. In-Person and Zoom meeting at the Iowa City Environmental Education Center 2401 Scott Blvd SE\, Iowa City: Elizabeth Miller of the Iowa Grotto\, the Iowa Chapter of the National Speleological Society\, will present “Bats in Iowa.” Join Zoom Meetinghttps://us06web.zoom.us/j/82268705424?pwd=kYUQnL7TBp8dCji6F4KYRFwoTcrF0M.1 \nMeeting ID: 822 6870 5424Passcode: 292775
URL:https://iowacitybirdclub.org/event/ic-bird-club-meeting-17/
LOCATION:IC Environmental Education Center 2401 Scott Blvd SE\, Iowa City\, IA\, United States
END:VEVENT
BEGIN:VEVENT
DTSTART;TZID=America/Chicago:20260322T080000
DTEND;TZID=America/Chicago:20260322T120000
DTSTAMP:20260423T082917
CREATED:20251214T034030Z
LAST-MODIFIED:20260322T161007Z
UID:53388-1774166400-1774180800@iowacitybirdclub.org
SUMMARY:Field Trip: Wiese Slough Wildlife Area
DESCRIPTION:Wiese Slough Wildlife Area in Muscatine County. Target species include ducks\, geese\, Trumpeter Swan\, and returning songbirds. We will drive to several viewing locations within the wildlife area and take short hikes to find passerines. Bring a spotting scope if you have one. We’ll finish by noon.Meet leader Linda Quinn at 8 a.m. to carpool from south side of Iowa City at the parking lot of Fareway Grocery\, 2765 Commerce Dr\, Iowa City. Or meet on site at 8:30 at the north boat ramp of Wiese Slough\, 1398 Mohawk Ave.\, Atalissa. 
URL:https://iowacitybirdclub.org/event/field-trip-wiese-slough-wildlife-area-2/
LOCATION:1398 Mohawk Ave\, Atalissa\, IA\, United States
END:VEVENT
BEGIN:VEVENT
DTSTART;TZID=America/Chicago:20260331T190000
DTEND;TZID=America/Chicago:20260331T200000
DTSTAMP:20260423T082917
CREATED:20251229T182443Z
LAST-MODIFIED:20260401T003953Z
UID:53709-1774983600-1774987200@iowacitybirdclub.org
SUMMARY:Introduction to Birding Course: Basics of Birding I
DESCRIPTION:Introduction to Birding Course: BASICS OF BIRDING I CLASS at the Iowa City Environmental Education Center\, 2401 Scott Blvd\, Iowa City. This will include field identification of birds\, field guides\, and equipment every birder needs.  No registration required\, just come! \nClick below link for class schedulehttps://iowacitybirdclub.org/beginners-course/
URL:https://iowacitybirdclub.org/event/introduction-to-birding-course-basics-of-birding-i-2/
LOCATION:Environmental Education Center 2401 Scott Blvd SE\, Iowa City\, IA\, United States
END:VEVENT
END:VCALENDAR