BEGIN:VCALENDAR
VERSION:2.0
PRODID:-//Iowa City Bird Club - ECPv6.15.3//NONSGML v1.0//EN
CALSCALE:GREGORIAN
METHOD:PUBLISH
X-WR-CALNAME:Iowa City Bird Club
X-ORIGINAL-URL:https://iowacitybirdclub.org
X-WR-CALDESC:Events for Iowa City Bird Club
REFRESH-INTERVAL;VALUE=DURATION:PT1H
X-Robots-Tag:noindex
X-PUBLISHED-TTL:PT1H
BEGIN:VTIMEZONE
TZID:America/Chicago
BEGIN:DAYLIGHT
TZOFFSETFROM:-0600
TZOFFSETTO:-0500
TZNAME:CDT
DTSTART:20250309T080000
END:DAYLIGHT
BEGIN:STANDARD
TZOFFSETFROM:-0500
TZOFFSETTO:-0600
TZNAME:CST
DTSTART:20251102T070000
END:STANDARD
END:VTIMEZONE
BEGIN:VEVENT
DTSTART;TZID=America/Chicago:20250520T063000
DTEND;TZID=America/Chicago:20250520T080000
DTSTAMP:20260423T172830
CREATED:20250414T001900Z
LAST-MODIFIED:20250520T123005Z
UID:47456-1747722600-1747728000@iowacitybirdclub.org
SUMMARY:Hickory Hill Park Warbler Walks
DESCRIPTION:April 28 – May 23\, Weekdays\, Mon-Fri\, 6:30-8:00 a.m.\,  Hickory Hill Park Warbler Walks.  Start your weekdays watching warblers and other spring migrants in the park with our rotating crew of expert leaders.  \nMeet at the north parking lot at 800 Conklin Lane\, off N. Dodge St.
URL:https://iowacitybirdclub.org/event/hickory-hill-park-warbler-walks-83/
LOCATION:Hickory Hill Park\, 1439 E Bloomington St\, Iowa City\, IA\, United States
END:VEVENT
BEGIN:VEVENT
DTSTART;TZID=America/Chicago:20250519T063000
DTEND;TZID=America/Chicago:20250519T080000
DTSTAMP:20260423T172830
CREATED:20250414T001859Z
LAST-MODIFIED:20250519T123153Z
UID:47455-1747636200-1747641600@iowacitybirdclub.org
SUMMARY:Hickory Hill Park Warbler Walks
DESCRIPTION:April 28 – May 23\, Weekdays\, Mon-Fri\, 6:30-8:00 a.m.\,  Hickory Hill Park Warbler Walks.  Start your weekdays watching warblers and other spring migrants in the park with our rotating crew of expert leaders.  \nMeet at the north parking lot at 800 Conklin Lane\, off N. Dodge St.
URL:https://iowacitybirdclub.org/event/hickory-hill-park-warbler-walks-82/
LOCATION:Hickory Hill Park\, 1439 E Bloomington St\, Iowa City\, IA\, United States
END:VEVENT
BEGIN:VEVENT
DTSTART;TZID=America/Chicago:20250517T073000
DTEND;TZID=America/Chicago:20250517T120000
DTSTAMP:20260423T172830
CREATED:20250414T001858Z
LAST-MODIFIED:20250517T160708Z
UID:47454-1747467000-1747483200@iowacitybirdclub.org
SUMMARY:Field Trip: Cedar River Crossing
DESCRIPTION:Cedar River Crossing: Target species include migrating shorebirds\, waterfowl\, and sparrows. Jason Paulios will lead a birding tour of this Johnson County Conservation property\, hiking around three miles in open wetland and prairie habitats. Boots are recommended in case of overgrown\, potentially damp\, paths.  Bring a spotting scope if you have one. \nMeet Jason in the parking lot near the restrooms 5473 Sutliff Rd. NE\, Solon
URL:https://iowacitybirdclub.org/event/field-trip-cedar-river-crossing/
LOCATION:5473 Sutliff Rd NE\, Solon\, IA\, United States
END:VEVENT
BEGIN:VEVENT
DTSTART;TZID=America/Chicago:20250516T063000
DTEND;TZID=America/Chicago:20250516T080000
DTSTAMP:20260423T172830
CREATED:20250414T001841Z
LAST-MODIFIED:20250516T120550Z
UID:47452-1747377000-1747382400@iowacitybirdclub.org
SUMMARY:Hickory Hill Park Warbler Walks
DESCRIPTION:April 28 – May 23\, Weekdays\, Mon-Fri\, 6:30-8:00 a.m.\,  Hickory Hill Park Warbler Walks.  Start your weekdays watching warblers and other spring migrants in the park with our rotating crew of expert leaders.  \nMeet at the north parking lot at 800 Conklin Lane\, off N. Dodge St.
URL:https://iowacitybirdclub.org/event/hickory-hill-park-warbler-walks-81/
LOCATION:Hickory Hill Park\, 1439 E Bloomington St\, Iowa City\, IA\, United States
END:VEVENT
BEGIN:VEVENT
DTSTART;TZID=America/Chicago:20250515T184500
DTEND;TZID=America/Chicago:20250515T203000
DTSTAMP:20260423T172830
CREATED:20250414T001840Z
LAST-MODIFIED:20250516T012149Z
UID:47451-1747334700-1747341000@iowacitybirdclub.org
SUMMARY:IC Bird Club Meeting
DESCRIPTION:May 15\, Thursday\, 7 p.m. In-Person and Zoom meeting at the Iowa City Environmental Education Center 2401 Scott Blvd SE\, Iowa City:  Neil and Renate Bernstein will present “Bird Tour of Iceland.” \nJoin Zoom Link:https://us06web.zoom.us/j/81657270069?pwd=bZQ0yzk1JjhDNXCJQJ83TWwWObOI9b.1 \nMeeting ID: 816 5727 0069Passcode: 937408
URL:https://iowacitybirdclub.org/event/ic-bird-club-meeting-12/
LOCATION:IC Environmental Education Center 2401 Scott Blvd SE\, Iowa City\, IA\, United States
END:VEVENT
BEGIN:VEVENT
DTSTART;TZID=America/Chicago:20250515T184500
DTEND;TZID=America/Chicago:20250515T203000
DTSTAMP:20260423T172830
CREATED:20250123T234648Z
LAST-MODIFIED:20250413T230445Z
UID:45621-1747334700-1747341000@iowacitybirdclub.org
SUMMARY:IC Bird Club Meeting
DESCRIPTION:May 15th\, Thursday\, 7 p.m. In-Person and Zoom meeting at the Iowa City Environmental Education Center 2401 Scott Blvd SE\, Iowa City:Presentation TBD….. \nJoin Zoom Link:https://us06web.zoom.us/j/81657270069?pwd=bZQ0yzk1JjhDNXCJQJ83TWwWObOI9b.1 \nMeeting ID: 816 5727 0069Passcode: 937408
URL:https://iowacitybirdclub.org/event/ic-bird-club-meeting-11/
LOCATION:IC Environmental Education Center 2401 Scott Blvd SE\, Iowa City\, IA\, United States
END:VEVENT
BEGIN:VEVENT
DTSTART;TZID=America/Chicago:20250515T063000
DTEND;TZID=America/Chicago:20250515T080000
DTSTAMP:20260423T172830
CREATED:20250414T001839Z
LAST-MODIFIED:20250515T123623Z
UID:47450-1747290600-1747296000@iowacitybirdclub.org
SUMMARY:Hickory Hill Park Warbler Walks
DESCRIPTION:April 28 – May 23\, Weekdays\, Mon-Fri\, 6:30-8:00 a.m.\,  Hickory Hill Park Warbler Walks.  Start your weekdays watching warblers and other spring migrants in the park with our rotating crew of expert leaders.  \nMeet at the north parking lot at 800 Conklin Lane\, off N. Dodge St.
URL:https://iowacitybirdclub.org/event/hickory-hill-park-warbler-walks-80/
LOCATION:Hickory Hill Park\, 1439 E Bloomington St\, Iowa City\, IA\, United States
END:VEVENT
BEGIN:VEVENT
DTSTART;TZID=America/Chicago:20250514T063000
DTEND;TZID=America/Chicago:20250514T080000
DTSTAMP:20260423T172830
CREATED:20250414T001838Z
LAST-MODIFIED:20250514T121758Z
UID:47449-1747204200-1747209600@iowacitybirdclub.org
SUMMARY:Hickory Hill Park Warbler Walks
DESCRIPTION:April 28 – May 23\, Weekdays\, Mon-Fri\, 6:30-8:00 a.m.\,  Hickory Hill Park Warbler Walks.  Start your weekdays watching warblers and other spring migrants in the park with our rotating crew of expert leaders.  \nMeet at the north parking lot at 800 Conklin Lane\, off N. Dodge St.
URL:https://iowacitybirdclub.org/event/hickory-hill-park-warbler-walks-79/
LOCATION:Hickory Hill Park\, 1439 E Bloomington St\, Iowa City\, IA\, United States
END:VEVENT
BEGIN:VEVENT
DTSTART;TZID=America/Chicago:20250513T063000
DTEND;TZID=America/Chicago:20250513T080000
DTSTAMP:20260423T172830
CREATED:20250414T001837Z
LAST-MODIFIED:20250513T124536Z
UID:47448-1747117800-1747123200@iowacitybirdclub.org
SUMMARY:Hickory Hill Park Warbler Walks
DESCRIPTION:April 28 – May 23\, Weekdays\, Mon-Fri\, 6:30-8:00 a.m.\,  Hickory Hill Park Warbler Walks.  Start your weekdays watching warblers and other spring migrants in the park with our rotating crew of expert leaders.  \nMeet at the north parking lot at 800 Conklin Lane\, off N. Dodge St.
URL:https://iowacitybirdclub.org/event/hickory-hill-park-warbler-walks-78/
LOCATION:Hickory Hill Park\, 1439 E Bloomington St\, Iowa City\, IA\, United States
END:VEVENT
BEGIN:VEVENT
DTSTART;TZID=America/Chicago:20250512T063000
DTEND;TZID=America/Chicago:20250512T080000
DTSTAMP:20260423T172830
CREATED:20250414T001835Z
LAST-MODIFIED:20250512T121459Z
UID:47447-1747031400-1747036800@iowacitybirdclub.org
SUMMARY:Hickory Hill Park Warbler Walks
DESCRIPTION:April 28 – May 23\, Weekdays\, Mon-Fri\, 6:30-8:00 a.m.\,  Hickory Hill Park Warbler Walks.  Start your weekdays watching warblers and other spring migrants in the park with our rotating crew of expert leaders.  \nMeet at the north parking lot at 800 Conklin Lane\, off N. Dodge St.
URL:https://iowacitybirdclub.org/event/hickory-hill-park-warbler-walks-77/
LOCATION:Hickory Hill Park\, 1439 E Bloomington St\, Iowa City\, IA\, United States
END:VEVENT
BEGIN:VEVENT
DTSTART;VALUE=DATE:20250510
DTEND;VALUE=DATE:20250512
DTSTAMP:20260423T172830
CREATED:20250414T001834Z
LAST-MODIFIED:20250510T235929Z
UID:47446-1746849600-1746935999@iowacitybirdclub.org
SUMMARY:Johnson County Spring Migration Count
DESCRIPTION:Johnson County Spring Migration Count:  We will bird in small groups to count asmany birds as possible throughout Johnson County. Species and individual birds are tallied – last year 160 species were recorded. Gather for a noon sack lunch at the North Liberty Community Center. Afternoon birding is encouraged\, but optional.  \nTo participate in a group\, email leader Chris Caster in advance of count day atcjcaster@q.com.  \nFor species data\, forms\, photos and more information    visit https://iowacitybirdclub.org/spring-count/.
URL:https://iowacitybirdclub.org/event/johnson-county-spring-migration-count/
END:VEVENT
BEGIN:VEVENT
DTSTART;TZID=America/Chicago:20250509T063000
DTEND;TZID=America/Chicago:20250509T080000
DTSTAMP:20260423T172830
CREATED:20250414T001833Z
LAST-MODIFIED:20250509T124559Z
UID:47445-1746772200-1746777600@iowacitybirdclub.org
SUMMARY:Hickory Hill Park Warbler Walks
DESCRIPTION:April 28 – May 23\, Weekdays\, Mon-Fri\, 6:30-8:00 a.m.\,  Hickory Hill Park Warbler Walks.  Start your weekdays watching warblers and other spring migrants in the park with our rotating crew of expert leaders.  \nMeet at the north parking lot at 800 Conklin Lane\, off N. Dodge St.
URL:https://iowacitybirdclub.org/event/hickory-hill-park-warbler-walks-76/
LOCATION:Hickory Hill Park\, 1439 E Bloomington St\, Iowa City\, IA\, United States
END:VEVENT
BEGIN:VEVENT
DTSTART;TZID=America/Chicago:20250508T063000
DTEND;TZID=America/Chicago:20250508T080000
DTSTAMP:20260423T172830
CREATED:20250414T001832Z
LAST-MODIFIED:20250508T120147Z
UID:47444-1746685800-1746691200@iowacitybirdclub.org
SUMMARY:Hickory Hill Park Warbler Walks
DESCRIPTION:April 28 – May 23\, Weekdays\, Mon-Fri\, 6:30-8:00 a.m.\,  Hickory Hill Park Warbler Walks.  Start your weekdays watching warblers and other spring migrants in the park with our rotating crew of expert leaders.  \nMeet at the north parking lot at 800 Conklin Lane\, off N. Dodge St.
URL:https://iowacitybirdclub.org/event/hickory-hill-park-warbler-walks-75/
LOCATION:Hickory Hill Park\, 1439 E Bloomington St\, Iowa City\, IA\, United States
END:VEVENT
BEGIN:VEVENT
DTSTART;TZID=America/Chicago:20250507T063000
DTEND;TZID=America/Chicago:20250507T080000
DTSTAMP:20260423T172830
CREATED:20250414T001831Z
LAST-MODIFIED:20250507T115941Z
UID:47443-1746599400-1746604800@iowacitybirdclub.org
SUMMARY:Hickory Hill Park Warbler Walks
DESCRIPTION:April 28 – May 23\, Weekdays\, Mon-Fri\, 6:30-8:00 a.m.\,  Hickory Hill Park Warbler Walks.  Start your weekdays watching warblers and other spring migrants in the park with our rotating crew of expert leaders.  \nMeet at the north parking lot at 800 Conklin Lane\, off N. Dodge St.
URL:https://iowacitybirdclub.org/event/hickory-hill-park-warbler-walks-74/
LOCATION:Hickory Hill Park\, 1439 E Bloomington St\, Iowa City\, IA\, United States
END:VEVENT
BEGIN:VEVENT
DTSTART;TZID=America/Chicago:20250506T063000
DTEND;TZID=America/Chicago:20250506T080000
DTSTAMP:20260423T172830
CREATED:20250414T001816Z
LAST-MODIFIED:20250506T122213Z
UID:47442-1746513000-1746518400@iowacitybirdclub.org
SUMMARY:Hickory Hill Park Warbler Walks
DESCRIPTION:April 28 – May 23\, Weekdays\, Mon-Fri\, 6:30-8:00 a.m.\,  Hickory Hill Park Warbler Walks.  Start your weekdays watching warblers and other spring migrants in the park with our rotating crew of expert leaders.  \nMeet at the north parking lot at 800 Conklin Lane\, off N. Dodge St.
URL:https://iowacitybirdclub.org/event/hickory-hill-park-warbler-walks-73/
LOCATION:Hickory Hill Park\, 1439 E Bloomington St\, Iowa City\, IA\, United States
END:VEVENT
BEGIN:VEVENT
DTSTART;TZID=America/Chicago:20250505T063000
DTEND;TZID=America/Chicago:20250505T080000
DTSTAMP:20260423T172830
CREATED:20250414T001814Z
LAST-MODIFIED:20250505T120042Z
UID:47441-1746426600-1746432000@iowacitybirdclub.org
SUMMARY:Hickory Hill Park Warbler Walks
DESCRIPTION:April 28 – May 23\, Weekdays\, Mon-Fri\, 6:30-8:00 a.m.\,  Hickory Hill Park Warbler Walks.  Start your weekdays watching warblers and other spring migrants in the park with our rotating crew of expert leaders.  \nMeet at the north parking lot at 800 Conklin Lane\, off N. Dodge St.
URL:https://iowacitybirdclub.org/event/hickory-hill-park-warbler-walks-72/
LOCATION:Hickory Hill Park\, 1439 E Bloomington St\, Iowa City\, IA\, United States
END:VEVENT
BEGIN:VEVENT
DTSTART;TZID=America/Chicago:20250503T070000
DTEND;TZID=America/Chicago:20250503T120000
DTSTAMP:20260423T172830
CREATED:20250414T001813Z
LAST-MODIFIED:20250503T163146Z
UID:47440-1746255600-1746273600@iowacitybirdclub.org
SUMMARY:Field Trip: Sugar Bottom Recreation Area
DESCRIPTION:Sugar Bottom Recreation Area: Target birds are migrating warblers\, sparrows\, and breeding summer birds. Join leader Mark Madsen to explore birding at Sugar Bottom. Be prepared for extensive hiking that could be wet or muddy. Parking is limited at our desired trail entrance\, so we will be carpooling\, not meeting on-site.  \nCarpool options:  7:00 – Hy-Vee parking lot\, 1125 N Dodge St\, Iowa City7:15- Mehaffy Bridge Boat Ramp\, 2202 Mehaffy Bridge Rd NE\, North Liberty
URL:https://iowacitybirdclub.org/event/field-trip-sugar-bottom-recreation-area/
END:VEVENT
BEGIN:VEVENT
DTSTART;TZID=America/Chicago:20250502T063000
DTEND;TZID=America/Chicago:20250502T080000
DTSTAMP:20260423T172830
CREATED:20250414T001812Z
LAST-MODIFIED:20250502T122905Z
UID:47439-1746167400-1746172800@iowacitybirdclub.org
SUMMARY:Hickory Hill Park Warbler Walks
DESCRIPTION:April 28 – May 23\, Weekdays\, Mon-Fri\, 6:30-8:00 a.m.\,  Hickory Hill Park Warbler Walks.  Start your weekdays watching warblers and other spring migrants in the park with our rotating crew of expert leaders.  \nMeet at the north parking lot at 800 Conklin Lane\, off N. Dodge St.
URL:https://iowacitybirdclub.org/event/hickory-hill-park-warbler-walks-71/
LOCATION:Hickory Hill Park\, 1439 E Bloomington St\, Iowa City\, IA\, United States
END:VEVENT
BEGIN:VEVENT
DTSTART;TZID=America/Chicago:20250501T063000
DTEND;TZID=America/Chicago:20250501T080000
DTSTAMP:20260423T172830
CREATED:20250414T001810Z
LAST-MODIFIED:20250501T120240Z
UID:47438-1746081000-1746086400@iowacitybirdclub.org
SUMMARY:Hickory Hill Park Warbler Walks
DESCRIPTION:April 28 – May 23\, Weekdays\, Mon-Fri\, 6:30-8:00 a.m.\,  Hickory Hill Park Warbler Walks.  Start your weekdays watching warblers and other spring migrants in the park with our rotating crew of expert leaders.  \nMeet at the north parking lot at 800 Conklin Lane\, off N. Dodge St.
URL:https://iowacitybirdclub.org/event/hickory-hill-park-warbler-walks-70/
LOCATION:Hickory Hill Park\, 1439 E Bloomington St\, Iowa City\, IA\, United States
END:VEVENT
BEGIN:VEVENT
DTSTART;TZID=America/Chicago:20250430T063000
DTEND;TZID=America/Chicago:20250430T080000
DTSTAMP:20260423T172830
CREATED:20250414T001809Z
LAST-MODIFIED:20250430T123326Z
UID:47437-1745994600-1746000000@iowacitybirdclub.org
SUMMARY:Hickory Hill Park Warbler Walks
DESCRIPTION:April 28 – May 23\, Weekdays\, Mon-Fri\, 6:30-8:00 a.m.\,  Hickory Hill Park Warbler Walks.  Start your weekdays watching warblers and other spring migrants in the park with our rotating crew of expert leaders.  \nMeet at the north parking lot at 800 Conklin Lane\, off N. Dodge St.
URL:https://iowacitybirdclub.org/event/hickory-hill-park-warbler-walks-69/
LOCATION:Hickory Hill Park\, 1439 E Bloomington St\, Iowa City\, IA\, United States
END:VEVENT
BEGIN:VEVENT
DTSTART;TZID=America/Chicago:20250429T063000
DTEND;TZID=America/Chicago:20250429T080000
DTSTAMP:20260423T172830
CREATED:20250414T001808Z
LAST-MODIFIED:20250429T124711Z
UID:47436-1745908200-1745913600@iowacitybirdclub.org
SUMMARY:Hickory Hill Park Warbler Walks
DESCRIPTION:April 28 – May 23\, Weekdays\, Mon-Fri\, 6:30-8:00 a.m.\,  Hickory Hill Park Warbler Walks.  Start your weekdays watching warblers and other spring migrants in the park with our rotating crew of expert leaders.  \nMeet at the north parking lot at 800 Conklin Lane\, off N. Dodge St.
URL:https://iowacitybirdclub.org/event/hickory-hill-park-warbler-walks-68/
LOCATION:Hickory Hill Park\, 1439 E Bloomington St\, Iowa City\, IA\, United States
END:VEVENT
BEGIN:VEVENT
DTSTART;TZID=America/Chicago:20250428T063000
DTEND;TZID=America/Chicago:20250428T080000
DTSTAMP:20260423T172830
CREATED:20250414T001807Z
LAST-MODIFIED:20250428T120038Z
UID:47435-1745821800-1745827200@iowacitybirdclub.org
SUMMARY:Hickory Hill Park Warbler Walks
DESCRIPTION:April 28 – May 23\, Weekdays\, Mon-Fri\, 6:30-8:00 a.m.\,  Hickory Hill Park Warbler Walks.  Start your weekdays watching warblers and other spring migrants in the park with our rotating crew of expert leaders.  \nMeet at the north parking lot at 800 Conklin Lane\, off N. Dodge St.
URL:https://iowacitybirdclub.org/event/hickory-hill-park-warbler-walks-67/
LOCATION:Hickory Hill Park\, 1439 E Bloomington St\, Iowa City\, IA\, United States
END:VEVENT
BEGIN:VEVENT
DTSTART;TZID=America/Chicago:20250426T080000
DTEND;TZID=America/Chicago:20250426T120000
DTSTAMP:20260423T172830
CREATED:20250414T001806Z
LAST-MODIFIED:20250426T162626Z
UID:47433-1745654400-1745668800@iowacitybirdclub.org
SUMMARY:Field Trip: Hawkeye wildlife Management Area
DESCRIPTION: HAWKEYE WILDLIFE MANAGEMENT AREA: We expect to see migrating shorebirds\, waterfowl\, early warblers\, and sparrows.   Meet leader Jason McCurdy in the parking  lot on Swan Lake Road across from Swan Lake (GPS coordinates 41.776108\, -91.678314).  We’ll carpool our way to several stopping points. Expect moderate hiking at some viewing areas. Dress for the weather and wetand muddy trails. Bring a spotting scope if you have one. \nMeet at the Swan Lake parking lot (GPS coordinates 41.776081\, 91.675009).
URL:https://iowacitybirdclub.org/event/field-trip-hawkeye-wildlife-management-area/
LOCATION:Hawkeye Wildlife Management Area\, Oxford\, IA\, United States
END:VEVENT
BEGIN:VEVENT
DTSTART;TZID=America/Chicago:20250417T184500
DTEND;TZID=America/Chicago:20250417T203000
DTSTAMP:20260423T172830
CREATED:20250123T234646Z
LAST-MODIFIED:20250418T005850Z
UID:45620-1744915500-1744921800@iowacitybirdclub.org
SUMMARY:IC Bird Club Meeting
DESCRIPTION:April 17th\, Thursday\, 7 p.m. In-Person and Zoom meeting at the Iowa City Environmental Education Center 2401 Scott Blvd SE\, Iowa City: Mark Bowman will present “The Purple Martin\, a Very Large\, High-flying Swallow\,” including a brief report about unusual Purple Martin nest observations by Don Lund. \nJoin Zoom Link:https://us06web.zoom.us/j/81657270069?pwd=bZQ0yzk1JjhDNXCJQJ83TWwWObOI9b.1 \nMeeting ID: 816 5727 0069Passcode: 937408
URL:https://iowacitybirdclub.org/event/ic-bird-club-meeting-10/
LOCATION:IC Environmental Education Center 2401 Scott Blvd SE\, Iowa City\, IA\, United States
END:VEVENT
BEGIN:VEVENT
DTSTART;TZID=America/Chicago:20250412T080000
DTEND;TZID=America/Chicago:20250412T120000
DTSTAMP:20260423T172830
CREATED:20241227T020836Z
LAST-MODIFIED:20250412T164836Z
UID:44975-1744444800-1744459200@iowacitybirdclub.org
SUMMARY:Beginner Field Trip: WATERWORKS PRAIRIE PARK
DESCRIPTION: WATERWORKS PRAIRIE PARK Beginning birder trip forcurrent or past participants in the Introduction to Birding Course. Visit this Iowa City park with great trails forwoodland\, prairie\, and wetland species.  \nMeet at Waterworks Prairie Park\, 2875 Dubuque St. NE\, Iowa City
URL:https://iowacitybirdclub.org/event/beginner-field-trip-waterworks-prairie-park/
LOCATION:Waterworks Prairie Park\, 2875 Dubuque St NE\, Iowa City\, IA\, United States
END:VEVENT
BEGIN:VEVENT
DTSTART;TZID=America/Chicago:20250408T190000
DTEND;TZID=America/Chicago:20250408T200000
DTSTAMP:20260423T172830
CREATED:20241227T020834Z
LAST-MODIFIED:20250409T001533Z
UID:44973-1744138800-1744142400@iowacitybirdclub.org
SUMMARY:Introduction to Birding Course: Birds of Iowa
DESCRIPTION:Introduction to Birding Course: BIRDS OF IOWA CLASS  at the Iowa City Environmental Education Center\, 2401 Scott Blvd\, Iowa City.  Learn about Summer residents that nest here and birds that migratethrough Iowa in spring and fall.  \nClick below link for class schedulehttps://iowacitybirdclub.org/beginners-course/
URL:https://iowacitybirdclub.org/event/introduction-to-birding-course-birds-of-iowa/
LOCATION:Environmental Education Center 2401 Scott Blvd SE\, Iowa City\, IA\, United States
END:VEVENT
BEGIN:VEVENT
DTSTART;TZID=America/Chicago:20250405T080000
DTEND;TZID=America/Chicago:20250405T120000
DTSTAMP:20260423T172830
CREATED:20241227T020833Z
LAST-MODIFIED:20250405T161334Z
UID:44972-1743840000-1743854400@iowacitybirdclub.org
SUMMARY:Beginner Field Trip: HAWKEYE WILDLIFE AREA
DESCRIPTION: HAWKEYE WILDLIFE AREA Beginning birder trip for current or past participants in the Introduction to Birding Course. We expect to see ducks\, geese\, American White Pelicans\, and other early spring migrants. Wear boots for walking in wet areas\, and bring a spotting scope if you have one.  \nMeet at the Swan Lake parking lot (GPS coordinates 41.776081\, 91.675009).
URL:https://iowacitybirdclub.org/event/beginner-field-trip-hawkeye-wildlife-area/
LOCATION:Hawkeye Wildlife Management Area\, Oxford\, IA\, United States
END:VEVENT
BEGIN:VEVENT
DTSTART;TZID=America/Chicago:20250405T080000
DTEND;TZID=America/Chicago:20250405T090000
DTSTAMP:20260423T172830
CREATED:20250323T143511Z
LAST-MODIFIED:20250405T131515Z
UID:46937-1743840000-1743843600@iowacitybirdclub.org
SUMMARY:Field Trip: Two Horse Farm
DESCRIPTION:Two Horse Farm\, 2257 Sugar Bottom Road NE\, Solon. This new Johnson County Conservation property (acquired in 2022) features restored prairie and oak-hickory forest with abundant edge habitat. Mary Bowler and Brian Broderick will guide us through their favorite birding spot.  More birders discovering this excellent new hotspot will help grow the species list\, presently at 75.  We’ll look for early spring migrants like Winter Wren\, Hermit Thrush\, kinglets\, Yellow-bellied Sapsucker\, and Yellow-rumped Warbler. Expect to hike up to 2 miles on mowed paths that may be wet. We’ll finish by noon
URL:https://iowacitybirdclub.org/event/field-trip-two-horse-farm-2/
LOCATION:2257 Sugar Bottom Rd NE\, Solon\, IA\, United States
END:VEVENT
BEGIN:VEVENT
DTSTART;TZID=America/Chicago:20250401T190000
DTEND;TZID=America/Chicago:20250401T200000
DTSTAMP:20260423T172830
CREATED:20241227T020832Z
LAST-MODIFIED:20250402T003254Z
UID:44971-1743534000-1743537600@iowacitybirdclub.org
SUMMARY:Introduction to Birding Course: Backyard & Feeder Birds
DESCRIPTION:Introduction to Birding Course: BACKYARD AND FEEDER BIRDS CLASS  at the Iowa City Environmental Education Center\, 2401 Scott Blvd\, Iowa City. This session will cover the common birds found in our backyards during the year\, and what types of feeders and food to use to attract them.  \nClick below link for class schedulehttps://iowacitybirdclub.org/beginners-course/
URL:https://iowacitybirdclub.org/event/introduction-to-birding-course-backyard-feeder-birds/
LOCATION:Environmental Education Center 2401 Scott Blvd SE\, Iowa City\, IA\, United States
END:VEVENT
BEGIN:VEVENT
DTSTART;TZID=America/Chicago:20250330T080000
DTEND;TZID=America/Chicago:20250330T120000
DTSTAMP:20260423T172830
CREATED:20241205T212737Z
LAST-MODIFIED:20250330T154708Z
UID:44535-1743321600-1743336000@iowacitybirdclub.org
SUMMARY:Field Trip: Wiese Slough Wildlife Area
DESCRIPTION:Wiese Slough Wildlife Area in Muscatine County. Target species include ducks\, geese\, Trumpeter Swan\, and returning songbirds. We will drive to several viewing locations within the wildlife area and take short hikes to find passerines. Bring a spotting scope if you have one. We’ll finish by noon.Meet leader Linda Quinn at 8 a.m. to carpool from south side of Iowa City at the parking lot of Fareway Grocery\, 2765 Commerce Dr\, Iowa City. Or meet on site at 8:30 at the north boat ramp of Wiese Slough\, 1398 Mohawk Ave.\, Atalissa. 
URL:https://iowacitybirdclub.org/event/field-trip-wiese-slough-wildlife-area/
LOCATION:1398 Mohawk Ave\, Atalissa\, IA\, United States
END:VEVENT
END:VCALENDAR