BEGIN:VCALENDAR
VERSION:2.0
PRODID:-//Iowa City Bird Club - ECPv6.15.3//NONSGML v1.0//EN
CALSCALE:GREGORIAN
METHOD:PUBLISH
X-WR-CALNAME:Iowa City Bird Club
X-ORIGINAL-URL:https://iowacitybirdclub.org
X-WR-CALDESC:Events for Iowa City Bird Club
REFRESH-INTERVAL;VALUE=DURATION:PT1H
X-Robots-Tag:noindex
X-PUBLISHED-TTL:PT1H
BEGIN:VTIMEZONE
TZID:America/Chicago
BEGIN:DAYLIGHT
TZOFFSETFROM:-0600
TZOFFSETTO:-0500
TZNAME:CDT
DTSTART:20260308T080000
END:DAYLIGHT
BEGIN:STANDARD
TZOFFSETFROM:-0500
TZOFFSETTO:-0600
TZNAME:CST
DTSTART:20261101T070000
END:STANDARD
END:VTIMEZONE
BEGIN:VEVENT
DTSTART;TZID=America/Chicago:20260716T183000
DTEND;TZID=America/Chicago:20260716T213000
DTSTAMP:20260423T160617
CREATED:20260331T211131Z
LAST-MODIFIED:20260423T200206Z
UID:55953-1784226600-1784237400@iowacitybirdclub.org
SUMMARY:Chimney Swift Watch
DESCRIPTION:July 16\, Thursday\, 6:30 – 9 p.m. Chimney Swift Watch in Kalona. Bring your lawn chair and join our gathering to watch the Chimney Swifts descend into a roost site in Kalona. We expect 200-400 swifts.  \nTo carpool\, meet at 6:30 at the north end of the Menards parking lot\, 2605 Naples Avenue SW\, Iowa City. We’ll caravan to the Evan Gingerich farm to see two Chimney Swift nesting towers and learn more about swifts. Then we’ll drive two miles to Pleasantview Home\, 811 3rd St.\, Kalona\, and set up our lawn chairs at 8 p.m. and count the swifts as they fly into their roost.
URL:https://iowacitybirdclub.org/event/chimney-swift-watch/
END:VEVENT
BEGIN:VEVENT
DTSTART;VALUE=DATE:20260718
DTEND;VALUE=DATE:20260720
DTSTAMP:20260423T160617
CREATED:20260331T211132Z
LAST-MODIFIED:20260423T200208Z
UID:55954-1784347200-1784433599@iowacitybirdclub.org
SUMMARY:Iowa City Butterfly Count
DESCRIPTION:July 18th\, Saturday\, Iowa City Butterfly Count.  As part of the North American Butterfly Association’s Fourth of July Butterfly Count program\, we’ll visit Kent Park\, Hawkeye Wildlife Area\, Lake Macbride\, and other areas to tally as many butterflies as we can find.  Last year we found 40 species and 1917 individuals. \nMust register by July 15th to participate\, contact Chris Edwards at 319-430-4732 or credwards@aol.com.
URL:https://iowacitybirdclub.org/event/iowa-city-butterfly-count-5/
END:VEVENT
BEGIN:VEVENT
DTSTART;TZID=America/Chicago:20260805T093000
DTEND;TZID=America/Chicago:20260805T113000
DTSTAMP:20260423T160617
CREATED:20260331T145508Z
LAST-MODIFIED:20260423T200210Z
UID:55912-1785922200-1785929400@iowacitybirdclub.org
SUMMARY:Kent Park Butterfly Walk
DESCRIPTION:Kent Park Butterfly Walk with leader Chris Edwards. Learn how to spot and identify the park’s common butterflies.  Wear long pants. If it is rainy or overcast the walk will be cancelled – call Chris at 319-430-4732 if questionable. \nMeet in the parking lot of Conservation Education Center.
URL:https://iowacitybirdclub.org/event/kent-park-butterfly-walk-3/
LOCATION:F.W. Kent Park\, Oxford\, IA\, United States
END:VEVENT
BEGIN:VEVENT
DTSTART;TZID=America/Chicago:20260823T080000
DTEND;TZID=America/Chicago:20260823T120000
DTSTAMP:20260423T160617
CREATED:20260331T211134Z
LAST-MODIFIED:20260423T200212Z
UID:55956-1787472000-1787486400@iowacitybirdclub.org
SUMMARY:Field Trip: Hawkeye Wildlife Management Area
DESCRIPTION:Hawkeye Wildlife Management Area:  for shorebirds and other early fall migrants.Expect moderate hiking at some viewing areas. Dress for the weather and wet and muddy trails. No bathrooms on site.  Bring a spotting scope if you have one. \nMeet leader Chris Caster at the HWMA parking lot on Swan Lake Road\, across from Swan Lake (GPS coordinates 41.776108\, -91.678314). We will carpool our way around Hawkeye\, finishing around noon.Map: https://iowacitybirdclub.org/miscellanious-maps/.
URL:https://iowacitybirdclub.org/event/field-trip-hawkeye-wildlife-management-area-4/
END:VEVENT
BEGIN:VEVENT
DTSTART;TZID=America/Chicago:20260830T110000
DTEND;TZID=America/Chicago:20260830T160000
DTSTAMP:20260423T160617
CREATED:20260331T222606Z
LAST-MODIFIED:20260423T200214Z
UID:55987-1788087600-1788105600@iowacitybirdclub.org
SUMMARY:Pelican Festival
DESCRIPTION:Pelican Festival at Hawkeye Wildlife Management Area\, near the DNR headquarters at 2564 Amana Road NW\, Swisher. A family-friendly event to enjoy and learn about our local migrating American White Pelicans. Get close-up looks at pelicans and other birds through our spotting scopes. Attend outdoor presentations on pelicans\, raptors\, and more. There will be exhibits by many conservation organizations and face painting for the kids.  Portable toilet on site. \nhttps://iowacitybirdclub.org/pelican-festival/ \n 
URL:https://iowacitybirdclub.org/event/pelican-festival-2/
LOCATION:2564 Amana Rd NW\, Swisher\, IA\, United States
END:VEVENT
END:VCALENDAR