BEGIN:VCALENDAR
VERSION:2.0
PRODID:-//Iowa City Bird Club - ECPv6.15.3//NONSGML v1.0//EN
CALSCALE:GREGORIAN
METHOD:PUBLISH
X-WR-CALNAME:Iowa City Bird Club
X-ORIGINAL-URL:https://iowacitybirdclub.org
X-WR-CALDESC:Events for Iowa City Bird Club
REFRESH-INTERVAL;VALUE=DURATION:PT1H
X-Robots-Tag:noindex
X-PUBLISHED-TTL:PT1H
BEGIN:VTIMEZONE
TZID:America/Chicago
BEGIN:DAYLIGHT
TZOFFSETFROM:-0600
TZOFFSETTO:-0500
TZNAME:CDT
DTSTART:20250309T080000
END:DAYLIGHT
BEGIN:STANDARD
TZOFFSETFROM:-0500
TZOFFSETTO:-0600
TZNAME:CST
DTSTART:20251102T070000
END:STANDARD
END:VTIMEZONE
BEGIN:VEVENT
DTSTART;VALUE=DATE:20251221
DTEND;VALUE=DATE:20251223
DTSTAMP:20260423T191426
CREATED:20251214T024055Z
LAST-MODIFIED:20251221T235750Z
UID:53371-1766289600-1766375999@iowacitybirdclub.org
SUMMARY:Christmas Bird Count
DESCRIPTION:December 21\, Sunday. Iowa City Christmas Bird Count. Join us for a holiday tradition\, the world’slongest-running citizen science project! There are two ways to participate: you can join a small groupwith an experienced leader assigned to a specific territory\, which could contain local parks\, trails\, orwildlife areas; or if you live in the count circle\, you can count the birds in your own yard. To sign up\,contact Chris Edwards at credwards@aol.com or (319) 430-4732 as soon as possible. You can participate for part or all of the day. Groups do a varied mix of walking and driving\, and some groups look for owls before dawn. We will have a mid-day compilation at a newmeeting location and time: room CD in the North Liberty Library at 1:00 p.m. The library is in thesame building as the North Liberty Community Center. Bring your own lunch.
URL:https://iowacitybirdclub.org/event/christmas-bird-count-3/
END:VEVENT
BEGIN:VEVENT
DTSTART;TZID=America/Chicago:20251120T184500
DTEND;TZID=America/Chicago:20251120T203000
DTSTAMP:20260423T191426
CREATED:20250902T200204Z
LAST-MODIFIED:20251121T014550Z
UID:50915-1763664300-1763670600@iowacitybirdclub.org
SUMMARY:IC Bird Club Meeting
DESCRIPTION:November 20th\, Thursday\, 7 p.m. In-Person and Zoom meeting at the Iowa City Environmental Education Center 2401 Scott Blvd SE\, Iowa City:  Iowa City Bird Club member Mark Bowman will present “The Great Crested Flycatcher and Its Many Exotic Cousins.” \nJoin Zoom Meeting:https://us06web.zoom.us/j/88435738209?pwd=CO3slJhczgx3g0L5AUWFxMFzEXB26U.1 \nMeeting ID: 884 3573 8209Passcode: 138463
URL:https://iowacitybirdclub.org/event/ic-bird-club-meeting-15/
LOCATION:IC Environmental Education Center 2401 Scott Blvd SE\, Iowa City\, IA\, United States
END:VEVENT
BEGIN:VEVENT
DTSTART;TZID=America/Chicago:20251108T083000
DTEND;TZID=America/Chicago:20251108T120000
DTSTAMP:20260423T191426
CREATED:20250902T211428Z
LAST-MODIFIED:20251108T174423Z
UID:50926-1762590600-1762603200@iowacitybirdclub.org
SUMMARY:Field Trip: Pleasant Creek State Recreation Area
DESCRIPTION:Pleasant Creek State Recreation Area in Linn County. This lake northwest of Cedar Rapids can be good for loons\, grebes\, ducks\, gulls\, geese\, and other birds in the fall. We’ll drive to different sites around the lake\, but there will be some trail walking. Iowa City area carpool info: meet at 7:45 a.m. at Kohls in Coralville (2795 Commerce Dr.\, Coralville).For those not carpooling: meet leader Wendy VanDeWalle at Pleasant Creek at the main boat ramp parking area at 8:30 (turn left at the stop sign at the bottom of the hill and drive to the big parking area).
URL:https://iowacitybirdclub.org/event/field-trip-pleasant-creek-state-recreation-area/
END:VEVENT
BEGIN:VEVENT
DTSTART;TZID=America/Chicago:20251019T093000
DTEND;TZID=America/Chicago:20251019T110000
DTSTAMP:20260423T191426
CREATED:20250902T200202Z
LAST-MODIFIED:20251019T155853Z
UID:50914-1760866200-1760871600@iowacitybirdclub.org
SUMMARY:Birdability Kick Off Outing
DESCRIPTION:Birdability Kick Off Outing\, Oct 19\,  9:30 – 11:00. Terry Trueblood Rec Area\, Iowa City. Both stationary and slow walk offered today from patio of the lodge.  Accessible parking\, restrooms & loaner optics.  \nPotluck to follow and Spark Bird Project:  presentation and workshop 1 – 2:30 at Sacred Collective\, 213 N Linn St\, Iowa City
URL:https://iowacitybirdclub.org/event/birdability-kick-off-outing/
LOCATION:Terry Trueblood Recreation Area\, 601 McCollister Blvd\, Iowa City\, IA\, United States
END:VEVENT
BEGIN:VEVENT
DTSTART;TZID=America/Chicago:20251016T184500
DTEND;TZID=America/Chicago:20251016T203000
DTSTAMP:20260423T191426
CREATED:20250902T200201Z
LAST-MODIFIED:20251017T011651Z
UID:50912-1760640300-1760646600@iowacitybirdclub.org
SUMMARY:IC Bird Club Meeting
DESCRIPTION:October 16th\, Thursday\, 7 p.m. In-Person and Zoom meeting at the Iowa City Environmental Education Center 2401 Scott Blvd SE\, Iowa City:  IOU member Wendy VanDeWalle will present “Wendy’s Big Year.” \nJoin Zoom Meeting:https://us06web.zoom.us/j/88435738209?pwd=CO3slJhczgx3g0L5AUWFxMFzEXB26U.1 \nMeeting ID: 884 3573 8209Passcode: 138463
URL:https://iowacitybirdclub.org/event/ic-bird-club-meeting-14/
LOCATION:IC Environmental Education Center 2401 Scott Blvd SE\, Iowa City\, IA\, United States
END:VEVENT
BEGIN:VEVENT
DTSTART;TZID=America/Chicago:20251005T090000
DTEND;TZID=America/Chicago:20251005T130000
DTSTAMP:20260423T191426
CREATED:20250902T211424Z
LAST-MODIFIED:20251005T170057Z
UID:50922-1759654800-1759669200@iowacitybirdclub.org
SUMMARY:Wings and Wild Things Festival
DESCRIPTION:October 5\, Sunday\, Wings and Wild Things Festival at F.W. Kent Park Conservation Education Center\, 2048 Highway 6 NW\, Oxford.  Celebrate Iowa’s natural world with this new hands-on festival showcasing the wild and wonderful flora and fauna of our region\, as well as outdoor recreation activities in our area.  \nICBC is a partner organization for this event and we need volunteers! Please consider helping out with one of our education stations or guided bird walks. Last year’s attendance was huge! 1800 people enjoyed learning about conservation and our naturalworld. Birding and food trucks are just two of many outdoor activities to enjoy at the festival! To help\, email iowacitybirdclub@gmail.com.
URL:https://iowacitybirdclub.org/event/wings-and-wild-things-festival-2/
LOCATION:F.W. Kent Park\, Oxford\, IA\, United States
END:VEVENT
BEGIN:VEVENT
DTSTART;TZID=America/Chicago:20251004T080000
DTEND;TZID=America/Chicago:20251004T120000
DTSTAMP:20260423T191426
CREATED:20250902T211423Z
LAST-MODIFIED:20251004T164549Z
UID:50921-1759564800-1759579200@iowacitybirdclub.org
SUMMARY:Field Trip: Amana Nature Trail & Lily Pond
DESCRIPTION:Amana Nature Trail and Amana Lily Pond in Iowa County. We will aim to see migrating songbirds along the nature trail in the woods\, then visit the large pond to look for shorebirds\, ducks\, swans\,herons\, and other waterbirds.  Protection for your legs from insects and ticks is recommended for the nature trail walk—the trail is unpaved and may be damp.  The walk at the lily pond will be on a flat surface.   Restrooms are not available at either site\, but we can stop at the Casey’s in Amana.   \nMeet leader Mark Madsen at the Lowe’s parking lot(2701 2nd St\, Coralville). We will carpool to the Amana Nature trail and then the Lily Pond.
URL:https://iowacitybirdclub.org/event/field-trip-amana-nature-trail-lily-pond/
END:VEVENT
BEGIN:VEVENT
DTSTART;TZID=America/Chicago:20250921T090000
DTEND;TZID=America/Chicago:20250921T130000
DTSTAMP:20260423T191426
CREATED:20250902T200159Z
LAST-MODIFIED:20250921T175842Z
UID:50911-1758445200-1758459600@iowacitybirdclub.org
SUMMARY:Hawk Watch at Stainbrook Preserve
DESCRIPTION:September 21\, Sunday\, 9 a.m. – 1 p.m. Hawk Watch at Stainbrook Preserve\, located along Mehaffey Bridge Road just north of Sugar Bottom Recreation Area     Join us on the hill to watch for migrating raptors including Broad-winged Hawk\, Sharp-shinned Hawk\, Cooper’s Hawk\, and Red-tailed Hawk. Bring a lawn chair\, and a spotting scope if you have one. \nDirections: park on the north shoulder pull-off just east of Mehaffey Bridge. Look for the Stainbrook Preserve sign in ditch opposite parking and marked with balloons.  Follow the short path up the hill. For a map\, visit here and scroll down to Hawk Watch: https://iowacitybirdclub.org/miscellanious-maps/.
URL:https://iowacitybirdclub.org/event/hawk-watch-at-stainbrook-preserve-4/
LOCATION:2192 Mehaffey Bridge Rd NE\, Solon\, IA\, United States
END:VEVENT
BEGIN:VEVENT
DTSTART;TZID=America/Chicago:20250918T184500
DTEND;TZID=America/Chicago:20250918T203000
DTSTAMP:20260423T191426
CREATED:20250902T200152Z
LAST-MODIFIED:20250919T012904Z
UID:50909-1758221100-1758227400@iowacitybirdclub.org
SUMMARY:IC Bird Club Meeting
DESCRIPTION:September 18\, Thursday\, 7 p.m. In-Person and Zoom meeting at the Iowa City Environmental Education Center 2401 Scott Blvd SE\, Iowa City:  Terry VanDeWalle\, author and environmental consultant\, will present “The Natural History of Turtles of Iowa.” \nJoin Zoom Meeting:https://us06web.zoom.us/j/88435738209?pwd=CO3slJhczgx3g0L5AUWFxMFzEXB26U.1 \nMeeting ID: 884 3573 8209Passcode: 138463
URL:https://iowacitybirdclub.org/event/ic-bird-club-meeting-13/
LOCATION:IC Environmental Education Center 2401 Scott Blvd SE\, Iowa City\, IA\, United States
END:VEVENT
BEGIN:VEVENT
DTSTART;TZID=America/Chicago:20250918T180000
DTEND;TZID=America/Chicago:20250918T190000
DTSTAMP:20260423T191426
CREATED:20250902T200153Z
LAST-MODIFIED:20250918T232850Z
UID:50910-1758218400-1758222000@iowacitybirdclub.org
SUMMARY:Fall Potluck
DESCRIPTION:September 18\, Thursday\, 6 p.m. Fall Potluck.  Before the first meeting\, enjoy a potluck with old and new birding friends. Bring a dish to share and table service.  Lemonade and ice tea will be provided. Iowa City Environmental  Education Center\, 2401 Scott Boulevard\, Iowa City.
URL:https://iowacitybirdclub.org/event/fall-potluck/
LOCATION:IC Environmental Education Center 2401 Scott Blvd SE\, Iowa City\, IA\, United States
END:VEVENT
BEGIN:VEVENT
DTSTART;TZID=America/Chicago:20250913T093000
DTEND;TZID=America/Chicago:20250913T110000
DTSTAMP:20260423T191426
CREATED:20250902T231339Z
LAST-MODIFIED:20250913T154927Z
UID:50933-1757755800-1757761200@iowacitybirdclub.org
SUMMARY:Birdability Outing
DESCRIPTION:Birdability Outing Sept 13\,  9:30 – 11:00 or drop in anytime. Terry Trueblood Rec Area\, Iowa City. Stationary bird-watching with other birders in the outdoor patio of the Lodge. Accessible parking & restrooms & loaner optics.
URL:https://iowacitybirdclub.org/event/birdability-outing/
LOCATION:Terry Trueblood Recreation Area\, 601 McCollister Blvd\, Iowa City\, IA\, United States
END:VEVENT
BEGIN:VEVENT
DTSTART;TZID=America/Chicago:20250906T090000
DTEND;TZID=America/Chicago:20250906T110000
DTSTAMP:20260423T191426
CREATED:20250902T200150Z
LAST-MODIFIED:20250906T154335Z
UID:50908-1757149200-1757156400@iowacitybirdclub.org
SUMMARY:Coralville Lake's Riverwalk Trail
DESCRIPTION:Coralville Lake’s Riverwalk Trail. We’ll use the flat\, paved\, short (0.4 mile) trail in the woods along the Iowa River\, downstream from the dam. We’ll aim for a slower pace compared to other bird walks. Public restrooms are available nearby\, close to the dam.  \nTarget birds include eagles\, pelicans\, other waterbirds\, migrating songbirds\, and resident birds such as woodpeckers. \nMeet leader Linda Rudolph at the parking lot near the Riverwalk Trail’s start.
URL:https://iowacitybirdclub.org/event/coralville-lakes-riverwalk-trail/
END:VEVENT
BEGIN:VEVENT
DTSTART;TZID=America/Chicago:20250824T110000
DTEND;TZID=America/Chicago:20250824T160000
DTSTAMP:20260423T191426
CREATED:20250414T001908Z
LAST-MODIFIED:20250824T204533Z
UID:47463-1756033200-1756051200@iowacitybirdclub.org
SUMMARY:Pelican Festival
DESCRIPTION:Pelican Festival at Hawkeye Wildlife Management Area\, near the DNR headquarters at 2564 Amana Road NW\, Swisher. A family-friendly event to enjoy and learn about our local migrating American White Pelicans. Get close-up looks at pelicans and other birds through our spotting scopes. Attend outdoor presentations on pelicans\, raptors\, and more. There will be exhibits by many conservation organizations and face painting for the kids.   \nhttps://iowacitybirdclub.org/pelican-festival/ \n 
URL:https://iowacitybirdclub.org/event/pelican-festival/
LOCATION:2564 Amana Rd NW\, Swisher\, IA\, United States
END:VEVENT
BEGIN:VEVENT
DTSTART;TZID=America/Chicago:20250818T080000
DTEND;TZID=America/Chicago:20250818T100000
DTSTAMP:20260423T191426
CREATED:20250730T153350Z
LAST-MODIFIED:20250818T140223Z
UID:50110-1755504000-1755511200@iowacitybirdclub.org
SUMMARY:Kent Park Bird Walk
DESCRIPTION:Bird Hike at F.W. Kent Park: Meet leader Nick Timmer to look for migrating and breeding birds. Hike on mulched and mowed grass trails with some hilly terrain for 1-2 miles. No registration required and loaner binoculars available. Bring water and bug spray.  \nMeet in the parking lot of Conservation Education Center.
URL:https://iowacitybirdclub.org/event/kent-park-bird-walk-7/
LOCATION:F.W. Kent Park\, Oxford\, IA\, United States
END:VEVENT
BEGIN:VEVENT
DTSTART;TZID=America/Chicago:20250817T080000
DTEND;TZID=America/Chicago:20250817T130000
DTSTAMP:20260423T191426
CREATED:20250809T181813Z
LAST-MODIFIED:20250817T170026Z
UID:50357-1755417600-1755435600@iowacitybirdclub.org
SUMMARY:Field Trip: Hawkeye Wildlife Management Area
DESCRIPTION:Hawkeye Wildlife Management Area:  for shorebirds and other early fall migrants.Expect moderate hiking at some viewing areas. Dress for the weather and wet and muddy trails. Bring a spotting scope if you have one. \nMeet leader Chris Caster at the HWMA parking lot on Swan Lake Road\, across from Swan Lake (GPS coordinates 41.776108\, -91.678314). We will carpool our way around Hawkeye\, finishing around noon.
URL:https://iowacitybirdclub.org/event/field-trip-hawkeye-wildlife-management-area-3/
END:VEVENT
BEGIN:VEVENT
DTSTART;TZID=America/Chicago:20250810T080000
DTEND;TZID=America/Chicago:20250810T130000
DTSTAMP:20260423T191426
CREATED:20250414T001907Z
LAST-MODIFIED:20250810T175931Z
UID:47462-1754812800-1754830800@iowacitybirdclub.org
SUMMARY:Field Trip: POSTPONED Hawkeye Wildlife  rescheduled to 8/17
DESCRIPTION:NEW DATE SUNDAY\, AUGUST 17th \nField Trip Hawkeye Wildlife Management Area to now be held on SUNDAY\, AUGUST 17th 
URL:https://iowacitybirdclub.org/event/field-trip-hawkeye-wildlife-management-area-2/
END:VEVENT
BEGIN:VEVENT
DTSTART;TZID=America/Chicago:20250804T080000
DTEND;TZID=America/Chicago:20250804T100000
DTSTAMP:20260423T191426
CREATED:20250730T153347Z
LAST-MODIFIED:20250804T144419Z
UID:50109-1754294400-1754301600@iowacitybirdclub.org
SUMMARY:Kent Park Bird Walk
DESCRIPTION:Bird Hike at F.W. Kent Park: Meet leader Nick Timmer to look for migrating and breeding birds. Hike on mulched and mowed grass trails with some hilly terrain for 1-2 miles. No registration required and loaner binoculars available. Bring water and bug spray.  \nMeet in the parking lot of Conservation Education Center.
URL:https://iowacitybirdclub.org/event/kent-park-bird-walk-6/
LOCATION:F.W. Kent Park\, Oxford\, IA\, United States
END:VEVENT
BEGIN:VEVENT
DTSTART;TZID=America/Chicago:20250721T080000
DTEND;TZID=America/Chicago:20250721T100000
DTSTAMP:20260423T191426
CREATED:20250618T155905Z
LAST-MODIFIED:20250721T144556Z
UID:49013-1753084800-1753092000@iowacitybirdclub.org
SUMMARY:Kent Park Bird Walk
DESCRIPTION:Bird Hike at F.W. Kent Park: Meet leader Nick Timmer to look for migrating and breeding birds. Hike on mulched and mowed grass trails with some hilly terrain for 1-2 miles. No registration required and loaner binoculars available. Bring water and bug spray.  \nMeet in the parking lot of Conservation Education Center.
URL:https://iowacitybirdclub.org/event/kent-park-bird-walk-5/
LOCATION:F.W. Kent Park\, Oxford\, IA\, United States
END:VEVENT
BEGIN:VEVENT
DTSTART;VALUE=DATE:20250719
DTEND;VALUE=DATE:20250721
DTSTAMP:20260423T191426
CREATED:20250414T001906Z
LAST-MODIFIED:20250719T234408Z
UID:47461-1752897600-1752983999@iowacitybirdclub.org
SUMMARY:Iowa City Butterfly Count
DESCRIPTION:July 19th\, Saturday\, Iowa City Butterfly Count.  As part of the North American Butterfly Association’s Fourth of July Butterfly Count program\, we’ll visit Kent Park\, Hawkeye Wildlife Area\, Lake Macbride\, and other areas to tally as many butterflies as we can find.   \nMust register by July 16th to participate\, contact Chris Edwards at  credwards@aol.com. 
URL:https://iowacitybirdclub.org/event/iowa-city-butterfly-count-4/
END:VEVENT
BEGIN:VEVENT
DTSTART;VALUE=DATE:20250716
DTEND;VALUE=DATE:20250718
DTSTAMP:20260423T191426
CREATED:20250618T155902Z
LAST-MODIFIED:20250716T235957Z
UID:49011-1752638400-1752724799@iowacitybirdclub.org
SUMMARY:Deadline to Register for Butterfly Count
DESCRIPTION:July 16th – Deadline to Register for Butterfly Count.   Contact Chris Edwards at credwards@aol.com. Iowa City Butterfly Count will be held on July 19th.  As part of the North American Butterfly Association’s Fourth of July Butterfly Count program\, we’ll visit Kent Park\, Hawkeye Wildlife Area\, Lake Macbride\, and other areas to tally as many butterflies as we can find.
URL:https://iowacitybirdclub.org/event/deadline-to-register-for-butterfly-count/
END:VEVENT
BEGIN:VEVENT
DTSTART;TZID=America/Chicago:20250630T080000
DTEND;TZID=America/Chicago:20250630T100000
DTSTAMP:20260423T191426
CREATED:20250618T155900Z
LAST-MODIFIED:20250630T144914Z
UID:49010-1751270400-1751277600@iowacitybirdclub.org
SUMMARY:Kent Park Bird Walk
DESCRIPTION:Bird Hike at F.W. Kent Park: Meet leader Nick Timmer to look for migrating and breeding birds. Hike on mulched and mowed grass trails with some hilly terrain for 1-2 miles. No registration required and loaner binoculars available. Bring water and bug spray.  \nMeet in the parking lot of Conservation Education Center.
URL:https://iowacitybirdclub.org/event/kent-park-bird-walk-4/
LOCATION:F.W. Kent Park\, Oxford\, IA\, United States
END:VEVENT
BEGIN:VEVENT
DTSTART;TZID=America/Chicago:20250616T080000
DTEND;TZID=America/Chicago:20250616T100000
DTSTAMP:20260423T191426
CREATED:20250517T234845Z
LAST-MODIFIED:20250616T141351Z
UID:48269-1750060800-1750068000@iowacitybirdclub.org
SUMMARY:Kent Park Bird Walk
DESCRIPTION:Bird Hike at F.W. Kent Park: Meet leader Nick Timmer to look for migrating and breeding birds. Hike on mulched and mowed grass trails with some hilly terrain for 1-2 miles. No registration required and loaner binoculars available. Bring water and bug spray.  \nMeet in the parking lot of Conservation Education Center.
URL:https://iowacitybirdclub.org/event/kent-park-bird-walk-3/
LOCATION:F.W. Kent Park\, Oxford\, IA\, United States
END:VEVENT
BEGIN:VEVENT
DTSTART;TZID=America/Chicago:20250607T070000
DTEND;TZID=America/Chicago:20250607T120000
DTSTAMP:20260423T191426
CREATED:20250414T001905Z
LAST-MODIFIED:20250607T165859Z
UID:47460-1749279600-1749297600@iowacitybirdclub.org
SUMMARY:Field Trip: Indiangrass Hills
DESCRIPTION:Indiangrass Hills in Iowa County: for breeding grassland birds. Leader Mark Brownwill guide us through this 640-acre restored prairie. Expect to see Henslow’s Sparrow\, Grasshopper Sparrow\, Sedge Wren\, Orchard Oriole\, Bobolink\, and more. There will be extensive walking on mowed grass paths which may be wet. Don’t forget bug spray and water!  Return time is around noon.  \nOptions for meet-up: 7:00  carpool from Kohl’s parking lot\, 2795 Commerce Dr\, Coralville;7:30 meetup with Mark at Kum &amp; Go\, 2177 M Ave.\, Williamsburg; or 7:45 at Indiangrass Hills\, 4549 I Ave.
URL:https://iowacitybirdclub.org/event/field-trip-indiangrass-hills-2/
END:VEVENT
BEGIN:VEVENT
DTSTART;TZID=America/Chicago:20250602T080000
DTEND;TZID=America/Chicago:20250602T100000
DTSTAMP:20260423T191426
CREATED:20250517T234842Z
LAST-MODIFIED:20250602T144436Z
UID:48268-1748851200-1748858400@iowacitybirdclub.org
SUMMARY:Kent Park Bird Walk
DESCRIPTION:Bird Hike at F.W. Kent Park: Meet leader Nick Timmer to look for migrating and breeding birds. Hike on mulched and mowed grass trails with some hilly terrain for 1-2 miles. No registration required and loaner binoculars available. Bring water and bug spray.  \nMeet in the parking lot of Conservation Education Center.
URL:https://iowacitybirdclub.org/event/kent-park-bird-walk-2/
LOCATION:F.W. Kent Park\, Oxford\, IA\, United States
END:VEVENT
BEGIN:VEVENT
DTSTART;TZID=America/Chicago:20250526T080000
DTEND;TZID=America/Chicago:20250526T100000
DTSTAMP:20260423T191426
CREATED:20250517T234840Z
LAST-MODIFIED:20250526T144647Z
UID:48267-1748246400-1748253600@iowacitybirdclub.org
SUMMARY:Kent Park Bird Walk
DESCRIPTION:Bird Hike at F.W. Kent Park: Meet leader Nick Timmer to look for migrating and breeding birds. Hike on mulched and mowed grass trails with some hilly terrain for 1-2 miles. No registration required and loaner binoculars available. Bring water and bug spray.  \nMeet in the parking lot of Conservation Education Center.
URL:https://iowacitybirdclub.org/event/kent-park-bird-walk/
LOCATION:F.W. Kent Park\, Oxford\, IA\, United States
END:VEVENT
BEGIN:VEVENT
DTSTART;TZID=America/Chicago:20250523T063000
DTEND;TZID=America/Chicago:20250523T080000
DTSTAMP:20260423T191426
CREATED:20250414T001904Z
LAST-MODIFIED:20250523T121719Z
UID:47459-1747981800-1747987200@iowacitybirdclub.org
SUMMARY:Hickory Hill Park Warbler Walks
DESCRIPTION:April 28 – May 23\, Weekdays\, Mon-Fri\, 6:30-8:00 a.m.\,  Hickory Hill Park Warbler Walks.  Start your weekdays watching warblers and other spring migrants in the park with our rotating crew of expert leaders.  \nMeet at the north parking lot at 800 Conklin Lane\, off N. Dodge St.
URL:https://iowacitybirdclub.org/event/hickory-hill-park-warbler-walks-86/
LOCATION:Hickory Hill Park\, 1439 E Bloomington St\, Iowa City\, IA\, United States
END:VEVENT
BEGIN:VEVENT
DTSTART;TZID=America/Chicago:20250522T063000
DTEND;TZID=America/Chicago:20250522T080000
DTSTAMP:20260423T191426
CREATED:20250414T001902Z
LAST-MODIFIED:20250522T120242Z
UID:47458-1747895400-1747900800@iowacitybirdclub.org
SUMMARY:Hickory Hill Park Warbler Walks
DESCRIPTION:April 28 – May 23\, Weekdays\, Mon-Fri\, 6:30-8:00 a.m.\,  Hickory Hill Park Warbler Walks.  Start your weekdays watching warblers and other spring migrants in the park with our rotating crew of expert leaders.  \nMeet at the north parking lot at 800 Conklin Lane\, off N. Dodge St.
URL:https://iowacitybirdclub.org/event/hickory-hill-park-warbler-walks-85/
LOCATION:Hickory Hill Park\, 1439 E Bloomington St\, Iowa City\, IA\, United States
END:VEVENT
BEGIN:VEVENT
DTSTART;TZID=America/Chicago:20250521T063000
DTEND;TZID=America/Chicago:20250521T080000
DTSTAMP:20260423T191426
CREATED:20250414T001901Z
LAST-MODIFIED:20250521T123210Z
UID:47457-1747809000-1747814400@iowacitybirdclub.org
SUMMARY:Hickory Hill Park Warbler Walks
DESCRIPTION:April 28 – May 23\, Weekdays\, Mon-Fri\, 6:30-8:00 a.m.\,  Hickory Hill Park Warbler Walks.  Start your weekdays watching warblers and other spring migrants in the park with our rotating crew of expert leaders.  \nMeet at the north parking lot at 800 Conklin Lane\, off N. Dodge St.
URL:https://iowacitybirdclub.org/event/hickory-hill-park-warbler-walks-84/
LOCATION:Hickory Hill Park\, 1439 E Bloomington St\, Iowa City\, IA\, United States
END:VEVENT
BEGIN:VEVENT
DTSTART;TZID=America/Chicago:20250520T063000
DTEND;TZID=America/Chicago:20250520T080000
DTSTAMP:20260423T191426
CREATED:20250414T001900Z
LAST-MODIFIED:20250520T123005Z
UID:47456-1747722600-1747728000@iowacitybirdclub.org
SUMMARY:Hickory Hill Park Warbler Walks
DESCRIPTION:April 28 – May 23\, Weekdays\, Mon-Fri\, 6:30-8:00 a.m.\,  Hickory Hill Park Warbler Walks.  Start your weekdays watching warblers and other spring migrants in the park with our rotating crew of expert leaders.  \nMeet at the north parking lot at 800 Conklin Lane\, off N. Dodge St.
URL:https://iowacitybirdclub.org/event/hickory-hill-park-warbler-walks-83/
LOCATION:Hickory Hill Park\, 1439 E Bloomington St\, Iowa City\, IA\, United States
END:VEVENT
BEGIN:VEVENT
DTSTART;TZID=America/Chicago:20250519T063000
DTEND;TZID=America/Chicago:20250519T080000
DTSTAMP:20260423T191426
CREATED:20250414T001859Z
LAST-MODIFIED:20250519T123153Z
UID:47455-1747636200-1747641600@iowacitybirdclub.org
SUMMARY:Hickory Hill Park Warbler Walks
DESCRIPTION:April 28 – May 23\, Weekdays\, Mon-Fri\, 6:30-8:00 a.m.\,  Hickory Hill Park Warbler Walks.  Start your weekdays watching warblers and other spring migrants in the park with our rotating crew of expert leaders.  \nMeet at the north parking lot at 800 Conklin Lane\, off N. Dodge St.
URL:https://iowacitybirdclub.org/event/hickory-hill-park-warbler-walks-82/
LOCATION:Hickory Hill Park\, 1439 E Bloomington St\, Iowa City\, IA\, United States
END:VEVENT
END:VCALENDAR