BEGIN:VCALENDAR
VERSION:2.0
PRODID:-//Iowa City Bird Club - ECPv6.15.3//NONSGML v1.0//EN
CALSCALE:GREGORIAN
METHOD:PUBLISH
X-WR-CALNAME:Iowa City Bird Club
X-ORIGINAL-URL:https://iowacitybirdclub.org
X-WR-CALDESC:Events for Iowa City Bird Club
REFRESH-INTERVAL;VALUE=DURATION:PT1H
X-Robots-Tag:noindex
X-PUBLISHED-TTL:PT1H
BEGIN:VTIMEZONE
TZID:America/Chicago
BEGIN:DAYLIGHT
TZOFFSETFROM:-0600
TZOFFSETTO:-0500
TZNAME:CDT
DTSTART:20210314T080000
END:DAYLIGHT
BEGIN:STANDARD
TZOFFSETFROM:-0500
TZOFFSETTO:-0600
TZNAME:CST
DTSTART:20211107T070000
END:STANDARD
BEGIN:DAYLIGHT
TZOFFSETFROM:-0600
TZOFFSETTO:-0500
TZNAME:CDT
DTSTART:20220313T080000
END:DAYLIGHT
BEGIN:STANDARD
TZOFFSETFROM:-0500
TZOFFSETTO:-0600
TZNAME:CST
DTSTART:20221106T070000
END:STANDARD
END:VTIMEZONE
BEGIN:VEVENT
DTSTART;TZID=America/Chicago:20220517T063000
DTEND;TZID=America/Chicago:20220517T080000
DTSTAMP:20260425T090655
CREATED:20220419T051553Z
LAST-MODIFIED:20220517T004827Z
UID:19392-1652769000-1652774400@iowacitybirdclub.org
SUMMARY:Hickory Hill Park Warbler Walks
DESCRIPTION:April 27 – May 27\,Weekdays\, 6:30-8:00 a.m.  Hickory Hill Park Warbler Walks.  After a two-year hiatus\, WarblerWalks are back!  Start your weekdays watching warblers with rotatingleaders Mark Madsen\, Chris Edwards\, Jason Paulios\, Dan Rose\, Elliot Stalter\,and Mark Brown.  Meet at the parking lot at the end of Conklin Lane\,off N. Dodge St.
URL:https://iowacitybirdclub.org/event/hickory-hill-park-warbler-walks-15/
LOCATION:Hickory Hill Park\, 1439 E Bloomington St\, Iowa City\, IA 52240\, USA
END:VEVENT
BEGIN:VEVENT
DTSTART;TZID=America/Chicago:20220516T063000
DTEND;TZID=America/Chicago:20220516T080000
DTSTAMP:20260425T090655
CREATED:20220419T051541Z
LAST-MODIFIED:20220516T003538Z
UID:19391-1652682600-1652688000@iowacitybirdclub.org
SUMMARY:Hickory Hill Park Warbler Walks
DESCRIPTION:April 27 – May 27\,Weekdays\, 6:30-8:00 a.m.  Hickory Hill Park Warbler Walks.  After a two-year hiatus\, WarblerWalks are back!  Start your weekdays watching warblers with rotatingleaders Mark Madsen\, Chris Edwards\, Jason Paulios\, Dan Rose\, Elliot Stalter\,and Mark Brown.  Meet at the parking lot at the end of Conklin Lane\,off N. Dodge St.
URL:https://iowacitybirdclub.org/event/hickory-hill-park-warbler-walks-14/
LOCATION:Hickory Hill Park\, 1439 E Bloomington St\, Iowa City\, IA 52240\, USA
END:VEVENT
BEGIN:VEVENT
DTSTART;TZID=America/Chicago:20220513T063000
DTEND;TZID=America/Chicago:20220513T080000
DTSTAMP:20260425T090655
CREATED:20220419T051541Z
LAST-MODIFIED:20220513T165517Z
UID:19390-1652423400-1652428800@iowacitybirdclub.org
SUMMARY:Hickory Hill Park Warbler Walks
DESCRIPTION:April 27 – May 27\,Weekdays\, 6:30-8:00 a.m.  Hickory Hill Park Warbler Walks.  After a two-year hiatus\, WarblerWalks are back!  Start your weekdays watching warblers with rotatingleaders Mark Madsen\, Chris Edwards\, Jason Paulios\, Dan Rose\, Elliot Stalter\,and Mark Brown.  Meet at the parking lot at the end of Conklin Lane\,off N. Dodge St.
URL:https://iowacitybirdclub.org/event/hickory-hill-park-warbler-walks-13/
LOCATION:Hickory Hill Park\, 1439 E Bloomington St\, Iowa City\, IA 52240\, USA
END:VEVENT
BEGIN:VEVENT
DTSTART;TZID=America/Chicago:20220512T063000
DTEND;TZID=America/Chicago:20220512T080000
DTSTAMP:20260425T090655
CREATED:20220419T051541Z
LAST-MODIFIED:20220512T091433Z
UID:19389-1652337000-1652342400@iowacitybirdclub.org
SUMMARY:Hickory Hill Park Warbler Walks
DESCRIPTION:April 27 – May 27\,Weekdays\, 6:30-8:00 a.m.  Hickory Hill Park Warbler Walks.  After a two-year hiatus\, WarblerWalks are back!  Start your weekdays watching warblers with rotatingleaders Mark Madsen\, Chris Edwards\, Jason Paulios\, Dan Rose\, Elliot Stalter\,and Mark Brown.  Meet at the parking lot at the end of Conklin Lane\,off N. Dodge St.
URL:https://iowacitybirdclub.org/event/hickory-hill-park-warbler-walks-12/
LOCATION:Hickory Hill Park\, 1439 E Bloomington St\, Iowa City\, IA 52240\, USA
END:VEVENT
BEGIN:VEVENT
DTSTART;TZID=America/Chicago:20220511T063000
DTEND;TZID=America/Chicago:20220511T080000
DTSTAMP:20260425T090655
CREATED:20220419T051541Z
LAST-MODIFIED:20220511T090807Z
UID:19388-1652250600-1652256000@iowacitybirdclub.org
SUMMARY:Hickory Hill Park Warbler Walks
DESCRIPTION:April 27 – May 27\,Weekdays\, 6:30-8:00 a.m.  Hickory Hill Park Warbler Walks.  After a two-year hiatus\, WarblerWalks are back!  Start your weekdays watching warblers with rotatingleaders Mark Madsen\, Chris Edwards\, Jason Paulios\, Dan Rose\, Elliot Stalter\,and Mark Brown.  Meet at the parking lot at the end of Conklin Lane\,off N. Dodge St.
URL:https://iowacitybirdclub.org/event/hickory-hill-park-warbler-walks-11/
LOCATION:Hickory Hill Park\, 1439 E Bloomington St\, Iowa City\, IA 52240\, USA
END:VEVENT
BEGIN:VEVENT
DTSTART;TZID=America/Chicago:20220510T063000
DTEND;TZID=America/Chicago:20220510T080000
DTSTAMP:20260425T090655
CREATED:20220419T051541Z
LAST-MODIFIED:20220510T090142Z
UID:19387-1652164200-1652169600@iowacitybirdclub.org
SUMMARY:Hickory Hill Park Warbler Walks
DESCRIPTION:April 27 – May 27\,Weekdays\, 6:30-8:00 a.m.  Hickory Hill Park Warbler Walks.  After a two-year hiatus\, WarblerWalks are back!  Start your weekdays watching warblers with rotatingleaders Mark Madsen\, Chris Edwards\, Jason Paulios\, Dan Rose\, Elliot Stalter\,and Mark Brown.  Meet at the parking lot at the end of Conklin Lane\,off N. Dodge St.
URL:https://iowacitybirdclub.org/event/hickory-hill-park-warbler-walks-10/
LOCATION:Hickory Hill Park\, 1439 E Bloomington St\, Iowa City\, IA 52240\, USA
END:VEVENT
BEGIN:VEVENT
DTSTART;TZID=America/Chicago:20220509T063000
DTEND;TZID=America/Chicago:20220509T080000
DTSTAMP:20260425T090655
CREATED:20220419T051541Z
LAST-MODIFIED:20220509T085548Z
UID:19386-1652077800-1652083200@iowacitybirdclub.org
SUMMARY:Hickory Hill Park Warbler Walks
DESCRIPTION:April 27 – May 27\,Weekdays\, 6:30-8:00 a.m.  Hickory Hill Park Warbler Walks.  After a two-year hiatus\, WarblerWalks are back!  Start your weekdays watching warblers with rotatingleaders Mark Madsen\, Chris Edwards\, Jason Paulios\, Dan Rose\, Elliot Stalter\,and Mark Brown.  Meet at the parking lot at the end of Conklin Lane\,off N. Dodge St.
URL:https://iowacitybirdclub.org/event/hickory-hill-park-warbler-walks-9/
LOCATION:Hickory Hill Park\, 1439 E Bloomington St\, Iowa City\, IA 52240\, USA
END:VEVENT
BEGIN:VEVENT
DTSTART;VALUE=DATE:20220507
DTEND;VALUE=DATE:20220509
DTSTAMP:20260425T090655
CREATED:20220417T070130Z
LAST-MODIFIED:20220507T081342Z
UID:19332-1651896000-1651982399@iowacitybirdclub.org
SUMMARY:Spring Bird Count 2022
DESCRIPTION:Spring Migration Count  Johnson County Spring Migration Count. This year we’re back to normal protocols after two years of pandemic modifications – we’ll bird in small groups to count as many birds as possible in Johnson County. Species and individual birds are tallied – last year 166 species were recorded.    Solo birding is also an option.    \nGather for an optional noon sack lunch at North Liberty Community Center. Afternoon birding is encouraged\, but optional.   \nTo participate\, email coordinator Chris Caster in advance of count day at cjcaster@q.com.  Youwill be assigned to a group with a leader who will send details for a meeting time and location.  For those doing solo birding\, an area will be assigned.  For more information visit https://iowacitybirdclub.org/spring-count/.
URL:https://iowacitybirdclub.org/event/spring-bird-count-2022/
LOCATION:IA
END:VEVENT
BEGIN:VEVENT
DTSTART;TZID=America/Chicago:20220506T063000
DTEND;TZID=America/Chicago:20220506T080000
DTSTAMP:20260425T090655
CREATED:20220419T051541Z
LAST-MODIFIED:20220506T080741Z
UID:19385-1651818600-1651824000@iowacitybirdclub.org
SUMMARY:Hickory Hill Park Warbler Walks
DESCRIPTION:April 27 – May 27\,Weekdays\, 6:30-8:00 a.m.  Hickory Hill Park Warbler Walks.  After a two-year hiatus\, WarblerWalks are back!  Start your weekdays watching warblers with rotatingleaders Mark Madsen\, Chris Edwards\, Jason Paulios\, Dan Rose\, Elliot Stalter\,and Mark Brown.  Meet at the parking lot at the end of Conklin Lane\,off N. Dodge St.
URL:https://iowacitybirdclub.org/event/hickory-hill-park-warbler-walks-8/
LOCATION:Hickory Hill Park\, 1439 E Bloomington St\, Iowa City\, IA 52240\, USA
END:VEVENT
BEGIN:VEVENT
DTSTART;TZID=America/Chicago:20220505T063000
DTEND;TZID=America/Chicago:20220505T080000
DTSTAMP:20260425T090655
CREATED:20220419T051541Z
LAST-MODIFIED:20220505T080432Z
UID:19384-1651732200-1651737600@iowacitybirdclub.org
SUMMARY:Hickory Hill Park Warbler Walks
DESCRIPTION:April 27 – May 27\,Weekdays\, 6:30-8:00 a.m.  Hickory Hill Park Warbler Walks.  After a two-year hiatus\, WarblerWalks are back!  Start your weekdays watching warblers with rotatingleaders Mark Madsen\, Chris Edwards\, Jason Paulios\, Dan Rose\, Elliot Stalter\,and Mark Brown.  Meet at the parking lot at the end of Conklin Lane\,off N. Dodge St.
URL:https://iowacitybirdclub.org/event/hickory-hill-park-warbler-walks-7/
LOCATION:Hickory Hill Park\, 1439 E Bloomington St\, Iowa City\, IA 52240\, USA
END:VEVENT
BEGIN:VEVENT
DTSTART;TZID=America/Chicago:20220504T063000
DTEND;TZID=America/Chicago:20220504T080000
DTSTAMP:20260425T090655
CREATED:20220419T051529Z
LAST-MODIFIED:20220504T080418Z
UID:19383-1651645800-1651651200@iowacitybirdclub.org
SUMMARY:Hickory Hill Park Warbler Walks
DESCRIPTION:April 27 – May 27\,Weekdays\, 6:30-8:00 a.m.  Hickory Hill Park Warbler Walks.  After a two-year hiatus\, WarblerWalks are back!  Start your weekdays watching warblers with rotatingleaders Mark Madsen\, Chris Edwards\, Jason Paulios\, Dan Rose\, Elliot Stalter\,and Mark Brown.  Meet at the parking lot at the end of Conklin Lane\,off N. Dodge St.
URL:https://iowacitybirdclub.org/event/hickory-hill-park-warbler-walks-6/
LOCATION:Hickory Hill Park\, 1439 E Bloomington St\, Iowa City\, IA 52240\, USA
END:VEVENT
BEGIN:VEVENT
DTSTART;TZID=America/Chicago:20220503T063000
DTEND;TZID=America/Chicago:20220503T080000
DTSTAMP:20260425T090655
CREATED:20220419T051529Z
LAST-MODIFIED:20220503T074922Z
UID:19382-1651559400-1651564800@iowacitybirdclub.org
SUMMARY:Hickory Hill Park Warbler Walks
DESCRIPTION:April 27 – May 27\,Weekdays\, 6:30-8:00 a.m.  Hickory Hill Park Warbler Walks.  After a two-year hiatus\, WarblerWalks are back!  Start your weekdays watching warblers with rotatingleaders Mark Madsen\, Chris Edwards\, Jason Paulios\, Dan Rose\, Elliot Stalter\,and Mark Brown.  Meet at the parking lot at the end of Conklin Lane\,off N. Dodge St.
URL:https://iowacitybirdclub.org/event/hickory-hill-park-warbler-walks-5/
LOCATION:Hickory Hill Park\, 1439 E Bloomington St\, Iowa City\, IA 52240\, USA
END:VEVENT
BEGIN:VEVENT
DTSTART;TZID=America/Chicago:20220502T063000
DTEND;TZID=America/Chicago:20220502T080000
DTSTAMP:20260425T090655
CREATED:20220419T051529Z
LAST-MODIFIED:20220502T073251Z
UID:19381-1651473000-1651478400@iowacitybirdclub.org
SUMMARY:Hickory Hill Park Warbler Walks
DESCRIPTION:April 27 – May 27\,Weekdays\, 6:30-8:00 a.m.  Hickory Hill Park Warbler Walks.  After a two-year hiatus\, WarblerWalks are back!  Start your weekdays watching warblers with rotatingleaders Mark Madsen\, Chris Edwards\, Jason Paulios\, Dan Rose\, Elliot Stalter\,and Mark Brown.  Meet at the parking lot at the end of Conklin Lane\,off N. Dodge St.
URL:https://iowacitybirdclub.org/event/hickory-hill-park-warbler-walks-4/
LOCATION:Hickory Hill Park\, 1439 E Bloomington St\, Iowa City\, IA 52240\, USA
END:VEVENT
BEGIN:VEVENT
DTSTART;TZID=America/Chicago:20220429T063000
DTEND;TZID=America/Chicago:20220429T080000
DTSTAMP:20260425T090655
CREATED:20220419T051529Z
LAST-MODIFIED:20220429T065425Z
UID:19380-1651213800-1651219200@iowacitybirdclub.org
SUMMARY:Hickory Hill Park Warbler Walks
DESCRIPTION:April 27 – May 27\,Weekdays\, 6:30-8:00 a.m.  Hickory Hill Park Warbler Walks.  After a two-year hiatus\, WarblerWalks are back!  Start your weekdays watching warblers with rotatingleaders Mark Madsen\, Chris Edwards\, Jason Paulios\, Dan Rose\, Elliot Stalter\,and Mark Brown.  Meet at the parking lot at the end of Conklin Lane\,off N. Dodge St.
URL:https://iowacitybirdclub.org/event/hickory-hill-park-warbler-walks-3/
LOCATION:Hickory Hill Park\, 1439 E Bloomington St\, Iowa City\, IA 52240\, USA
END:VEVENT
BEGIN:VEVENT
DTSTART;TZID=America/Chicago:20220428T063000
DTEND;TZID=America/Chicago:20220428T080000
DTSTAMP:20260425T090655
CREATED:20220419T051528Z
LAST-MODIFIED:20220428T064712Z
UID:19379-1651127400-1651132800@iowacitybirdclub.org
SUMMARY:Hickory Hill Park Warbler Walks
DESCRIPTION:April 27 – May 27\,Weekdays\, 6:30-8:00 a.m.  Hickory Hill Park Warbler Walks.  After a two-year hiatus\, WarblerWalks are back!  Start your weekdays watching warblers with rotatingleaders Mark Madsen\, Chris Edwards\, Jason Paulios\, Dan Rose\, Elliot Stalter\,and Mark Brown.  Meet at the parking lot at the end of Conklin Lane\,off N. Dodge St.
URL:https://iowacitybirdclub.org/event/hickory-hill-park-warbler-walks-2/
LOCATION:Hickory Hill Park\, 1439 E Bloomington St\, Iowa City\, IA 52240\, USA
END:VEVENT
BEGIN:VEVENT
DTSTART;TZID=America/Chicago:20220427T063000
DTEND;TZID=America/Chicago:20220427T080000
DTSTAMP:20260425T090655
CREATED:20220419T051528Z
LAST-MODIFIED:20220427T062744Z
UID:19377-1651041000-1651046400@iowacitybirdclub.org
SUMMARY:Hickory Hill Park Warbler Walks
DESCRIPTION:April 27 – May 27\,Weekdays\, 6:30-8:00 a.m.  Hickory Hill Park Warbler Walks.  After a two-year hiatus\, WarblerWalks are back!  Start your weekdays watching warblers with rotatingleaders Mark Madsen\, Chris Edwards\, Jason Paulios\, Dan Rose\, Elliot Stalter\,and Mark Brown.  Meet at the parking lot at the end of Conklin Lane\,off N. Dodge St.
URL:https://iowacitybirdclub.org/event/hickory-hill-park-warbler-walks/
LOCATION:Hickory Hill Park\, 1439 E Bloomington St\, Iowa City\, IA 52240\, USA
END:VEVENT
BEGIN:VEVENT
DTSTART;TZID=America/Chicago:20220305T080000
DTEND;TZID=America/Chicago:20220305T140000
DTSTAMP:20260425T090655
CREATED:20211213T083356Z
LAST-MODIFIED:20220305T035313Z
UID:19083-1646467200-1646488800@iowacitybirdclub.org
SUMMARY:Field Trip: Cone Marsh
DESCRIPTION: Cone Marsh in Louisa County: for Snow Geese\, Sandhill Cranes\, andmigrating waterfowl with leader Linda Rudolph. A local favorite not to be missed at this time of year!We’ll stop at several points around the marsh and take a walk on the dike\, returning by noon. Dress forcold\, wind\, and wet or muddy trails\, and bring a scope if possible.  \nMeet at the Fin & Feather parking lot\,125 Hwy. 1 W in Iowa City. Carpooling is optional and only for those vaccinated for COVID.     
URL:https://iowacitybirdclub.org/event/field-trip-cone-marsh-2/
LOCATION:Fin & Feather Inc\, 125 IA-1\, Iowa City\, IA 52246\, USA\, United States
END:VEVENT
BEGIN:VEVENT
DTSTART;TZID=America/Chicago:20220217T184500
DTEND;TZID=America/Chicago:20220217T204500
DTSTAMP:20260425T090655
CREATED:20211213T083356Z
LAST-MODIFIED:20220203T231957Z
UID:19087-1645123500-1645130700@iowacitybirdclub.org
SUMMARY:Bird Club Meeting
DESCRIPTION:February 17\, Thursday\, 7 p.m. Zoom Meeting. Club: Member Mark Brown will present “Wildlife of Pawnee National Grasslands.” This landscape on the Eastern Plains of Colorado is home to many shortgrass prairie specialties. Mark visited the area in 2021. \nJoin Zoom Meeting\nhttps://us02web.zoom.us/j/84989661537?pwd=S2F2aHdpTDY5WHRlcENRVmY2SVM1UT09 \nMeeting ID: 849 8966 1537\nPasscode: 655341
URL:https://iowacitybirdclub.org/event/bird-club-meeting-20/
LOCATION:IA
END:VEVENT
BEGIN:VEVENT
DTSTART;TZID=America/Chicago:20220205T093000
DTEND;TZID=America/Chicago:20220205T123000
DTSTAMP:20260425T090655
CREATED:20211213T083356Z
LAST-MODIFIED:20220203T231607Z
UID:19078-1644053400-1644064200@iowacitybirdclub.org
SUMMARY:CANCELLED Bald Eagle Watch
DESCRIPTION: CANCELLED – Samuel L. Kirkwood Bald Eagle Watch: at the Coralville roller dam walkway next to Iowa River Power Restaurant. The ICBC will provide spotting scopes and help attendees spot eagles and other wildlife. \nTo help\, call or text Karen Disbrow at (319) 430-0315. 
URL:https://iowacitybirdclub.org/event/bald-eagle-watch-4/
LOCATION:501 1st Ave\, Coralville\, IA 52241\, USA\, 501 1st Ave\, United States
END:VEVENT
BEGIN:VEVENT
DTSTART;VALUE=DATE:20211219
DTEND;VALUE=DATE:20211221
DTSTAMP:20260425T090655
CREATED:20210912T205146Z
LAST-MODIFIED:20211219T093918Z
UID:18733-1639886400-1639972799@iowacitybirdclub.org
SUMMARY:Iowa City Christmas Bird Count
DESCRIPTION:Iowa City Christmas Bird Count -SAVE THE DATE- More information to follow. \n-observation and Feeder watch. More information to follow.
URL:https://iowacitybirdclub.org/event/iowa-city-christmas-bird-count-3/
LOCATION:IA
END:VEVENT
BEGIN:VEVENT
DTSTART;TZID=America/Chicago:20211106T080000
DTEND;TZID=America/Chicago:20211106T120000
DTSTAMP:20260425T090655
CREATED:20210912T205146Z
LAST-MODIFIED:20211106T024648Z
UID:18731-1636185600-1636200000@iowacitybirdclub.org
SUMMARY:Belgum Grove
DESCRIPTION:Belgum Grove for waterfowl\, finches\, and sparrows.  Leader Jason Paulios will guide us through this Bur Oak Land Trust property of wetland and prairie habitat. There will be extensive walking on mowed grass paths which may be wet or muddy.   \nMeet at 8 a.m. at the Fin & Feather parking lot\, 125 Hwy. 1 W\, Iowa City\, or at 8:30 a\,m. Belgum Grove\, 3261 500th St. SW (F62)\, Iowa City.  Carpooling is optional and only for those vaccinated for COVID.  We’ll finish by noon. For more information visit https://www.buroaklandtrust.org/properties/.
URL:https://iowacitybirdclub.org/event/belgum-grove/
LOCATION:IA
END:VEVENT
BEGIN:VEVENT
DTSTART;TZID=America/Chicago:20211023T080000
DTEND;TZID=America/Chicago:20211023T120000
DTSTAMP:20260425T090655
CREATED:20210912T205146Z
LAST-MODIFIED:20211023T003659Z
UID:18730-1634976000-1634990400@iowacitybirdclub.org
SUMMARY:Cedar River Crossing
DESCRIPTION:Cedar River Crossing\,  Target species include migrating sparrows\, raptors\, shorebirds\, and waterfowl. \n Mark and Deb Rolfes will lead a birding tour of one of Johnson County Conservation’s newest properties.  There will be extensive walking on mowed grass paths which may be wet or muddy.   For safety\, wear orange as this area does have public hunting in season.  \nAt 11:30 a.m. Johnson County Naturalist Frances Owen will give a talk covering the area’s history\, habitat restoration\, and interesting features.  Bring a chair for the talk and a spotting scope if you have one. Ending time is around noon.   \nFor a map and information visit   https://www.johnsoncountyiowa.gov/conservation/public-use-areas. \n 
URL:https://iowacitybirdclub.org/event/cedar-river-crossing/
LOCATION:5473 Sutliff Rd NE\, Solon\, IA 52333\, USA
END:VEVENT
BEGIN:VEVENT
DTSTART;TZID=America/Chicago:20211020T080000
DTEND;TZID=America/Chicago:20211020T100000
DTSTAMP:20260425T090655
CREATED:20210912T205133Z
LAST-MODIFIED:20211019T074934Z
UID:18727-1634716800-1634724000@iowacitybirdclub.org
SUMMARY:Kent Park Bird Walk
DESCRIPTION:Kent Park Bird Walk with leader Rick Hollis   Meet at the Conservation Education Center parking lot.   Walk with Rick along his patch of mulched and mowed trails.  We’ll spend about two hours observing breeding and migrant birds throughout the seasons.  Group size is limited to 10people who are COVID-vaccinated.  Sign up here  https://www.signupgenius.com/go/9040549a8ac2ea1fd0-8am or contact Rick through Facebook here https://www.facebook.com/groups/830060220397361/.
URL:https://iowacitybirdclub.org/event/kent-park-bird-walk-16/
LOCATION:Kent Park\, 2048 US-6\, Oxford\, IA 52322\, USA\, 2 Park Rd\, United States
END:VEVENT
BEGIN:VEVENT
DTSTART;TZID=America/Chicago:20211010T070000
DTEND;TZID=America/Chicago:20211010T120000
DTSTAMP:20260425T090655
CREATED:20210912T205133Z
LAST-MODIFIED:20211010T210636Z
UID:18726-1633849200-1633867200@iowacitybirdclub.org
SUMMARY:The Big Sit! Drop in
DESCRIPTION:The Big Sit! at Sugar Bottom Recreation Area Day Use Area\, 2192 Mehaffey BridgeRd. NE\, Solon.  Drop in anytime between 7a.m. – 12 p.m. to count birds and enjoy the camaraderie\, free coffee\, anddonuts.   The objective of this worldwide\,semi-competitive birding event is to tally as many bird species as can be seenor heard from within a 17-foot circle. \nJoin team hosts Terri Macey and LindaQuinn near the parking lot at the Day Use Area\, near the beach and restrooms.  Bring a chair and binoculars.  
URL:https://iowacitybirdclub.org/event/the-big-sit-drop-in-2/
LOCATION:Sugar Bottom Recreational Area\, 2192 Mehaffey Bridge Rd NE\, Solon\, IA 52333\, USA
END:VEVENT
BEGIN:VEVENT
DTSTART;TZID=America/Chicago:20211006T080000
DTEND;TZID=America/Chicago:20211006T100000
DTSTAMP:20260425T090655
CREATED:20210912T205133Z
LAST-MODIFIED:20211004T002301Z
UID:18724-1633507200-1633514400@iowacitybirdclub.org
SUMMARY:Kent Park Bird Walk
DESCRIPTION: Kent Park Bird Walkwith leader Rick Hollis   Meet at the ConservationEducation Center parking lot.   Walk with Rick along his patch ofmulched and mowed trails.  We’ll spend about two hours observing breedingand migrant birds throughout the seasons.  Group size is limited to 10people who are COVID-vaccinated.  Sign up here  https://www.signupgenius.com/go/9040549a8ac2ea1fd0-8am or contact Rick through Facebook here https://www.facebook.com/groups/830060220397361/.
URL:https://iowacitybirdclub.org/event/kent-park-bird-walk-15/
LOCATION:Kent Park\, 2048 US-6\, Oxford\, IA 52322\, USA\, 2 Park Rd\, United States
END:VEVENT
BEGIN:VEVENT
DTSTART;TZID=America/Chicago:20210929T080000
DTEND;TZID=America/Chicago:20210929T100000
DTSTAMP:20260425T090655
CREATED:20210727T182837Z
LAST-MODIFIED:20210928T233357Z
UID:18608-1632902400-1632909600@iowacitybirdclub.org
SUMMARY:Kent Park Bird Walk
DESCRIPTION:Kent Park Bird Walk with Rick Hollis.  Meet at Kent Park in the parking lot at Conservation Education Center.   Walk with Rick along his patch of mulched and mowed trails.  We’ll spend about two hours observing breeding and migrant birds throughout the seasons.  Group size is limited to 10people who are COVID vaccinated.  Sign up here  https://www.signupgenius.com/go/9040549a8ac2ea1fd0-8amor contact Rick through Facebook https://www.facebook.com/groups/830060220397361/
URL:https://iowacitybirdclub.org/event/kent-park-bird-walk-14/
LOCATION:Kent Park\, 2048 US-6\, Oxford\, IA 52322\, USA\, 2 Park Rd\, United States
END:VEVENT
BEGIN:VEVENT
DTSTART;TZID=America/Chicago:20210926T090000
DTEND;TZID=America/Chicago:20210926T130000
DTSTAMP:20260425T090655
CREATED:20210727T182826Z
LAST-MODIFIED:20210925T225642Z
UID:18607-1632646800-1632661200@iowacitybirdclub.org
SUMMARY:Hawk Watch Stainbrook Preserve
DESCRIPTION:ICBC Hawk Watch atStainbrook Preserve: located along Mehaffey Bridge Road just north of SugarBottom Recreation Area. Join us on the hill to watch for migrating raptorsincluding Broad-winged Hawk\, Sharp-shinned Hawk\, Cooper’s Hawk\, and Red-tailedHawk. Bring a lawn chair and a spotting scope if you have one.  Directions: park on the north shoulder pull-offjust east of Mehaffey Bridge. Look for the Stainbrook Preserve sign and followthe short path up the hill.  \nFor a map\, go here and scroll down to HawkWatch:  https://iowacitybirdclub.org/miscellanious-maps/
URL:https://iowacitybirdclub.org/event/hawk-watch-stainbrook-preserve-3/
LOCATION:Mehaffey Bridge Rd NE\, Solon\, IA\, USA\, 1801 Mehaffey Bridge Rd NE\, United States
END:VEVENT
BEGIN:VEVENT
DTSTART;TZID=America/Chicago:20210915T080000
DTEND;TZID=America/Chicago:20210915T100000
DTSTAMP:20260425T090655
CREATED:20210714T145435Z
LAST-MODIFIED:20210914T212529Z
UID:18543-1631692800-1631700000@iowacitybirdclub.org
SUMMARY:Kent Park Bird Walk
DESCRIPTION:Kent Park Bird Walk with Rick Hollis   Meet at Kent Park in the parking lot at Conservation Education Center.   Walk with Rick along his patch of mulched and mowed trails.  We’ll spend about two hours observing breeding and migrant birds throughout the seasons.  Group size is limited to 10people who are COVID vaccinated.  Sign up here  https://www.signupgenius.com/go/9040549a8ac2ea1fd0-8am or contact Rick through Facebook https://www.facebook.com/groups/830060220397361/
URL:https://iowacitybirdclub.org/event/kent-park-bird-walk-13/
LOCATION:Kent Park\, 2048 US-6\, Oxford\, IA 52322\, USA\, 2 Park Rd\, United States
END:VEVENT
BEGIN:VEVENT
DTSTART;TZID=America/Chicago:20210901T080000
DTEND;TZID=America/Chicago:20210901T100000
DTSTAMP:20260425T090655
CREATED:20210714T145434Z
LAST-MODIFIED:20210901T000522Z
UID:18542-1630483200-1630490400@iowacitybirdclub.org
SUMMARY:Kent Park Bird Walk
DESCRIPTION:  Kent Park bird walk with Rick Hollis   Meet at Kent Park in the parking lot at Conservation Education Center.   Walk with Rick along his patch of mulched and mowed trails.  We’ll spend about two hours observing breeding and migrant birds throughout the seasons.  Group size is limited to 10 people who are COVID vaccinated.  Sign up herehttps://www.signupgenius.com/go/9040549a8ac2ea1fd0-8am  or contact Rick through Facebook https://www.facebook.com/groups/830060220397361/
URL:https://iowacitybirdclub.org/event/kent-park-bird-walk-12/
LOCATION:Kent Park\, 2048 US-6\, Oxford\, IA 52322\, USA\, 2 Park Rd\, United States
END:VEVENT
BEGIN:VEVENT
DTSTART;TZID=America/Chicago:20210828T060000
DTEND;TZID=America/Chicago:20210828T180000
DTSTAMP:20260425T090655
CREATED:20210727T182826Z
LAST-MODIFIED:20210828T234753Z
UID:18600-1630130400-1630173600@iowacitybirdclub.org
SUMMARY:Cy-Hawk Big Day Challenge
DESCRIPTION:August28\, Saturday.  Cy-Hawk Big Day ChallengeIt’s the Iowa City Hawkeyes vs.Ames Cyclones\, in a competition to find the most bird species in one day.   Gather a team of two or more birders for thisfun birding event.  Solo-birding is alsoan option. New this year:  Our Hawkeyeteam will have five counties to bird in: Johnson\, Linn\, Louisa\, Cedar\, Muscatine. Competition rules and more information can be found here https://iowacitybirdclub.org/cy-hawk-challenge/ Each participant is asked to donate $5 or more to support the birdconservation programs of Iowa Audubon. Register by 6 PM Friday 8/27 by textingKaren Disbrow at 319-430-0315.
URL:https://iowacitybirdclub.org/event/cy-hawk-big-day-challenge-3/
LOCATION:IA
END:VEVENT
END:VCALENDAR