BEGIN:VCALENDAR
VERSION:2.0
PRODID:-//Iowa City Bird Club - ECPv6.15.3//NONSGML v1.0//EN
CALSCALE:GREGORIAN
METHOD:PUBLISH
X-WR-CALNAME:Iowa City Bird Club
X-ORIGINAL-URL:https://iowacitybirdclub.org
X-WR-CALDESC:Events for Iowa City Bird Club
REFRESH-INTERVAL;VALUE=DURATION:PT1H
X-Robots-Tag:noindex
X-PUBLISHED-TTL:PT1H
BEGIN:VTIMEZONE
TZID:America/Chicago
BEGIN:DAYLIGHT
TZOFFSETFROM:-0600
TZOFFSETTO:-0500
TZNAME:CDT
DTSTART:20220313T080000
END:DAYLIGHT
BEGIN:STANDARD
TZOFFSETFROM:-0500
TZOFFSETTO:-0600
TZNAME:CST
DTSTART:20221106T070000
END:STANDARD
BEGIN:DAYLIGHT
TZOFFSETFROM:-0600
TZOFFSETTO:-0500
TZNAME:CDT
DTSTART:20230312T080000
END:DAYLIGHT
BEGIN:STANDARD
TZOFFSETFROM:-0500
TZOFFSETTO:-0600
TZNAME:CST
DTSTART:20231105T070000
END:STANDARD
END:VTIMEZONE
BEGIN:VTIMEZONE
TZID:UTC
BEGIN:STANDARD
TZOFFSETFROM:+0000
TZOFFSETTO:+0000
TZNAME:UTC
DTSTART:20220101T000000
END:STANDARD
END:VTIMEZONE
BEGIN:VEVENT
DTSTART;TZID=America/Chicago:20230316T184500
DTEND;TZID=America/Chicago:20230316T204500
DTSTAMP:20260424T094617
CREATED:20221207T023024Z
LAST-MODIFIED:20230316T171453Z
UID:19989-1678992300-1678999500@iowacitybirdclub.org
SUMMARY:IC Bird Club
DESCRIPTION: March 16th Thursday\, 7 p.m. Zoom Meeting: Bob Dolgan will host a showing of his nature film“The Magic Stump\,” the story of an Illinois tree stump that’s attracted a phenomenal variety of wintering raptors over the years\, including two rare Prairie Falcons. The goal of “The Magic Stump” is to draw attention to the story of raptors that winter in our highly altered agricultural landscape. Bob will introducethe film and answer questions afterwards. \nJoin Zoom Meeting \nhttps://us02web.zoom.us/j/84016553191?pwd=T09yK3k1M2lpZXFIemF2NGo1Ri9UZz09  \nMeeting ID: 840 1655 3191  \nPasscode: 271288  
URL:https://iowacitybirdclub.org/event/bird-club-meeting-32/
LOCATION:IA
END:VEVENT
BEGIN:VEVENT
DTSTART;TZID=America/Chicago:20230314T190000
DTEND;TZID=America/Chicago:20230314T203000
DTSTAMP:20260424T094617
CREATED:20221215T232308Z
LAST-MODIFIED:20230314T235855Z
UID:20049-1678820400-1678825800@iowacitybirdclub.org
SUMMARY:Introduction to Birding Course
DESCRIPTION: Introduction to Birding Course: Basics of Birding at the Conservation Education Center in Kent Park. Learn about birding techniques\, equipment\, bird identification and more! Sign up for one session or all 6!  Advanced registration is requested\, and is free to club members. Call (319) 645-1011 to register.  \nhttps://iowacitybirdclub.org/beginners-course/
URL:https://iowacitybirdclub.org/event/introduction-to-birding-course-2/
LOCATION:Kent Park\, 2048 US-6 NW\, Oxford\, IA 52322\, USA
END:VEVENT
BEGIN:VEVENT
DTSTART;TZID=America/Chicago:20230216T184500
DTEND;TZID=America/Chicago:20230216T204500
DTSTAMP:20260424T094617
CREATED:20221207T023024Z
LAST-MODIFIED:20230216T185104Z
UID:19988-1676573100-1676580300@iowacitybirdclub.org
SUMMARY:IC Bird Club
DESCRIPTION:February 16h\, Thursday\, 7 p.m. Zoom Meeting: Dean Hester will present “Owls of the ABA Area.”Dean is a talented local artist\, photographer\, and birder with an M.S. in Paleontology from the Universityof Iowa. He has photographed most of the owls found in the United States. \nJoin Zoom Meeting \nhttps://us02web.zoom.us/j/84016553191?pwd=T09yK3k1M2lpZXFIemF2NGo1Ri9UZz09  \nMeeting ID: 840 1655 3191  \nPasscode: 271288  
URL:https://iowacitybirdclub.org/event/bird-club-meeting-31/
LOCATION:IA
END:VEVENT
BEGIN:VEVENT
DTSTART;TZID=America/Chicago:20230204T073000
DTEND;TZID=America/Chicago:20230204T183000
DTSTAMP:20260424T094617
CREATED:20221211T024307Z
LAST-MODIFIED:20230204T182345Z
UID:20033-1675495800-1675535400@iowacitybirdclub.org
SUMMARY:Building Better Birders Workshop
DESCRIPTION: Building Better Birders Workshop.  Saturday\, February 4\, 2023.  Click link below to see schedule of activities.  Register for this free workshop online at link below or call 319-645-1011.    \nWant to learn more about birds? Join Johnson County Conservation at Kent Park in Oxford\, Iowa for a full day of outdoor bird watching\, a federal bird banding presentation\, and indoor lectures.  Please try to commit to the full day of activities.   \nhttps://www.mycountyparks.com/County/Johnson/Park/JOHNSON-COUNTY-EDUCATION-PROGRAMS/Events/21788/Building-Better-Birders-Workshop-Series-February-2023-Workshop.aspx \nThis workshop is part of a series of workshops offered across Iowa with funding provided REAP-CEP.  Program instructor is Kelly McKay; see more info here  https://buildingbetterbirders.com/ Members of ICBC will lend a hand in providing expertise on the bird hikes.  Please join us! 
URL:https://iowacitybirdclub.org/event/building-better-birders-workshop/
LOCATION:Kent Park 2048 US-6\, Oxford\, IA 52322\, USA\, 2048 US-6\, Oxford\, IA\, 52322\, United States
END:VEVENT
BEGIN:VEVENT
DTSTART;VALUE=DATE:20221218
DTEND;VALUE=DATE:20221220
DTSTAMP:20260424T094617
CREATED:20220915T065157Z
LAST-MODIFIED:20221218T234709Z
UID:19760-1671336000-1671422399@iowacitybirdclub.org
SUMMARY:Iowa City Christmas Bird Count
DESCRIPTION:Iowa City Christmas Bird Count -SAVE THE DATE- More information to follow. \n-observation and Feeder watch. More information to follow.
URL:https://iowacitybirdclub.org/event/iowa-city-christmas-bird-count-4/
LOCATION:IA
END:VEVENT
BEGIN:VEVENT
DTSTART;TZID=America/Chicago:20221009T070000
DTEND;TZID=America/Chicago:20221009T120000
DTSTAMP:20260424T094617
CREATED:20220915T065157Z
LAST-MODIFIED:20220915T065157Z
UID:19752-1665298800-1665316800@iowacitybirdclub.org
SUMMARY:The Big Sit! Drop in
DESCRIPTION:The Big Sit! at Sugar Bottom Recreation Area Day Use Area\, 2192 Mehaffey Bridge Rd. NE\, Solon.  Drop in anytime between 7a.m. – 12 p.m. to count birds and enjoy the camaraderie\, free coffee\, and donuts.   The objective of this worldwide\, semi-competitive birding event is to tally as many bird species as can be seen or heard from within a 17-foot circle. \nJoin ICBC host Terri Macey near the parking lot at the Day Use Area\, near the beach and restrooms. Bring a chair and binoculars. For more information\, visit https://www.thebigsit.org/.
URL:https://iowacitybirdclub.org/event/the-big-sit-drop-in-4/
LOCATION:Sugar Bottom Recreational Area\, 2192 Mehaffey Bridge Rd NE\, Solon\, IA 52333\, USA
END:VEVENT
BEGIN:VEVENT
DTSTART;TZID=UTC:20220918T090000
DTEND;TZID=UTC:20220918T130000
DTSTAMP:20260424T094617
CREATED:20220911T043856Z
LAST-MODIFIED:20220911T043856Z
UID:19699-1663491600-1663506000@iowacitybirdclub.org
SUMMARY:Hawk Watch at Stainbrook Preserve
DESCRIPTION:September 18\, Sunday\, 9 a.m. – 1 p.m.  Hawk Watch at Stainbrook Preserve\, located along Mehaffey Bridge Road just north of Sugar Bottom Recreation Area. Join us on the hill to watch for migrating raptors including Broad-winged Hawk\, Sharp-shinned Hawk\, Cooper’s Hawk\, and Red-tailed Hawk. Bring a lawn chair\, and a spotting scope if you have one. \nDirections: park on the north shoulder pull-off just east of Mehaffey Bridge. Look for the Stainbrook Preserve sign and follow the short path up the hill. \nFind a map here and below .
URL:https://iowacitybirdclub.org/event/hawk-watch-at-stainbrook-preserve/
LOCATION:IA
END:VEVENT
BEGIN:VEVENT
DTSTART;TZID=UTC:20220911T110000
DTEND;TZID=UTC:20220911T160000
DTSTAMP:20260424T094617
CREATED:20220908T185627Z
LAST-MODIFIED:20220908T185627Z
UID:19686-1662894000-1662912000@iowacitybirdclub.org
SUMMARY:Pelican Festival
DESCRIPTION:Annual Pelican Festival. View these magnificent birds through provided scopes. Attend lectures and view booths of local and state wildlife organizations. \nLocation:  2564 Amana Road NW\, Swisher events are free. \nFor more information see below: View Fullscreen \n 
URL:https://iowacitybirdclub.org/event/pelican-festival-6/
LOCATION:IA
END:VEVENT
BEGIN:VEVENT
DTSTART;TZID=UTC:20220903T000000
DTEND;TZID=UTC:20220905T235900
DTSTAMP:20260424T094617
CREATED:20220816T192155Z
LAST-MODIFIED:20220817T011510Z
UID:19624-1662163200-1662422340@iowacitybirdclub.org
SUMMARY:Cy-Hawk Big Day Challenge
DESCRIPTION:Labor Day Weekend is the Cy-Hawk Big Day Challenge. It’s the Iowa City Hawkeyes (Iowa City Bird Club) vs. Ames Cyclones (Big Bluestem Audubon Society)\, in a competition to find the most bird species.  Birders from across Iowa can participate with either team in the designated area. Last year BBAS found a whopping 142 species to ICBC’s tally of 127.  This year organizers have expanded to a three-day event with lots of flexibility for participation.  Pick one calendar day of Sept. 3\, 4\, or 5.  Pick a birding group of friends or go individually.  Pick your own route within these counties:  Johnson\, Linn\, Louisa\, Des Moines and Lee. Cyclone counties are Polk\, Greene\, Boone\, Story\, and Jasper.  Our Hawkeye strategy will be to coordinate our locations to cover as much area as possible.  So please register ahead with your name(s) and desired locations\, or ask Chris if you want location suggestions. Competition rules and more information can be found here: https://iowacitybirdclub.org/cy-hawk-challenge/.  Each participant is asked to donate $5 or more to support the bird conservation programs of Iowa Audubon. Register with Iowa City Bird Club ASAP with Chris Edwards at credwards@aol.com (preferred) or by phone/text at 319-430-4732.  To register with Big Bluestem Audubon Society contact Eric Ollie at uphawkeye@gmail.com. Go Hawks!
URL:https://iowacitybirdclub.org/event/cy-hawk-big-day-challenge-4/
LOCATION:IA
END:VEVENT
BEGIN:VEVENT
DTSTART;VALUE=DATE:20220723
DTEND;VALUE=DATE:20220725
DTSTAMP:20260424T094617
CREATED:20220417T070142Z
LAST-MODIFIED:20220723T113833Z
UID:19338-1658548800-1658635199@iowacitybirdclub.org
SUMMARY:Iowa City Butterfly Count
DESCRIPTION:July 23\, Saturday\, Iowa City Butterfly Count.  Now in its 24th year\, the local count is part of the North American Butterfly Association’s Fourth of July Butterfly Count program.   \nWe’ll visit Kent Park\, Hawkeye Wildlife Management Area\, Lake Macbride\, and other areas totally as many butterfly species and individuals as we can find.   \nTo participate\, contact Chris Edwards by July 20 at 319-430-4732 or credwards@aol.com. 
URL:https://iowacitybirdclub.org/event/iowa-city-butterfly-count/
LOCATION:IA
END:VEVENT
BEGIN:VEVENT
DTSTART;TZID=America/Chicago:20220717T160000
DTEND;TZID=America/Chicago:20220717T190000
DTSTAMP:20260424T094617
CREATED:20220417T070130Z
LAST-MODIFIED:20220717T102247Z
UID:19337-1658073600-1658084400@iowacitybirdclub.org
SUMMARY:Bird Club Potluck Picnic
DESCRIPTION: July 17\, Sunday\, 4p.m.  Iowa City Bird Club Potluck Picnic at Lake Macbride.  Located at Sailboat Shelter #1 at the north end of Sail Boat Road NE\, Solon\, near the south shore of the north arm of the lake.  Restrooms are nearby. Enjoy the company of old and new birding friends with picnic foods and a beautiful park ambience. Bring a dish to share\, your own drink\, and table service. An optional bird walk will begin about 6:00 p.m.
URL:https://iowacitybirdclub.org/event/bird-club-potluck-picnic-2/
LOCATION:Lake Macbride State Park\, 3525 Hwy 382 NE\, Solon\, IA 52333\, USA
END:VEVENT
BEGIN:VEVENT
DTSTART;TZID=America/Chicago:20220527T063000
DTEND;TZID=America/Chicago:20220527T080000
DTSTAMP:20260424T094617
CREATED:20220419T051554Z
LAST-MODIFIED:20220527T014530Z
UID:19400-1653633000-1653638400@iowacitybirdclub.org
SUMMARY:Hickory Hill Park Warbler Walks
DESCRIPTION:April 27 – May 27\,Weekdays\, 6:30-8:00 a.m.  Hickory Hill Park Warbler Walks.  After a two-year hiatus\, WarblerWalks are back!  Start your weekdays watching warblers with rotatingleaders Mark Madsen\, Chris Edwards\, Jason Paulios\, Dan Rose\, Elliot Stalter\,and Mark Brown.  Meet at the parking lot at the end of Conklin Lane\,off N. Dodge St.
URL:https://iowacitybirdclub.org/event/hickory-hill-park-warbler-walks-23/
LOCATION:Hickory Hill Park\, 1439 E Bloomington St\, Iowa City\, IA 52240\, USA
END:VEVENT
BEGIN:VEVENT
DTSTART;TZID=America/Chicago:20220526T063000
DTEND;TZID=America/Chicago:20220526T080000
DTSTAMP:20260424T094617
CREATED:20220419T051554Z
LAST-MODIFIED:20220526T014046Z
UID:19399-1653546600-1653552000@iowacitybirdclub.org
SUMMARY:Hickory Hill Park Warbler Walks
DESCRIPTION:April 27 – May 27\,Weekdays\, 6:30-8:00 a.m.  Hickory Hill Park Warbler Walks.  After a two-year hiatus\, WarblerWalks are back!  Start your weekdays watching warblers with rotatingleaders Mark Madsen\, Chris Edwards\, Jason Paulios\, Dan Rose\, Elliot Stalter\,and Mark Brown.  Meet at the parking lot at the end of Conklin Lane\,off N. Dodge St.
URL:https://iowacitybirdclub.org/event/hickory-hill-park-warbler-walks-22/
LOCATION:Hickory Hill Park\, 1439 E Bloomington St\, Iowa City\, IA 52240\, USA
END:VEVENT
BEGIN:VEVENT
DTSTART;TZID=America/Chicago:20220525T063000
DTEND;TZID=America/Chicago:20220525T080000
DTSTAMP:20260424T094617
CREATED:20220419T051554Z
LAST-MODIFIED:20220525T013001Z
UID:19398-1653460200-1653465600@iowacitybirdclub.org
SUMMARY:Hickory Hill Park Warbler Walks
DESCRIPTION:April 27 – May 27\,Weekdays\, 6:30-8:00 a.m.  Hickory Hill Park Warbler Walks.  After a two-year hiatus\, WarblerWalks are back!  Start your weekdays watching warblers with rotatingleaders Mark Madsen\, Chris Edwards\, Jason Paulios\, Dan Rose\, Elliot Stalter\,and Mark Brown.  Meet at the parking lot at the end of Conklin Lane\,off N. Dodge St.
URL:https://iowacitybirdclub.org/event/hickory-hill-park-warbler-walks-21/
LOCATION:Hickory Hill Park\, 1439 E Bloomington St\, Iowa City\, IA 52240\, USA
END:VEVENT
BEGIN:VEVENT
DTSTART;TZID=America/Chicago:20220524T063000
DTEND;TZID=America/Chicago:20220524T080000
DTSTAMP:20260424T094617
CREATED:20220419T051554Z
LAST-MODIFIED:20220524T012150Z
UID:19397-1653373800-1653379200@iowacitybirdclub.org
SUMMARY:Hickory Hill Park Warbler Walks
DESCRIPTION:April 27 – May 27\,Weekdays\, 6:30-8:00 a.m.  Hickory Hill Park Warbler Walks.  After a two-year hiatus\, WarblerWalks are back!  Start your weekdays watching warblers with rotatingleaders Mark Madsen\, Chris Edwards\, Jason Paulios\, Dan Rose\, Elliot Stalter\,and Mark Brown.  Meet at the parking lot at the end of Conklin Lane\,off N. Dodge St.
URL:https://iowacitybirdclub.org/event/hickory-hill-park-warbler-walks-20/
LOCATION:Hickory Hill Park\, 1439 E Bloomington St\, Iowa City\, IA 52240\, USA
END:VEVENT
BEGIN:VEVENT
DTSTART;TZID=America/Chicago:20220523T063000
DTEND;TZID=America/Chicago:20220523T080000
DTSTAMP:20260424T094617
CREATED:20220419T051554Z
LAST-MODIFIED:20220523T010330Z
UID:19396-1653287400-1653292800@iowacitybirdclub.org
SUMMARY:Hickory Hill Park Warbler Walks
DESCRIPTION:April 27 – May 27\,Weekdays\, 6:30-8:00 a.m.  Hickory Hill Park Warbler Walks.  After a two-year hiatus\, WarblerWalks are back!  Start your weekdays watching warblers with rotatingleaders Mark Madsen\, Chris Edwards\, Jason Paulios\, Dan Rose\, Elliot Stalter\,and Mark Brown.  Meet at the parking lot at the end of Conklin Lane\,off N. Dodge St.
URL:https://iowacitybirdclub.org/event/hickory-hill-park-warbler-walks-19/
LOCATION:Hickory Hill Park\, 1439 E Bloomington St\, Iowa City\, IA 52240\, USA
END:VEVENT
BEGIN:VEVENT
DTSTART;TZID=America/Chicago:20220520T063000
DTEND;TZID=America/Chicago:20220520T080000
DTSTAMP:20260424T094617
CREATED:20220419T051553Z
LAST-MODIFIED:20220520T004848Z
UID:19395-1653028200-1653033600@iowacitybirdclub.org
SUMMARY:Hickory Hill Park Warbler Walks
DESCRIPTION:April 27 – May 27\,Weekdays\, 6:30-8:00 a.m.  Hickory Hill Park Warbler Walks.  After a two-year hiatus\, WarblerWalks are back!  Start your weekdays watching warblers with rotatingleaders Mark Madsen\, Chris Edwards\, Jason Paulios\, Dan Rose\, Elliot Stalter\,and Mark Brown.  Meet at the parking lot at the end of Conklin Lane\,off N. Dodge St.
URL:https://iowacitybirdclub.org/event/hickory-hill-park-warbler-walks-18/
LOCATION:Hickory Hill Park\, 1439 E Bloomington St\, Iowa City\, IA 52240\, USA
END:VEVENT
BEGIN:VEVENT
DTSTART;TZID=America/Chicago:20220519T063000
DTEND;TZID=America/Chicago:20220519T080000
DTSTAMP:20260424T094617
CREATED:20220419T051553Z
LAST-MODIFIED:20220519T004805Z
UID:19394-1652941800-1652947200@iowacitybirdclub.org
SUMMARY:Hickory Hill Park Warbler Walks
DESCRIPTION:April 27 – May 27\,Weekdays\, 6:30-8:00 a.m.  Hickory Hill Park Warbler Walks.  After a two-year hiatus\, WarblerWalks are back!  Start your weekdays watching warblers with rotatingleaders Mark Madsen\, Chris Edwards\, Jason Paulios\, Dan Rose\, Elliot Stalter\,and Mark Brown.  Meet at the parking lot at the end of Conklin Lane\,off N. Dodge St.
URL:https://iowacitybirdclub.org/event/hickory-hill-park-warbler-walks-17/
LOCATION:Hickory Hill Park\, 1439 E Bloomington St\, Iowa City\, IA 52240\, USA
END:VEVENT
BEGIN:VEVENT
DTSTART;TZID=America/Chicago:20220518T063000
DTEND;TZID=America/Chicago:20220518T080000
DTSTAMP:20260424T094617
CREATED:20220419T051553Z
LAST-MODIFIED:20220518T004853Z
UID:19393-1652855400-1652860800@iowacitybirdclub.org
SUMMARY:Hickory Hill Park Warbler Walks
DESCRIPTION:April 27 – May 27\,Weekdays\, 6:30-8:00 a.m.  Hickory Hill Park Warbler Walks.  After a two-year hiatus\, WarblerWalks are back!  Start your weekdays watching warblers with rotatingleaders Mark Madsen\, Chris Edwards\, Jason Paulios\, Dan Rose\, Elliot Stalter\,and Mark Brown.  Meet at the parking lot at the end of Conklin Lane\,off N. Dodge St.
URL:https://iowacitybirdclub.org/event/hickory-hill-park-warbler-walks-16/
LOCATION:Hickory Hill Park\, 1439 E Bloomington St\, Iowa City\, IA 52240\, USA
END:VEVENT
BEGIN:VEVENT
DTSTART;TZID=America/Chicago:20220517T063000
DTEND;TZID=America/Chicago:20220517T080000
DTSTAMP:20260424T094617
CREATED:20220419T051553Z
LAST-MODIFIED:20220517T004827Z
UID:19392-1652769000-1652774400@iowacitybirdclub.org
SUMMARY:Hickory Hill Park Warbler Walks
DESCRIPTION:April 27 – May 27\,Weekdays\, 6:30-8:00 a.m.  Hickory Hill Park Warbler Walks.  After a two-year hiatus\, WarblerWalks are back!  Start your weekdays watching warblers with rotatingleaders Mark Madsen\, Chris Edwards\, Jason Paulios\, Dan Rose\, Elliot Stalter\,and Mark Brown.  Meet at the parking lot at the end of Conklin Lane\,off N. Dodge St.
URL:https://iowacitybirdclub.org/event/hickory-hill-park-warbler-walks-15/
LOCATION:Hickory Hill Park\, 1439 E Bloomington St\, Iowa City\, IA 52240\, USA
END:VEVENT
BEGIN:VEVENT
DTSTART;TZID=America/Chicago:20220516T063000
DTEND;TZID=America/Chicago:20220516T080000
DTSTAMP:20260424T094617
CREATED:20220419T051541Z
LAST-MODIFIED:20220516T003538Z
UID:19391-1652682600-1652688000@iowacitybirdclub.org
SUMMARY:Hickory Hill Park Warbler Walks
DESCRIPTION:April 27 – May 27\,Weekdays\, 6:30-8:00 a.m.  Hickory Hill Park Warbler Walks.  After a two-year hiatus\, WarblerWalks are back!  Start your weekdays watching warblers with rotatingleaders Mark Madsen\, Chris Edwards\, Jason Paulios\, Dan Rose\, Elliot Stalter\,and Mark Brown.  Meet at the parking lot at the end of Conklin Lane\,off N. Dodge St.
URL:https://iowacitybirdclub.org/event/hickory-hill-park-warbler-walks-14/
LOCATION:Hickory Hill Park\, 1439 E Bloomington St\, Iowa City\, IA 52240\, USA
END:VEVENT
BEGIN:VEVENT
DTSTART;TZID=America/Chicago:20220513T063000
DTEND;TZID=America/Chicago:20220513T080000
DTSTAMP:20260424T094617
CREATED:20220419T051541Z
LAST-MODIFIED:20220513T165517Z
UID:19390-1652423400-1652428800@iowacitybirdclub.org
SUMMARY:Hickory Hill Park Warbler Walks
DESCRIPTION:April 27 – May 27\,Weekdays\, 6:30-8:00 a.m.  Hickory Hill Park Warbler Walks.  After a two-year hiatus\, WarblerWalks are back!  Start your weekdays watching warblers with rotatingleaders Mark Madsen\, Chris Edwards\, Jason Paulios\, Dan Rose\, Elliot Stalter\,and Mark Brown.  Meet at the parking lot at the end of Conklin Lane\,off N. Dodge St.
URL:https://iowacitybirdclub.org/event/hickory-hill-park-warbler-walks-13/
LOCATION:Hickory Hill Park\, 1439 E Bloomington St\, Iowa City\, IA 52240\, USA
END:VEVENT
BEGIN:VEVENT
DTSTART;TZID=America/Chicago:20220512T063000
DTEND;TZID=America/Chicago:20220512T080000
DTSTAMP:20260424T094617
CREATED:20220419T051541Z
LAST-MODIFIED:20220512T091433Z
UID:19389-1652337000-1652342400@iowacitybirdclub.org
SUMMARY:Hickory Hill Park Warbler Walks
DESCRIPTION:April 27 – May 27\,Weekdays\, 6:30-8:00 a.m.  Hickory Hill Park Warbler Walks.  After a two-year hiatus\, WarblerWalks are back!  Start your weekdays watching warblers with rotatingleaders Mark Madsen\, Chris Edwards\, Jason Paulios\, Dan Rose\, Elliot Stalter\,and Mark Brown.  Meet at the parking lot at the end of Conklin Lane\,off N. Dodge St.
URL:https://iowacitybirdclub.org/event/hickory-hill-park-warbler-walks-12/
LOCATION:Hickory Hill Park\, 1439 E Bloomington St\, Iowa City\, IA 52240\, USA
END:VEVENT
BEGIN:VEVENT
DTSTART;TZID=America/Chicago:20220511T063000
DTEND;TZID=America/Chicago:20220511T080000
DTSTAMP:20260424T094617
CREATED:20220419T051541Z
LAST-MODIFIED:20220511T090807Z
UID:19388-1652250600-1652256000@iowacitybirdclub.org
SUMMARY:Hickory Hill Park Warbler Walks
DESCRIPTION:April 27 – May 27\,Weekdays\, 6:30-8:00 a.m.  Hickory Hill Park Warbler Walks.  After a two-year hiatus\, WarblerWalks are back!  Start your weekdays watching warblers with rotatingleaders Mark Madsen\, Chris Edwards\, Jason Paulios\, Dan Rose\, Elliot Stalter\,and Mark Brown.  Meet at the parking lot at the end of Conklin Lane\,off N. Dodge St.
URL:https://iowacitybirdclub.org/event/hickory-hill-park-warbler-walks-11/
LOCATION:Hickory Hill Park\, 1439 E Bloomington St\, Iowa City\, IA 52240\, USA
END:VEVENT
BEGIN:VEVENT
DTSTART;TZID=America/Chicago:20220510T063000
DTEND;TZID=America/Chicago:20220510T080000
DTSTAMP:20260424T094617
CREATED:20220419T051541Z
LAST-MODIFIED:20220510T090142Z
UID:19387-1652164200-1652169600@iowacitybirdclub.org
SUMMARY:Hickory Hill Park Warbler Walks
DESCRIPTION:April 27 – May 27\,Weekdays\, 6:30-8:00 a.m.  Hickory Hill Park Warbler Walks.  After a two-year hiatus\, WarblerWalks are back!  Start your weekdays watching warblers with rotatingleaders Mark Madsen\, Chris Edwards\, Jason Paulios\, Dan Rose\, Elliot Stalter\,and Mark Brown.  Meet at the parking lot at the end of Conklin Lane\,off N. Dodge St.
URL:https://iowacitybirdclub.org/event/hickory-hill-park-warbler-walks-10/
LOCATION:Hickory Hill Park\, 1439 E Bloomington St\, Iowa City\, IA 52240\, USA
END:VEVENT
BEGIN:VEVENT
DTSTART;TZID=America/Chicago:20220509T063000
DTEND;TZID=America/Chicago:20220509T080000
DTSTAMP:20260424T094617
CREATED:20220419T051541Z
LAST-MODIFIED:20220509T085548Z
UID:19386-1652077800-1652083200@iowacitybirdclub.org
SUMMARY:Hickory Hill Park Warbler Walks
DESCRIPTION:April 27 – May 27\,Weekdays\, 6:30-8:00 a.m.  Hickory Hill Park Warbler Walks.  After a two-year hiatus\, WarblerWalks are back!  Start your weekdays watching warblers with rotatingleaders Mark Madsen\, Chris Edwards\, Jason Paulios\, Dan Rose\, Elliot Stalter\,and Mark Brown.  Meet at the parking lot at the end of Conklin Lane\,off N. Dodge St.
URL:https://iowacitybirdclub.org/event/hickory-hill-park-warbler-walks-9/
LOCATION:Hickory Hill Park\, 1439 E Bloomington St\, Iowa City\, IA 52240\, USA
END:VEVENT
BEGIN:VEVENT
DTSTART;VALUE=DATE:20220507
DTEND;VALUE=DATE:20220509
DTSTAMP:20260424T094617
CREATED:20220417T070130Z
LAST-MODIFIED:20220507T081342Z
UID:19332-1651896000-1651982399@iowacitybirdclub.org
SUMMARY:Spring Bird Count 2022
DESCRIPTION:Spring Migration Count  Johnson County Spring Migration Count. This year we’re back to normal protocols after two years of pandemic modifications – we’ll bird in small groups to count as many birds as possible in Johnson County. Species and individual birds are tallied – last year 166 species were recorded.    Solo birding is also an option.    \nGather for an optional noon sack lunch at North Liberty Community Center. Afternoon birding is encouraged\, but optional.   \nTo participate\, email coordinator Chris Caster in advance of count day at cjcaster@q.com.  Youwill be assigned to a group with a leader who will send details for a meeting time and location.  For those doing solo birding\, an area will be assigned.  For more information visit https://iowacitybirdclub.org/spring-count/.
URL:https://iowacitybirdclub.org/event/spring-bird-count-2022/
LOCATION:IA
END:VEVENT
BEGIN:VEVENT
DTSTART;TZID=America/Chicago:20220506T063000
DTEND;TZID=America/Chicago:20220506T080000
DTSTAMP:20260424T094617
CREATED:20220419T051541Z
LAST-MODIFIED:20220506T080741Z
UID:19385-1651818600-1651824000@iowacitybirdclub.org
SUMMARY:Hickory Hill Park Warbler Walks
DESCRIPTION:April 27 – May 27\,Weekdays\, 6:30-8:00 a.m.  Hickory Hill Park Warbler Walks.  After a two-year hiatus\, WarblerWalks are back!  Start your weekdays watching warblers with rotatingleaders Mark Madsen\, Chris Edwards\, Jason Paulios\, Dan Rose\, Elliot Stalter\,and Mark Brown.  Meet at the parking lot at the end of Conklin Lane\,off N. Dodge St.
URL:https://iowacitybirdclub.org/event/hickory-hill-park-warbler-walks-8/
LOCATION:Hickory Hill Park\, 1439 E Bloomington St\, Iowa City\, IA 52240\, USA
END:VEVENT
BEGIN:VEVENT
DTSTART;TZID=America/Chicago:20220505T063000
DTEND;TZID=America/Chicago:20220505T080000
DTSTAMP:20260424T094617
CREATED:20220419T051541Z
LAST-MODIFIED:20220505T080432Z
UID:19384-1651732200-1651737600@iowacitybirdclub.org
SUMMARY:Hickory Hill Park Warbler Walks
DESCRIPTION:April 27 – May 27\,Weekdays\, 6:30-8:00 a.m.  Hickory Hill Park Warbler Walks.  After a two-year hiatus\, WarblerWalks are back!  Start your weekdays watching warblers with rotatingleaders Mark Madsen\, Chris Edwards\, Jason Paulios\, Dan Rose\, Elliot Stalter\,and Mark Brown.  Meet at the parking lot at the end of Conklin Lane\,off N. Dodge St.
URL:https://iowacitybirdclub.org/event/hickory-hill-park-warbler-walks-7/
LOCATION:Hickory Hill Park\, 1439 E Bloomington St\, Iowa City\, IA 52240\, USA
END:VEVENT
BEGIN:VEVENT
DTSTART;TZID=America/Chicago:20220504T063000
DTEND;TZID=America/Chicago:20220504T080000
DTSTAMP:20260424T094617
CREATED:20220419T051529Z
LAST-MODIFIED:20220504T080418Z
UID:19383-1651645800-1651651200@iowacitybirdclub.org
SUMMARY:Hickory Hill Park Warbler Walks
DESCRIPTION:April 27 – May 27\,Weekdays\, 6:30-8:00 a.m.  Hickory Hill Park Warbler Walks.  After a two-year hiatus\, WarblerWalks are back!  Start your weekdays watching warblers with rotatingleaders Mark Madsen\, Chris Edwards\, Jason Paulios\, Dan Rose\, Elliot Stalter\,and Mark Brown.  Meet at the parking lot at the end of Conklin Lane\,off N. Dodge St.
URL:https://iowacitybirdclub.org/event/hickory-hill-park-warbler-walks-6/
LOCATION:Hickory Hill Park\, 1439 E Bloomington St\, Iowa City\, IA 52240\, USA
END:VEVENT
END:VCALENDAR