BEGIN:VCALENDAR
VERSION:2.0
PRODID:-//Iowa City Bird Club - ECPv6.15.3//NONSGML v1.0//EN
CALSCALE:GREGORIAN
METHOD:PUBLISH
X-WR-CALNAME:Iowa City Bird Club
X-ORIGINAL-URL:https://iowacitybirdclub.org
X-WR-CALDESC:Events for Iowa City Bird Club
REFRESH-INTERVAL;VALUE=DURATION:PT1H
X-Robots-Tag:noindex
X-PUBLISHED-TTL:PT1H
BEGIN:VTIMEZONE
TZID:America/Chicago
BEGIN:DAYLIGHT
TZOFFSETFROM:-0600
TZOFFSETTO:-0500
TZNAME:CDT
DTSTART:20220313T080000
END:DAYLIGHT
BEGIN:STANDARD
TZOFFSETFROM:-0500
TZOFFSETTO:-0600
TZNAME:CST
DTSTART:20221106T070000
END:STANDARD
BEGIN:DAYLIGHT
TZOFFSETFROM:-0600
TZOFFSETTO:-0500
TZNAME:CDT
DTSTART:20230312T080000
END:DAYLIGHT
BEGIN:STANDARD
TZOFFSETFROM:-0500
TZOFFSETTO:-0600
TZNAME:CST
DTSTART:20231105T070000
END:STANDARD
END:VTIMEZONE
BEGIN:VTIMEZONE
TZID:UTC
BEGIN:STANDARD
TZOFFSETFROM:+0000
TZOFFSETTO:+0000
TZNAME:UTC
DTSTART:20220101T000000
END:STANDARD
END:VTIMEZONE
BEGIN:VEVENT
DTSTART;TZID=America/Chicago:20230505T063000
DTEND;TZID=America/Chicago:20230505T080000
DTSTAMP:20260424T015158
CREATED:20230412T190043Z
LAST-MODIFIED:20230505T122619Z
UID:20822-1683268200-1683273600@iowacitybirdclub.org
SUMMARY:Hickory Hill Park Warbler Walks
DESCRIPTION:April 26 – May 26\, Weekdays\, Mon-Fri\, 6:30-8:00 a.m.\,  Hickory Hill Park Warbler Walks.  Start your weekdays watching warblers and other spring migrants in the park with our rotating crew of expert leaders. Meet at the parking lot at the end of Conklin Lane\, off N. Dodge St.
URL:https://iowacitybirdclub.org/event/hickory-hill-park-warbler-walks-31/
LOCATION:Hickory Hill Park\, 1439 E Bloomington St\, Iowa City\, IA 52240\, USA
END:VEVENT
BEGIN:VEVENT
DTSTART;TZID=America/Chicago:20230504T063000
DTEND;TZID=America/Chicago:20230504T080000
DTSTAMP:20260424T015158
CREATED:20230412T190043Z
LAST-MODIFIED:20230504T125626Z
UID:20821-1683181800-1683187200@iowacitybirdclub.org
SUMMARY:Hickory Hill Park Warbler Walks
DESCRIPTION:April 26 – May 26\, Weekdays\, Mon-Fri\, 6:30-8:00 a.m.\,  Hickory Hill Park Warbler Walks.  Start your weekdays watching warblers and other spring migrants in the park with our rotating crew of expert leaders. Meet at the parking lot at the end of Conklin Lane\, off N. Dodge St.
URL:https://iowacitybirdclub.org/event/hickory-hill-park-warbler-walks-30/
LOCATION:Hickory Hill Park\, 1439 E Bloomington St\, Iowa City\, IA 52240\, USA
END:VEVENT
BEGIN:VEVENT
DTSTART;TZID=America/Chicago:20230503T063000
DTEND;TZID=America/Chicago:20230503T080000
DTSTAMP:20260424T015158
CREATED:20230412T190043Z
LAST-MODIFIED:20230503T122934Z
UID:20820-1683095400-1683100800@iowacitybirdclub.org
SUMMARY:Hickory Hill Park Warbler Walks
DESCRIPTION:April 26 – May 26\, Weekdays\, Mon-Fri\, 6:30-8:00 a.m.\,  Hickory Hill Park Warbler Walks.  Start your weekdays watching warblers and other spring migrants in the park with our rotating crew of expert leaders. Meet at the parking lot at the end of Conklin Lane\, off N. Dodge St.
URL:https://iowacitybirdclub.org/event/hickory-hill-park-warbler-walks-29/
LOCATION:Hickory Hill Park\, 1439 E Bloomington St\, Iowa City\, IA 52240\, USA
END:VEVENT
BEGIN:VEVENT
DTSTART;TZID=America/Chicago:20230502T063000
DTEND;TZID=America/Chicago:20230502T080000
DTSTAMP:20260424T015158
CREATED:20230412T190032Z
LAST-MODIFIED:20230502T125947Z
UID:20819-1683009000-1683014400@iowacitybirdclub.org
SUMMARY:Hickory Hill Park Warbler Walks
DESCRIPTION:April 26 – May 26\, Weekdays\, Mon-Fri\, 6:30-8:00 a.m.\,  Hickory Hill Park Warbler Walks.  Start your weekdays watching warblers and other spring migrants in the park with our rotating crew of expert leaders. Meet at the parking lot at the end of Conklin Lane\, off N. Dodge St.
URL:https://iowacitybirdclub.org/event/hickory-hill-park-warbler-walks-28/
LOCATION:Hickory Hill Park\, 1439 E Bloomington St\, Iowa City\, IA 52240\, USA
END:VEVENT
BEGIN:VEVENT
DTSTART;TZID=America/Chicago:20230501T063000
DTEND;TZID=America/Chicago:20230501T080000
DTSTAMP:20260424T015158
CREATED:20230412T190031Z
LAST-MODIFIED:20230501T125609Z
UID:20818-1682922600-1682928000@iowacitybirdclub.org
SUMMARY:Hickory Hill Park Warbler Walks
DESCRIPTION:April 26 – May 26\, Weekdays\, Mon-Fri\, 6:30-8:00 a.m.\,  Hickory Hill Park Warbler Walks.  Start your weekdays watching warblers and other spring migrants in the park with our rotating crew of expert leaders. Meet at the parking lot at the end of Conklin Lane\, off N. Dodge St.
URL:https://iowacitybirdclub.org/event/hickory-hill-park-warbler-walks-27/
LOCATION:Hickory Hill Park\, 1439 E Bloomington St\, Iowa City\, IA 52240\, USA
END:VEVENT
BEGIN:VEVENT
DTSTART;TZID=America/Chicago:20230430T080000
DTEND;TZID=America/Chicago:20230430T120000
DTSTAMP:20260424T015158
CREATED:20230412T193516Z
LAST-MODIFIED:20230430T164446Z
UID:20852-1682841600-1682856000@iowacitybirdclub.org
SUMMARY:Special Event: Supporting Birds Near and Far
DESCRIPTION: Special Event: Supporting Birds Near and Far. April 30\, Sunday\, 8 a.m. Terry Trueblood Recreation Area Join the Iowa City Bird Club\, Audubon Center of Riverlands\, MO\, and the Iowa City Parks & Recreation Department for this event\, featuring a guided bird walk with leader Jason Paulios from 8:00 – 10:00\, followed by a presentation inside the lodge from 10:00-11:00. Come for one or both activities. Educators from Audubon will describe strategies you can take to support birds near and far\, while the Iowa City Bird Club and Iowa City Parks and Recreation will share ways to get involved locally.  \nThere is no fee for this event\, but space on the bird walk is limited\, and pre-registration for the walk is required here: http://bit.ly/406xFuB.
URL:https://iowacitybirdclub.org/event/special-event-supporting-birds-near-and-far/
LOCATION:Terry Trueblood Recreation Area\, 579 McCollister Blvd\, Iowa City\, IA 52240\, USA
END:VEVENT
BEGIN:VEVENT
DTSTART;VALUE=DATE:20230429
DTEND;VALUE=DATE:20230501
DTSTAMP:20260424T015158
CREATED:20230412T190031Z
LAST-MODIFIED:20230429T233628Z
UID:20817-1682740800-1682827199@iowacitybirdclub.org
SUMMARY:IOU's 100th Anniversary Kick-off Bird Count
DESCRIPTION: April 29\, Saturday. Iowa Ornithologists’ Union 100th Anniversary Kick-off Bird Count: Get your warbler ID skills sharpened up for spring migration and help celebrate the 100th Anniversary of the IOU with this one day statewide bird count. Visit www.iowabirds.org for more information.
URL:https://iowacitybirdclub.org/event/ious-100th-anniversary-kick-off-bird-count/
LOCATION:IA
END:VEVENT
BEGIN:VEVENT
DTSTART;TZID=America/Chicago:20230428T063000
DTEND;TZID=America/Chicago:20230428T080000
DTSTAMP:20260424T015158
CREATED:20230412T190031Z
LAST-MODIFIED:20230428T123541Z
UID:20816-1682663400-1682668800@iowacitybirdclub.org
SUMMARY:Hickory Hill Park Warbler Walks
DESCRIPTION:April 26 – May 26\, Weekdays\, Mon-Fri\, 6:30-8:00 a.m.\,  Hickory Hill Park Warbler Walks.  Start your weekdays watching warblers and other spring migrants in the park with our rotating crew of expert leaders. Meet at the parking lot at the end of Conklin Lane\, off N. Dodge St.
URL:https://iowacitybirdclub.org/event/hickory-hill-park-warbler-walks-26/
LOCATION:Hickory Hill Park\, 1439 E Bloomington St\, Iowa City\, IA 52240\, USA
END:VEVENT
BEGIN:VEVENT
DTSTART;TZID=America/Chicago:20230427T063000
DTEND;TZID=America/Chicago:20230427T080000
DTSTAMP:20260424T015158
CREATED:20230412T190031Z
LAST-MODIFIED:20230427T125440Z
UID:20815-1682577000-1682582400@iowacitybirdclub.org
SUMMARY:Hickory Hill Park Warbler Walks
DESCRIPTION:April 26 – May 26\, Weekdays\, Mon-Fri\, 6:30-8:00 a.m.\,  Hickory Hill Park Warbler Walks.  Start your weekdays watching warblers and other spring migrants in the park with our rotating crew of expert leaders. Meet at the parking lot at the end of Conklin Lane\, off N. Dodge St.
URL:https://iowacitybirdclub.org/event/hickory-hill-park-warbler-walks-25/
LOCATION:Hickory Hill Park\, 1439 E Bloomington St\, Iowa City\, IA 52240\, USA
END:VEVENT
BEGIN:VEVENT
DTSTART;TZID=America/Chicago:20230426T063000
DTEND;TZID=America/Chicago:20230426T080000
DTSTAMP:20260424T015158
CREATED:20230412T190031Z
LAST-MODIFIED:20230426T123838Z
UID:20814-1682490600-1682496000@iowacitybirdclub.org
SUMMARY:Hickory Hill Park Warbler Walks
DESCRIPTION:April 26 – May 26\, Weekdays\, Mon-Fri\, 6:30-8:00 a.m.\,  Hickory Hill Park Warbler Walks.  Start your weekdays watching warblers and other spring migrants in the park with our rotating crew of expert leaders. Meet at the parking lot at the end of Conklin Lane\, off N. Dodge St.
URL:https://iowacitybirdclub.org/event/hickory-hill-park-warbler-walks-24/
LOCATION:Hickory Hill Park\, 1439 E Bloomington St\, Iowa City\, IA 52240\, USA
END:VEVENT
BEGIN:VEVENT
DTSTART;TZID=America/Chicago:20230420T184500
DTEND;TZID=America/Chicago:20230420T203000
DTSTAMP:20260424T015158
CREATED:20230207T160622Z
LAST-MODIFIED:20230421T011357Z
UID:20252-1682016300-1682022600@iowacitybirdclub.org
SUMMARY:IC Bird Club Meeting
DESCRIPTION:April 20th\, Thursday\, 7 p.m. In-Person and Zoom meeting at the Kent Park CEC: Join us for the return of our in-person meetings! Doug Harr\, former Iowa DNR State Coordinator of the Wildlife Diversity Program and current President of Iowa Audubon\, will present “Once Upon a Time… in Iowa” about the history of wildlife in Iowa.    \nJoin Zoom Meeting https://us02web.zoom.us/j/84016553191?pwd=T09yK3k1M2lpZXFIemF2NGo1Ri9UZz09  \nMeeting ID: 840 1655 3191  \nPasscode: 271288
URL:https://iowacitybirdclub.org/event/ic-bird-club/
LOCATION:Kent Park\, 2048 US-6 NW\, Oxford\, IA 52322\, USA
END:VEVENT
BEGIN:VEVENT
DTSTART;TZID=America/Chicago:20230418T190000
DTEND;TZID=America/Chicago:20230418T203000
DTSTAMP:20260424T015158
CREATED:20230131T161247Z
LAST-MODIFIED:20230419T005815Z
UID:20230-1681844400-1681849800@iowacitybirdclub.org
SUMMARY:Introduction to Birding Course
DESCRIPTION: Introduction to Birding Course: Basics of Birding at the Conservation Education Center in Kent Park. Learn about birding techniques\, equipment\, bird identification and more! Sign up for one session or all 6!  Advanced registration is requested\, and is free to club members. Call (319) 645-1011 to register.  \nhttps://iowacitybirdclub.org/beginners-course/
URL:https://iowacitybirdclub.org/event/introduction-to-birding-course-7/
LOCATION:Kent Park\, 2048 US-6 NW\, Oxford\, IA 52322\, USA
END:VEVENT
BEGIN:VEVENT
DTSTART;TZID=America/Chicago:20230411T190000
DTEND;TZID=America/Chicago:20230411T203000
DTSTAMP:20260424T015158
CREATED:20230131T161246Z
LAST-MODIFIED:20230412T011016Z
UID:20229-1681239600-1681245000@iowacitybirdclub.org
SUMMARY:Introduction to Birding Course
DESCRIPTION: Introduction to Birding Course: Basics of Birding at the Conservation Education Center in Kent Park. Learn about birding techniques\, equipment\, bird identification and more! Sign up for one session or all 6!  Advanced registration is requested\, and is free to club members. Call (319) 645-1011 to register.  \nhttps://iowacitybirdclub.org/beginners-course/
URL:https://iowacitybirdclub.org/event/introduction-to-birding-course-6/
LOCATION:Kent Park\, 2048 US-6 NW\, Oxford\, IA 52322\, USA
END:VEVENT
BEGIN:VEVENT
DTSTART;TZID=America/Chicago:20230404T190000
DTEND;TZID=America/Chicago:20230404T203000
DTSTAMP:20260424T015158
CREATED:20230131T161246Z
LAST-MODIFIED:20230405T011540Z
UID:20228-1680634800-1680640200@iowacitybirdclub.org
SUMMARY:Class Cancelled Due to Weather
DESCRIPTION: Introduction to Birding Course: Basics of Birding at the Conservation Education Center in Kent Park. Learn about birding techniques\, equipment\, bird identification and more! Sign up for one session or all 6!  Advanced registration is requested\, and is free to club members. Call (319) 645-1011 to register.  \nhttps://iowacitybirdclub.org/beginners-course/
URL:https://iowacitybirdclub.org/event/introduction-to-birding-course-5/
LOCATION:Kent Park\, 2048 US-6 NW\, Oxford\, IA 52322\, USA
END:VEVENT
BEGIN:VEVENT
DTSTART;TZID=America/Chicago:20230328T190000
DTEND;TZID=America/Chicago:20230328T203000
DTSTAMP:20260424T015158
CREATED:20230131T161234Z
LAST-MODIFIED:20230328T225846Z
UID:20227-1680030000-1680035400@iowacitybirdclub.org
SUMMARY:Introduction to Birding Course
DESCRIPTION: Introduction to Birding Course: Basics of Birding at the Conservation Education Center in Kent Park. Learn about birding techniques\, equipment\, bird identification and more! Sign up for one session or all 6!  Advanced registration is requested\, and is free to club members. Call (319) 645-1011 to register.  \nhttps://iowacitybirdclub.org/beginners-course/
URL:https://iowacitybirdclub.org/event/introduction-to-birding-course-4/
LOCATION:Kent Park\, 2048 US-6 NW\, Oxford\, IA 52322\, USA
END:VEVENT
BEGIN:VEVENT
DTSTART;TZID=America/Chicago:20230325T090000
DTEND;TZID=America/Chicago:20230325T150000
DTSTAMP:20260424T015158
CREATED:20230301T014135Z
LAST-MODIFIED:20230301T014621Z
UID:20298-1679734800-1679756400@iowacitybirdclub.org
SUMMARY:15th Annual Purple Martin Workshop/Seminar
DESCRIPTION:An active Purple Martin colony brings joy to everyone. If you want to establish a new\n\n\ncolony or improve an existing one\, this meeting is for you. Beginners and experts will\nbenefit from the ideas and strategies that will be shared at this program.\n\n\n\nFor more information\, or to reserve booth space\, please contact:\nEvan Gingerich\, 2282 Johnson-Washington Rd. SW\, Kalona\, IA 52247 (319) 359-0997\nor Jim Walters at (319) 466-1134\n\n\n\n\n\nLocation:\nCAM Iowa Clothing Center\n(1005 Nutmeg Ave. Kalona\, Iowa)\n1.8 miles north of Kalona\, IA and one mile\neast on Johnson/Washington Rd. off Hwy 1.\nWatch for signs.\n\n\n\nSchedule:\n8:00 A.M. Building opens\n8:30 A.M. Registration & coffee and doughnuts for early birds\n9:00 A.M.  Introductions\n9:10 A.M. “Monitoring Kent Park Bluebirds: Learning the Hard Way.” Ben Rowald\, Iowa City\, IA\n10:10 A.M. “Attracting Birds to Your Yard.” Ivan Ray Miller\, Jamesport\, MO\n11:10 A.M. “Martins Pearl Button Collecting.”Bruce Hochstetler\, Wellman\, IA\n11:30 A.M. Break\, Lunch available on site\n(free will offering to CAM Center appreciated)\n1:00 P.M. “Purple Martins for the People.” Tim Gedler\, West Des Moines\, IA\n2:00 P.M. Questions and Answers. Panel of veteran martin landlords\n2:30 P.M. Door Prizes & Auction
URL:https://iowacitybirdclub.org/event/15th-annual-purple-martin-workshop-seminar/
LOCATION:CAM Iowa Clothing Center\, 1005 Nutmeg Avenue\, Kalona\, Iowa\, 52247
END:VEVENT
BEGIN:VEVENT
DTSTART;TZID=UTC:20230323T163000
DTEND;TZID=UTC:20230323T190000
DTSTAMP:20260424T015158
CREATED:20230128T192955Z
LAST-MODIFIED:20230128T192955Z
UID:20212-1679589000-1679598000@iowacitybirdclub.org
SUMMARY:Prairie Preview
DESCRIPTION:Join us for this community event that feels like a family reunion! Learn about environmental groups and how you can take action. Free and open to the public. \nKeynote speaker Connie Mutel will share visionary ideas promoting biodiversity and hope from her latest book\, Tending Iowa’s Land: Pathways to a Sustainable Future. \nBook contributor and Bur Oak Land Trust Board President\, Larry Weber will speak about his water-focused vision for land management. \n25+ organizations represented Light refreshments available
URL:https://iowacitybirdclub.org/event/prairie-preview/
LOCATION:The Center (Formerly the Senior Center)\, 28 S. Linn Street\, Iowa City\, IA\, 52240\, United States
END:VEVENT
BEGIN:VEVENT
DTSTART;TZID=America/Chicago:20230321T190000
DTEND;TZID=America/Chicago:20230321T203000
DTSTAMP:20260424T015158
CREATED:20230131T161234Z
LAST-MODIFIED:20230321T184006Z
UID:20226-1679425200-1679430600@iowacitybirdclub.org
SUMMARY:Introduction to Birding Course
DESCRIPTION: Introduction to Birding Course: Basics of Birding at the Conservation Education Center in Kent Park. Learn about birding techniques\, equipment\, bird identification and more! Sign up for one session or all 6!  Advanced registration is requested\, and is free to club members. Call (319) 645-1011 to register.  \nhttps://iowacitybirdclub.org/beginners-course/
URL:https://iowacitybirdclub.org/event/introduction-to-birding-course-3/
LOCATION:Kent Park\, 2048 US-6 NW\, Oxford\, IA 52322\, USA
END:VEVENT
BEGIN:VEVENT
DTSTART;TZID=America/Chicago:20230318T080000
DTEND;TZID=America/Chicago:20230318T120000
DTSTAMP:20260424T015158
CREATED:20221215T232308Z
LAST-MODIFIED:20230317T172801Z
UID:20050-1679126400-1679140800@iowacitybirdclub.org
SUMMARY:Cone Marsh: Postponed to 19 March
DESCRIPTION:Postponed until 19 March 2023 \n 
URL:https://iowacitybirdclub.org/event/field-trip-cone-marsh-4/
LOCATION:Fin & Feather Inc\, 125 IA-1\, Iowa City\, IA 52246\, USA\, United States
END:VEVENT
BEGIN:VEVENT
DTSTART;TZID=America/Chicago:20230316T184500
DTEND;TZID=America/Chicago:20230316T204500
DTSTAMP:20260424T015158
CREATED:20221207T023024Z
LAST-MODIFIED:20230316T171453Z
UID:19989-1678992300-1678999500@iowacitybirdclub.org
SUMMARY:IC Bird Club
DESCRIPTION: March 16th Thursday\, 7 p.m. Zoom Meeting: Bob Dolgan will host a showing of his nature film“The Magic Stump\,” the story of an Illinois tree stump that’s attracted a phenomenal variety of wintering raptors over the years\, including two rare Prairie Falcons. The goal of “The Magic Stump” is to draw attention to the story of raptors that winter in our highly altered agricultural landscape. Bob will introducethe film and answer questions afterwards. \nJoin Zoom Meeting \nhttps://us02web.zoom.us/j/84016553191?pwd=T09yK3k1M2lpZXFIemF2NGo1Ri9UZz09  \nMeeting ID: 840 1655 3191  \nPasscode: 271288  
URL:https://iowacitybirdclub.org/event/bird-club-meeting-32/
LOCATION:IA
END:VEVENT
BEGIN:VEVENT
DTSTART;TZID=America/Chicago:20230314T190000
DTEND;TZID=America/Chicago:20230314T203000
DTSTAMP:20260424T015158
CREATED:20221215T232308Z
LAST-MODIFIED:20230314T235855Z
UID:20049-1678820400-1678825800@iowacitybirdclub.org
SUMMARY:Introduction to Birding Course
DESCRIPTION: Introduction to Birding Course: Basics of Birding at the Conservation Education Center in Kent Park. Learn about birding techniques\, equipment\, bird identification and more! Sign up for one session or all 6!  Advanced registration is requested\, and is free to club members. Call (319) 645-1011 to register.  \nhttps://iowacitybirdclub.org/beginners-course/
URL:https://iowacitybirdclub.org/event/introduction-to-birding-course-2/
LOCATION:Kent Park\, 2048 US-6 NW\, Oxford\, IA 52322\, USA
END:VEVENT
BEGIN:VEVENT
DTSTART;TZID=America/Chicago:20230216T184500
DTEND;TZID=America/Chicago:20230216T204500
DTSTAMP:20260424T015158
CREATED:20221207T023024Z
LAST-MODIFIED:20230216T185104Z
UID:19988-1676573100-1676580300@iowacitybirdclub.org
SUMMARY:IC Bird Club
DESCRIPTION:February 16h\, Thursday\, 7 p.m. Zoom Meeting: Dean Hester will present “Owls of the ABA Area.”Dean is a talented local artist\, photographer\, and birder with an M.S. in Paleontology from the Universityof Iowa. He has photographed most of the owls found in the United States. \nJoin Zoom Meeting \nhttps://us02web.zoom.us/j/84016553191?pwd=T09yK3k1M2lpZXFIemF2NGo1Ri9UZz09  \nMeeting ID: 840 1655 3191  \nPasscode: 271288  
URL:https://iowacitybirdclub.org/event/bird-club-meeting-31/
LOCATION:IA
END:VEVENT
BEGIN:VEVENT
DTSTART;TZID=America/Chicago:20230204T073000
DTEND;TZID=America/Chicago:20230204T183000
DTSTAMP:20260424T015158
CREATED:20221211T024307Z
LAST-MODIFIED:20230204T182345Z
UID:20033-1675495800-1675535400@iowacitybirdclub.org
SUMMARY:Building Better Birders Workshop
DESCRIPTION: Building Better Birders Workshop.  Saturday\, February 4\, 2023.  Click link below to see schedule of activities.  Register for this free workshop online at link below or call 319-645-1011.    \nWant to learn more about birds? Join Johnson County Conservation at Kent Park in Oxford\, Iowa for a full day of outdoor bird watching\, a federal bird banding presentation\, and indoor lectures.  Please try to commit to the full day of activities.   \nhttps://www.mycountyparks.com/County/Johnson/Park/JOHNSON-COUNTY-EDUCATION-PROGRAMS/Events/21788/Building-Better-Birders-Workshop-Series-February-2023-Workshop.aspx \nThis workshop is part of a series of workshops offered across Iowa with funding provided REAP-CEP.  Program instructor is Kelly McKay; see more info here  https://buildingbetterbirders.com/ Members of ICBC will lend a hand in providing expertise on the bird hikes.  Please join us! 
URL:https://iowacitybirdclub.org/event/building-better-birders-workshop/
LOCATION:Kent Park 2048 US-6\, Oxford\, IA 52322\, USA\, 2048 US-6\, Oxford\, IA\, 52322\, United States
END:VEVENT
BEGIN:VEVENT
DTSTART;VALUE=DATE:20221218
DTEND;VALUE=DATE:20221220
DTSTAMP:20260424T015158
CREATED:20220915T065157Z
LAST-MODIFIED:20221218T234709Z
UID:19760-1671336000-1671422399@iowacitybirdclub.org
SUMMARY:Iowa City Christmas Bird Count
DESCRIPTION:Iowa City Christmas Bird Count -SAVE THE DATE- More information to follow. \n-observation and Feeder watch. More information to follow.
URL:https://iowacitybirdclub.org/event/iowa-city-christmas-bird-count-4/
LOCATION:IA
END:VEVENT
BEGIN:VEVENT
DTSTART;TZID=America/Chicago:20221009T070000
DTEND;TZID=America/Chicago:20221009T120000
DTSTAMP:20260424T015158
CREATED:20220915T065157Z
LAST-MODIFIED:20220915T065157Z
UID:19752-1665298800-1665316800@iowacitybirdclub.org
SUMMARY:The Big Sit! Drop in
DESCRIPTION:The Big Sit! at Sugar Bottom Recreation Area Day Use Area\, 2192 Mehaffey Bridge Rd. NE\, Solon.  Drop in anytime between 7a.m. – 12 p.m. to count birds and enjoy the camaraderie\, free coffee\, and donuts.   The objective of this worldwide\, semi-competitive birding event is to tally as many bird species as can be seen or heard from within a 17-foot circle. \nJoin ICBC host Terri Macey near the parking lot at the Day Use Area\, near the beach and restrooms. Bring a chair and binoculars. For more information\, visit https://www.thebigsit.org/.
URL:https://iowacitybirdclub.org/event/the-big-sit-drop-in-4/
LOCATION:Sugar Bottom Recreational Area\, 2192 Mehaffey Bridge Rd NE\, Solon\, IA 52333\, USA
END:VEVENT
BEGIN:VEVENT
DTSTART;TZID=UTC:20220918T090000
DTEND;TZID=UTC:20220918T130000
DTSTAMP:20260424T015158
CREATED:20220911T043856Z
LAST-MODIFIED:20220911T043856Z
UID:19699-1663491600-1663506000@iowacitybirdclub.org
SUMMARY:Hawk Watch at Stainbrook Preserve
DESCRIPTION:September 18\, Sunday\, 9 a.m. – 1 p.m.  Hawk Watch at Stainbrook Preserve\, located along Mehaffey Bridge Road just north of Sugar Bottom Recreation Area. Join us on the hill to watch for migrating raptors including Broad-winged Hawk\, Sharp-shinned Hawk\, Cooper’s Hawk\, and Red-tailed Hawk. Bring a lawn chair\, and a spotting scope if you have one. \nDirections: park on the north shoulder pull-off just east of Mehaffey Bridge. Look for the Stainbrook Preserve sign and follow the short path up the hill. \nFind a map here and below .
URL:https://iowacitybirdclub.org/event/hawk-watch-at-stainbrook-preserve/
LOCATION:IA
END:VEVENT
BEGIN:VEVENT
DTSTART;TZID=UTC:20220911T110000
DTEND;TZID=UTC:20220911T160000
DTSTAMP:20260424T015158
CREATED:20220908T185627Z
LAST-MODIFIED:20220908T185627Z
UID:19686-1662894000-1662912000@iowacitybirdclub.org
SUMMARY:Pelican Festival
DESCRIPTION:Annual Pelican Festival. View these magnificent birds through provided scopes. Attend lectures and view booths of local and state wildlife organizations. \nLocation:  2564 Amana Road NW\, Swisher events are free. \nFor more information see below: View Fullscreen \n 
URL:https://iowacitybirdclub.org/event/pelican-festival-6/
LOCATION:IA
END:VEVENT
BEGIN:VEVENT
DTSTART;TZID=UTC:20220903T000000
DTEND;TZID=UTC:20220905T235900
DTSTAMP:20260424T015158
CREATED:20220816T192155Z
LAST-MODIFIED:20220817T011510Z
UID:19624-1662163200-1662422340@iowacitybirdclub.org
SUMMARY:Cy-Hawk Big Day Challenge
DESCRIPTION:Labor Day Weekend is the Cy-Hawk Big Day Challenge. It’s the Iowa City Hawkeyes (Iowa City Bird Club) vs. Ames Cyclones (Big Bluestem Audubon Society)\, in a competition to find the most bird species.  Birders from across Iowa can participate with either team in the designated area. Last year BBAS found a whopping 142 species to ICBC’s tally of 127.  This year organizers have expanded to a three-day event with lots of flexibility for participation.  Pick one calendar day of Sept. 3\, 4\, or 5.  Pick a birding group of friends or go individually.  Pick your own route within these counties:  Johnson\, Linn\, Louisa\, Des Moines and Lee. Cyclone counties are Polk\, Greene\, Boone\, Story\, and Jasper.  Our Hawkeye strategy will be to coordinate our locations to cover as much area as possible.  So please register ahead with your name(s) and desired locations\, or ask Chris if you want location suggestions. Competition rules and more information can be found here: https://iowacitybirdclub.org/cy-hawk-challenge/.  Each participant is asked to donate $5 or more to support the bird conservation programs of Iowa Audubon. Register with Iowa City Bird Club ASAP with Chris Edwards at credwards@aol.com (preferred) or by phone/text at 319-430-4732.  To register with Big Bluestem Audubon Society contact Eric Ollie at uphawkeye@gmail.com. Go Hawks!
URL:https://iowacitybirdclub.org/event/cy-hawk-big-day-challenge-4/
LOCATION:IA
END:VEVENT
BEGIN:VEVENT
DTSTART;VALUE=DATE:20220723
DTEND;VALUE=DATE:20220725
DTSTAMP:20260424T015158
CREATED:20220417T070142Z
LAST-MODIFIED:20220723T113833Z
UID:19338-1658548800-1658635199@iowacitybirdclub.org
SUMMARY:Iowa City Butterfly Count
DESCRIPTION:July 23\, Saturday\, Iowa City Butterfly Count.  Now in its 24th year\, the local count is part of the North American Butterfly Association’s Fourth of July Butterfly Count program.   \nWe’ll visit Kent Park\, Hawkeye Wildlife Management Area\, Lake Macbride\, and other areas totally as many butterfly species and individuals as we can find.   \nTo participate\, contact Chris Edwards by July 20 at 319-430-4732 or credwards@aol.com. 
URL:https://iowacitybirdclub.org/event/iowa-city-butterfly-count/
LOCATION:IA
END:VEVENT
BEGIN:VEVENT
DTSTART;TZID=America/Chicago:20220717T160000
DTEND;TZID=America/Chicago:20220717T190000
DTSTAMP:20260424T015158
CREATED:20220417T070130Z
LAST-MODIFIED:20220717T102247Z
UID:19337-1658073600-1658084400@iowacitybirdclub.org
SUMMARY:Bird Club Potluck Picnic
DESCRIPTION: July 17\, Sunday\, 4p.m.  Iowa City Bird Club Potluck Picnic at Lake Macbride.  Located at Sailboat Shelter #1 at the north end of Sail Boat Road NE\, Solon\, near the south shore of the north arm of the lake.  Restrooms are nearby. Enjoy the company of old and new birding friends with picnic foods and a beautiful park ambience. Bring a dish to share\, your own drink\, and table service. An optional bird walk will begin about 6:00 p.m.
URL:https://iowacitybirdclub.org/event/bird-club-potluck-picnic-2/
LOCATION:Lake Macbride State Park\, 3525 Hwy 382 NE\, Solon\, IA 52333\, USA
END:VEVENT
END:VCALENDAR