BEGIN:VCALENDAR
VERSION:2.0
PRODID:-//Iowa City Bird Club - ECPv6.15.3//NONSGML v1.0//EN
CALSCALE:GREGORIAN
METHOD:PUBLISH
X-ORIGINAL-URL:https://iowacitybirdclub.org
X-WR-CALDESC:Events for Iowa City Bird Club
REFRESH-INTERVAL;VALUE=DURATION:PT1H
X-Robots-Tag:noindex
X-PUBLISHED-TTL:PT1H
BEGIN:VTIMEZONE
TZID:America/Chicago
BEGIN:DAYLIGHT
TZOFFSETFROM:-0600
TZOFFSETTO:-0500
TZNAME:CDT
DTSTART:20260308T080000
END:DAYLIGHT
BEGIN:STANDARD
TZOFFSETFROM:-0500
TZOFFSETTO:-0600
TZNAME:CST
DTSTART:20261101T070000
END:STANDARD
END:VTIMEZONE
BEGIN:VEVENT
DTSTART;TZID=America/Chicago:20260418T080000
DTEND;TZID=America/Chicago:20260418T120000
DTSTAMP:20260423T094233
CREATED:20251229T182452Z
LAST-MODIFIED:20260418T164717Z
UID:53714-1776499200-1776513600@iowacitybirdclub.org
SUMMARY:Beginner Field Trip: LAKE MACBRIDE
DESCRIPTION: LAKE MACBRIDE Beginning birder trip for current or past participants in the Introduction to Birding Course. Targets are water birds and other early spring migrants. We’ll stop at various points around the lake.  \nMeet at the North Liberty Community Center\, 520 W Cherry St.\, on the north side of the building\, and carpool from there. If you are familiar with Lake Macbride and feel comfortable\, you can meet up with us at the Sailboat Shelter 1 parking lot in Lake Macbride State Park around 8:20 a.m. 
URL:https://iowacitybirdclub.org/event/beginner-field-trip-lake-macbride-2/
LOCATION:Lake Macbride State Park\, 3525 State Hwy 382\, Solon\, IA\, United States
END:VEVENT
BEGIN:VEVENT
DTSTART;TZID=America/Chicago:20260419T080000
DTEND;TZID=America/Chicago:20260419T123000
DTSTAMP:20260423T094233
CREATED:20260331T222437Z
LAST-MODIFIED:20260419T171549Z
UID:55961-1776585600-1776601800@iowacitybirdclub.org
SUMMARY:Field Trip: Corriell Nature Preserve
DESCRIPTION:Corriell Nature Preserve in Muscatine County:  Jason Paulios will guide us in exploring this 200-acre Bur Oak Land Trust property that includes wetlands\, remnant savanna\, and sand prairie. Hiking terrain will be a mix of mowed and rough trails. An April 2022 outing by the birdclub found 49 species\, including Snow Goose\, Osprey\, Cooper’s Hawk\, Bald Eagle\, Broad-wingedHawk\, Brown Thrasher\, and Yellow Warbler.  \nMeet Jason at the Fareway parking lot\, 2765 Commerce Dr.\, Iowa City. Destination is about 30 minutes from Iowa City. Directions will be provided for those driving separately. No bathrooms on site. Return time is about 12:30.
URL:https://iowacitybirdclub.org/event/field-trip-corriell-nature-preserve/
LOCATION:IA
END:VEVENT
BEGIN:VEVENT
DTSTART;TZID=America/Chicago:20260421T190000
DTEND;TZID=America/Chicago:20260421T200000
DTSTAMP:20260423T094233
CREATED:20251229T182453Z
LAST-MODIFIED:20260422T000113Z
UID:53715-1776798000-1776801600@iowacitybirdclub.org
SUMMARY:Introduction to Birding Course: Backyard & Feeder Birds
DESCRIPTION:Introduction to Birding Course: BACKYARD AND FEEDER BIRDS CLASS  at the Iowa City Environmental Education Center\, 2401 Scott Blvd\, Iowa City. This session will cover the common birds found in our backyards during the year\, and what types of feeders and food to use to attract them.  \nClick below link for class schedulehttps://iowacitybirdclub.org/beginners-course/
URL:https://iowacitybirdclub.org/event/introduction-to-birding-course-backyard-feeder-birds-2/
LOCATION:Environmental Education Center 2401 Scott Blvd SE\, Iowa City\, IA\, United States
END:VEVENT
BEGIN:VEVENT
DTSTART;TZID=America/Chicago:20260425T080000
DTEND;TZID=America/Chicago:20260425T120000
DTSTAMP:20260423T094233
CREATED:20251229T182455Z
LAST-MODIFIED:20260423T133038Z
UID:53716-1777104000-1777118400@iowacitybirdclub.org
SUMMARY:Beginner Field Trip: HAWKEYE WILDLIFE AREA
DESCRIPTION: HAWKEYE WILDLIFE AREA Beginning birder trip for current or past participants in the Introduction to Birding Course. We expect to see ducks\, geese\, American White Pelicans\, and other early spring migrants. Wear boots for walking in wet areas\, and bring a spotting scope if you have one.  \nWe’ll carpool from the North Liberty Community Center\, 520 W Cherry St.\, on the north side of the building.
URL:https://iowacitybirdclub.org/event/beginner-field-trip-hawkeye-wildlife-area-2/
LOCATION:Hawkeye Wildlife Management Area\, Oxford\, IA\, United States
END:VEVENT
BEGIN:VEVENT
DTSTART;TZID=America/Chicago:20260427T063000
DTEND;TZID=America/Chicago:20260427T080000
DTSTAMP:20260423T094233
CREATED:20260331T155500Z
LAST-MODIFIED:20260423T133040Z
UID:55915-1777271400-1777276800@iowacitybirdclub.org
SUMMARY:Hickory Hill Park Warbler Walks
DESCRIPTION:April 28 \nApril 27 – May 22\, Weekdays\, Mon-Fri\, 6:30-8:00 a.m.\,  Hickory Hill Park Warbler Walks.  Start your weekdays watching warblers and other spring migrants in the park with our rotating crew of expert leaders.  \nMeet at the north parking lot at 800 Conklin Lane\, off N. Dodge St.
URL:https://iowacitybirdclub.org/event/hickory-hill-park-warbler-walks-87/
LOCATION:Hickory Hill Park\, 1439 E Bloomington St\, Iowa City\, IA\, United States
END:VEVENT
BEGIN:VEVENT
DTSTART;TZID=America/Chicago:20260428T063000
DTEND;TZID=America/Chicago:20260428T080000
DTSTAMP:20260423T094233
CREATED:20260331T211023Z
LAST-MODIFIED:20260423T133043Z
UID:55929-1777357800-1777363200@iowacitybirdclub.org
SUMMARY:Hickory Hill Park Warbler Walks
DESCRIPTION:April 28 \nApril 27 – May 22\, Weekdays\, Mon-Fri\, 6:30-8:00 a.m.\,  Hickory Hill Park Warbler Walks.  Start your weekdays watching warblers and other spring migrants in the park with our rotating crew of expert leaders.  \nMeet at the north parking lot at 800 Conklin Lane\, off N. Dodge St.
URL:https://iowacitybirdclub.org/event/hickory-hill-park-warbler-walks-88/
LOCATION:Hickory Hill Park\, 1439 E Bloomington St\, Iowa City\, IA\, United States
END:VEVENT
BEGIN:VEVENT
DTSTART;TZID=America/Chicago:20260428T190000
DTEND;TZID=America/Chicago:20260428T200000
DTSTAMP:20260423T094233
CREATED:20251229T182456Z
LAST-MODIFIED:20260423T133044Z
UID:53717-1777402800-1777406400@iowacitybirdclub.org
SUMMARY:Introduction to Birding Course: Birds of Iowa
DESCRIPTION:Introduction to Birding Course: BIRDS OF IOWA CLASS  at the Iowa City Environmental Education Center\, 2401 Scott Blvd\, Iowa City.  Learn about Summer residents that nest here and birds that migratethrough Iowa in spring and fall.  \nClick below link for class schedulehttps://iowacitybirdclub.org/beginners-course/
URL:https://iowacitybirdclub.org/event/introduction-to-birding-course-birds-of-iowa-2/
LOCATION:Environmental Education Center 2401 Scott Blvd SE\, Iowa City\, IA\, United States
END:VEVENT
BEGIN:VEVENT
DTSTART;TZID=America/Chicago:20260429T063000
DTEND;TZID=America/Chicago:20260429T080000
DTSTAMP:20260423T094233
CREATED:20260331T211026Z
LAST-MODIFIED:20260423T133046Z
UID:55930-1777444200-1777449600@iowacitybirdclub.org
SUMMARY:Hickory Hill Park Warbler Walks
DESCRIPTION:April 28 \nApril 27 – May 22\, Weekdays\, Mon-Fri\, 6:30-8:00 a.m.\,  Hickory Hill Park Warbler Walks.  Start your weekdays watching warblers and other spring migrants in the park with our rotating crew of expert leaders.  \nMeet at the north parking lot at 800 Conklin Lane\, off N. Dodge St.
URL:https://iowacitybirdclub.org/event/hickory-hill-park-warbler-walks-89/
LOCATION:Hickory Hill Park\, 1439 E Bloomington St\, Iowa City\, IA\, United States
END:VEVENT
BEGIN:VEVENT
DTSTART;TZID=America/Chicago:20260430T063000
DTEND;TZID=America/Chicago:20260430T080000
DTSTAMP:20260423T094233
CREATED:20260331T211027Z
LAST-MODIFIED:20260423T133048Z
UID:55931-1777530600-1777536000@iowacitybirdclub.org
SUMMARY:Hickory Hill Park Warbler Walks
DESCRIPTION:April 28 \nApril 27 – May 22\, Weekdays\, Mon-Fri\, 6:30-8:00 a.m.\,  Hickory Hill Park Warbler Walks.  Start your weekdays watching warblers and other spring migrants in the park with our rotating crew of expert leaders.  \nMeet at the north parking lot at 800 Conklin Lane\, off N. Dodge St.
URL:https://iowacitybirdclub.org/event/hickory-hill-park-warbler-walks-90/
LOCATION:Hickory Hill Park\, 1439 E Bloomington St\, Iowa City\, IA\, United States
END:VEVENT
BEGIN:VEVENT
DTSTART;TZID=America/Chicago:20260501T063000
DTEND;TZID=America/Chicago:20260501T080000
DTSTAMP:20260423T094233
CREATED:20260331T211028Z
LAST-MODIFIED:20260423T133050Z
UID:55932-1777617000-1777622400@iowacitybirdclub.org
SUMMARY:Hickory Hill Park Warbler Walks
DESCRIPTION:April 28 \nApril 27 – May 22\, Weekdays\, Mon-Fri\, 6:30-8:00 a.m.\,  Hickory Hill Park Warbler Walks.  Start your weekdays watching warblers and other spring migrants in the park with our rotating crew of expert leaders.  \nMeet at the north parking lot at 800 Conklin Lane\, off N. Dodge St.
URL:https://iowacitybirdclub.org/event/hickory-hill-park-warbler-walks-91/
LOCATION:Hickory Hill Park\, 1439 E Bloomington St\, Iowa City\, IA\, United States
END:VEVENT
BEGIN:VEVENT
DTSTART;TZID=America/Chicago:20260502T080000
DTEND;TZID=America/Chicago:20260502T120000
DTSTAMP:20260423T094233
CREATED:20251229T182508Z
LAST-MODIFIED:20260423T133051Z
UID:53718-1777708800-1777723200@iowacitybirdclub.org
SUMMARY:Beginner Field Trip: WATERWORKS PRAIRIE PARK
DESCRIPTION: WATERWORKS PRAIRIE PARK Beginning birder trip for current or past participants in the Introduction to Birding Course. Visit this Iowa City park with accessible paved trails for woodland\, prairie\, and wetland species.  \nMeet at Waterworks Prairie Park\, 2875 Dubuque St. NE\, Iowa City
URL:https://iowacitybirdclub.org/event/beginner-field-trip-waterworks-prairie-park-2/
LOCATION:Waterworks Prairie Park\, 2875 Dubuque St NE\, Iowa City\, IA\, United States
END:VEVENT
BEGIN:VEVENT
DTSTART;TZID=America/Chicago:20260504T063000
DTEND;TZID=America/Chicago:20260504T080000
DTSTAMP:20260423T094233
CREATED:20260331T211030Z
LAST-MODIFIED:20260423T133053Z
UID:55933-1777876200-1777881600@iowacitybirdclub.org
SUMMARY:Hickory Hill Park Warbler Walks
DESCRIPTION:April 28 \nApril 27 – May 22\, Weekdays\, Mon-Fri\, 6:30-8:00 a.m.\,  Hickory Hill Park Warbler Walks.  Start your weekdays watching warblers and other spring migrants in the park with our rotating crew of expert leaders.  \nMeet at the north parking lot at 800 Conklin Lane\, off N. Dodge St.
URL:https://iowacitybirdclub.org/event/hickory-hill-park-warbler-walks-92/
LOCATION:Hickory Hill Park\, 1439 E Bloomington St\, Iowa City\, IA\, United States
END:VEVENT
BEGIN:VEVENT
DTSTART;TZID=America/Chicago:20260505T063000
DTEND;TZID=America/Chicago:20260505T080000
DTSTAMP:20260423T094233
CREATED:20260331T211032Z
LAST-MODIFIED:20260423T133056Z
UID:55934-1777962600-1777968000@iowacitybirdclub.org
SUMMARY:Hickory Hill Park Warbler Walks
DESCRIPTION:April 28 \nApril 27 – May 22\, Weekdays\, Mon-Fri\, 6:30-8:00 a.m.\,  Hickory Hill Park Warbler Walks.  Start your weekdays watching warblers and other spring migrants in the park with our rotating crew of expert leaders.  \nMeet at the north parking lot at 800 Conklin Lane\, off N. Dodge St.
URL:https://iowacitybirdclub.org/event/hickory-hill-park-warbler-walks-93/
LOCATION:Hickory Hill Park\, 1439 E Bloomington St\, Iowa City\, IA\, United States
END:VEVENT
BEGIN:VEVENT
DTSTART;TZID=America/Chicago:20260506T063000
DTEND;TZID=America/Chicago:20260506T080000
DTSTAMP:20260423T094233
CREATED:20260331T211044Z
LAST-MODIFIED:20260423T133109Z
UID:55935-1778049000-1778054400@iowacitybirdclub.org
SUMMARY:Hickory Hill Park Warbler Walks
DESCRIPTION:April 28 \nApril 27 – May 22\, Weekdays\, Mon-Fri\, 6:30-8:00 a.m.\,  Hickory Hill Park Warbler Walks.  Start your weekdays watching warblers and other spring migrants in the park with our rotating crew of expert leaders.  \nMeet at the north parking lot at 800 Conklin Lane\, off N. Dodge St.
URL:https://iowacitybirdclub.org/event/hickory-hill-park-warbler-walks-94/
LOCATION:Hickory Hill Park\, 1439 E Bloomington St\, Iowa City\, IA\, United States
END:VEVENT
BEGIN:VEVENT
DTSTART;TZID=America/Chicago:20260507T063000
DTEND;TZID=America/Chicago:20260507T080000
DTSTAMP:20260423T094233
CREATED:20260331T211046Z
LAST-MODIFIED:20260423T133111Z
UID:55936-1778135400-1778140800@iowacitybirdclub.org
SUMMARY:Hickory Hill Park Warbler Walks
DESCRIPTION:April 28 \nApril 27 – May 22\, Weekdays\, Mon-Fri\, 6:30-8:00 a.m.\,  Hickory Hill Park Warbler Walks.  Start your weekdays watching warblers and other spring migrants in the park with our rotating crew of expert leaders.  \nMeet at the north parking lot at 800 Conklin Lane\, off N. Dodge St.
URL:https://iowacitybirdclub.org/event/hickory-hill-park-warbler-walks-95/
LOCATION:Hickory Hill Park\, 1439 E Bloomington St\, Iowa City\, IA\, United States
END:VEVENT
BEGIN:VEVENT
DTSTART;TZID=America/Chicago:20260508T063000
DTEND;TZID=America/Chicago:20260508T080000
DTSTAMP:20260423T094233
CREATED:20260331T211047Z
LAST-MODIFIED:20260423T133113Z
UID:55937-1778221800-1778227200@iowacitybirdclub.org
SUMMARY:Hickory Hill Park Warbler Walks
DESCRIPTION:April 28 \nApril 27 – May 22\, Weekdays\, Mon-Fri\, 6:30-8:00 a.m.\,  Hickory Hill Park Warbler Walks.  Start your weekdays watching warblers and other spring migrants in the park with our rotating crew of expert leaders.  \nMeet at the north parking lot at 800 Conklin Lane\, off N. Dodge St.
URL:https://iowacitybirdclub.org/event/hickory-hill-park-warbler-walks-96/
LOCATION:Hickory Hill Park\, 1439 E Bloomington St\, Iowa City\, IA\, United States
END:VEVENT
BEGIN:VEVENT
DTSTART;VALUE=DATE:20260509
DTEND;VALUE=DATE:20260511
DTSTAMP:20260423T094233
CREATED:20260331T145502Z
LAST-MODIFIED:20260423T133114Z
UID:55908-1778299200-1778385599@iowacitybirdclub.org
SUMMARY:Johnson County Spring Migration Count
DESCRIPTION:Johnson County Spring Migration Count:  We will bird in small groups to count asmany birds as possible throughout Johnson County. Species and individual birds are tallied – last year 161 species were recorded. Gather for a noon sack lunch at the North Liberty Community Center. Afternoon birding is encouraged\, but optional.  \nTo participate in a group\, email leader Chris Caster in advance of count day atcjcaster@q.com.  \nFor species data\, forms\, photos and more information    visit https://iowacitybirdclub.org/spring-count/.
URL:https://iowacitybirdclub.org/event/johnson-county-spring-migration-count-2/
LOCATION:IA
END:VEVENT
BEGIN:VEVENT
DTSTART;TZID=America/Chicago:20260511T063000
DTEND;TZID=America/Chicago:20260511T080000
DTSTAMP:20260423T094233
CREATED:20260331T211049Z
LAST-MODIFIED:20260423T133116Z
UID:55938-1778481000-1778486400@iowacitybirdclub.org
SUMMARY:Hickory Hill Park Warbler Walks
DESCRIPTION:April 28 \nApril 27 – May 22\, Weekdays\, Mon-Fri\, 6:30-8:00 a.m.\,  Hickory Hill Park Warbler Walks.  Start your weekdays watching warblers and other spring migrants in the park with our rotating crew of expert leaders.  \nMeet at the north parking lot at 800 Conklin Lane\, off N. Dodge St.
URL:https://iowacitybirdclub.org/event/hickory-hill-park-warbler-walks-97/
LOCATION:Hickory Hill Park\, 1439 E Bloomington St\, Iowa City\, IA\, United States
END:VEVENT
BEGIN:VEVENT
DTSTART;TZID=America/Chicago:20260512T063000
DTEND;TZID=America/Chicago:20260512T080000
DTSTAMP:20260423T094233
CREATED:20260331T211050Z
LAST-MODIFIED:20260423T133118Z
UID:55939-1778567400-1778572800@iowacitybirdclub.org
SUMMARY:Hickory Hill Park Warbler Walks
DESCRIPTION:April 28 \nApril 27 – May 22\, Weekdays\, Mon-Fri\, 6:30-8:00 a.m.\,  Hickory Hill Park Warbler Walks.  Start your weekdays watching warblers and other spring migrants in the park with our rotating crew of expert leaders.  \nMeet at the north parking lot at 800 Conklin Lane\, off N. Dodge St.
URL:https://iowacitybirdclub.org/event/hickory-hill-park-warbler-walks-98/
LOCATION:Hickory Hill Park\, 1439 E Bloomington St\, Iowa City\, IA\, United States
END:VEVENT
BEGIN:VEVENT
DTSTART;TZID=America/Chicago:20260513T063000
DTEND;TZID=America/Chicago:20260513T080000
DTSTAMP:20260423T094233
CREATED:20260331T211051Z
LAST-MODIFIED:20260423T133120Z
UID:55940-1778653800-1778659200@iowacitybirdclub.org
SUMMARY:Hickory Hill Park Warbler Walks
DESCRIPTION:April 28 \nApril 27 – May 22\, Weekdays\, Mon-Fri\, 6:30-8:00 a.m.\,  Hickory Hill Park Warbler Walks.  Start your weekdays watching warblers and other spring migrants in the park with our rotating crew of expert leaders.  \nMeet at the north parking lot at 800 Conklin Lane\, off N. Dodge St.
URL:https://iowacitybirdclub.org/event/hickory-hill-park-warbler-walks-99/
LOCATION:Hickory Hill Park\, 1439 E Bloomington St\, Iowa City\, IA\, United States
END:VEVENT
BEGIN:VEVENT
DTSTART;TZID=America/Chicago:20260514T063000
DTEND;TZID=America/Chicago:20260514T080000
DTSTAMP:20260423T094233
CREATED:20260331T211052Z
LAST-MODIFIED:20260423T133122Z
UID:55941-1778740200-1778745600@iowacitybirdclub.org
SUMMARY:Hickory Hill Park Warbler Walks
DESCRIPTION:April 28 \nApril 27 – May 22\, Weekdays\, Mon-Fri\, 6:30-8:00 a.m.\,  Hickory Hill Park Warbler Walks.  Start your weekdays watching warblers and other spring migrants in the park with our rotating crew of expert leaders.  \nMeet at the north parking lot at 800 Conklin Lane\, off N. Dodge St.
URL:https://iowacitybirdclub.org/event/hickory-hill-park-warbler-walks-100/
LOCATION:Hickory Hill Park\, 1439 E Bloomington St\, Iowa City\, IA\, United States
END:VEVENT
BEGIN:VEVENT
DTSTART;TZID=America/Chicago:20260515T063000
DTEND;TZID=America/Chicago:20260515T080000
DTSTAMP:20260423T094233
CREATED:20260331T211054Z
LAST-MODIFIED:20260423T133124Z
UID:55942-1778826600-1778832000@iowacitybirdclub.org
SUMMARY:Hickory Hill Park Warbler Walks
DESCRIPTION:April 28 \nApril 27 – May 22\, Weekdays\, Mon-Fri\, 6:30-8:00 a.m.\,  Hickory Hill Park Warbler Walks.  Start your weekdays watching warblers and other spring migrants in the park with our rotating crew of expert leaders.  \nMeet at the north parking lot at 800 Conklin Lane\, off N. Dodge St.
URL:https://iowacitybirdclub.org/event/hickory-hill-park-warbler-walks-101/
LOCATION:Hickory Hill Park\, 1439 E Bloomington St\, Iowa City\, IA\, United States
END:VEVENT
BEGIN:VEVENT
DTSTART;TZID=America/Chicago:20260518T063000
DTEND;TZID=America/Chicago:20260518T080000
DTSTAMP:20260423T094233
CREATED:20260331T211055Z
LAST-MODIFIED:20260423T133126Z
UID:55943-1779085800-1779091200@iowacitybirdclub.org
SUMMARY:Hickory Hill Park Warbler Walks
DESCRIPTION:April 28 \nApril 27 – May 22\, Weekdays\, Mon-Fri\, 6:30-8:00 a.m.\,  Hickory Hill Park Warbler Walks.  Start your weekdays watching warblers and other spring migrants in the park with our rotating crew of expert leaders.  \nMeet at the north parking lot at 800 Conklin Lane\, off N. Dodge St.
URL:https://iowacitybirdclub.org/event/hickory-hill-park-warbler-walks-102/
LOCATION:Hickory Hill Park\, 1439 E Bloomington St\, Iowa City\, IA\, United States
END:VEVENT
BEGIN:VEVENT
DTSTART;TZID=America/Chicago:20260519T063000
DTEND;TZID=America/Chicago:20260519T080000
DTSTAMP:20260423T094233
CREATED:20260331T211108Z
LAST-MODIFIED:20260423T133139Z
UID:55944-1779172200-1779177600@iowacitybirdclub.org
SUMMARY:Hickory Hill Park Warbler Walks
DESCRIPTION:April 28 \nApril 27 – May 22\, Weekdays\, Mon-Fri\, 6:30-8:00 a.m.\,  Hickory Hill Park Warbler Walks.  Start your weekdays watching warblers and other spring migrants in the park with our rotating crew of expert leaders.  \nMeet at the north parking lot at 800 Conklin Lane\, off N. Dodge St.
URL:https://iowacitybirdclub.org/event/hickory-hill-park-warbler-walks-103/
LOCATION:Hickory Hill Park\, 1439 E Bloomington St\, Iowa City\, IA\, United States
END:VEVENT
BEGIN:VEVENT
DTSTART;TZID=America/Chicago:20260520T063000
DTEND;TZID=America/Chicago:20260520T080000
DTSTAMP:20260423T094233
CREATED:20260331T211109Z
LAST-MODIFIED:20260423T133141Z
UID:55945-1779258600-1779264000@iowacitybirdclub.org
SUMMARY:Hickory Hill Park Warbler Walks
DESCRIPTION:April 28 \nApril 27 – May 22\, Weekdays\, Mon-Fri\, 6:30-8:00 a.m.\,  Hickory Hill Park Warbler Walks.  Start your weekdays watching warblers and other spring migrants in the park with our rotating crew of expert leaders.  \nMeet at the north parking lot at 800 Conklin Lane\, off N. Dodge St.
URL:https://iowacitybirdclub.org/event/hickory-hill-park-warbler-walks-104/
LOCATION:Hickory Hill Park\, 1439 E Bloomington St\, Iowa City\, IA\, United States
END:VEVENT
BEGIN:VEVENT
DTSTART;TZID=America/Chicago:20260521T063000
DTEND;TZID=America/Chicago:20260521T080000
DTSTAMP:20260423T094233
CREATED:20260331T211110Z
LAST-MODIFIED:20260423T133143Z
UID:55946-1779345000-1779350400@iowacitybirdclub.org
SUMMARY:Hickory Hill Park Warbler Walks
DESCRIPTION:April 28 \nApril 27 – May 22\, Weekdays\, Mon-Fri\, 6:30-8:00 a.m.\,  Hickory Hill Park Warbler Walks.  Start your weekdays watching warblers and other spring migrants in the park with our rotating crew of expert leaders.  \nMeet at the north parking lot at 800 Conklin Lane\, off N. Dodge St.
URL:https://iowacitybirdclub.org/event/hickory-hill-park-warbler-walks-105/
LOCATION:Hickory Hill Park\, 1439 E Bloomington St\, Iowa City\, IA\, United States
END:VEVENT
BEGIN:VEVENT
DTSTART;TZID=America/Chicago:20260521T184500
DTEND;TZID=America/Chicago:20260521T203000
DTSTAMP:20260423T094233
CREATED:20260331T145504Z
LAST-MODIFIED:20260423T133145Z
UID:55909-1779389100-1779395400@iowacitybirdclub.org
SUMMARY:IC Bird Club Meeting
DESCRIPTION:May 21st\, Thursday\, 7 p.m. In-Person and Zoom meeting at the Iowa City Environmental Education Center 2401 Scott Blvd SE\, Iowa City: Jim Durbin will present a program about ongoing insect surveys at Big Sand Mound Preserve in Muscatine County. Join Zoom Meetinghttps://us06web.zoom.us/j/82268705424?pwd=kYUQnL7TBp8dCji6F4KYRFwoTcrF0M.1 \nMeeting ID: 822 6870 5424Passcode: 292775
URL:https://iowacitybirdclub.org/event/ic-bird-club-meeting-19/
LOCATION:IC Environmental Education Center 2401 Scott Blvd SE\, Iowa City\, IA\, United States
END:VEVENT
BEGIN:VEVENT
DTSTART;TZID=America/Chicago:20260522T063000
DTEND;TZID=America/Chicago:20260522T080000
DTSTAMP:20260423T094233
CREATED:20260331T211112Z
LAST-MODIFIED:20260423T133147Z
UID:55947-1779431400-1779436800@iowacitybirdclub.org
SUMMARY:Hickory Hill Park Warbler Walks
DESCRIPTION:April 28 \nApril 27 – May 22\, Weekdays\, Mon-Fri\, 6:30-8:00 a.m.\,  Hickory Hill Park Warbler Walks.  Start your weekdays watching warblers and other spring migrants in the park with our rotating crew of expert leaders.  \nMeet at the north parking lot at 800 Conklin Lane\, off N. Dodge St.
URL:https://iowacitybirdclub.org/event/hickory-hill-park-warbler-walks-106/
LOCATION:Hickory Hill Park\, 1439 E Bloomington St\, Iowa City\, IA\, United States
END:VEVENT
BEGIN:VEVENT
DTSTART;TZID=America/Chicago:20260603T093000
DTEND;TZID=America/Chicago:20260603T113000
DTSTAMP:20260423T094233
CREATED:20260331T145505Z
LAST-MODIFIED:20260423T133149Z
UID:55910-1780479000-1780486200@iowacitybirdclub.org
SUMMARY:Kent Park Butterfly Walk
DESCRIPTION:Kent Park Butterfly Walk with leader Chris Edwards. Learn how to spot and identify the park’s common butterflies.  Wear long pants. If it is rainy or overcast the walk will be cancelled – call Chris at 319-430-4732 if questionable. \nMeet in the parking lot of Conservation Education Center.
URL:https://iowacitybirdclub.org/event/kent-park-butterfly-walk/
LOCATION:F.W. Kent Park\, Oxford\, IA\, United States
END:VEVENT
BEGIN:VEVENT
DTSTART;TZID=America/Chicago:20260606T063000
DTEND;TZID=America/Chicago:20260606T120000
DTSTAMP:20260423T094233
CREATED:20260331T211114Z
LAST-MODIFIED:20260423T133150Z
UID:55949-1780727400-1780747200@iowacitybirdclub.org
SUMMARY:Field Trip: Indiangrass Hills
DESCRIPTION:Indiangrass Hills in Iowa County: for breeding grassland birds. Leader Mark Brownwill guide us through this 640-acre restored prairie. Expect to see Henslow’s Sparrow\, Grasshopper Sparrow\, Sedge Wren\, Orchard Oriole\, Bobolink\, and more. There will be extensive walking on mowed grass paths which may be wet. Don’t forget bug spray and water!  No restrooms on site. Return time is around noon.  \nArea maps:https://iowacitybirdclub.org/miscellanious-maps/ or https://www.indiangrasshills.org/igh.php. \nOptions for meet-up: 6:30  carpool from Kohl’s parking lot\, 2795 Commerce Dr\, Coralville;7:15 at Indiangrass Hills parking lot\, 4549 I Ave.\, Williamsburg.
URL:https://iowacitybirdclub.org/event/field-trip-indiangrass-hills-3/
LOCATION:IA
END:VEVENT
END:VCALENDAR