BEGIN:VCALENDAR
VERSION:2.0
PRODID:-//Iowa City Bird Club - ECPv6.15.3//NONSGML v1.0//EN
CALSCALE:GREGORIAN
METHOD:PUBLISH
X-WR-CALNAME:Iowa City Bird Club
X-ORIGINAL-URL:https://iowacitybirdclub.org
X-WR-CALDESC:Events for Iowa City Bird Club
REFRESH-INTERVAL;VALUE=DURATION:PT1H
X-Robots-Tag:noindex
X-PUBLISHED-TTL:PT1H
BEGIN:VTIMEZONE
TZID:America/Chicago
BEGIN:DAYLIGHT
TZOFFSETFROM:-0600
TZOFFSETTO:-0500
TZNAME:CDT
DTSTART:20260308T080000
END:DAYLIGHT
BEGIN:STANDARD
TZOFFSETFROM:-0500
TZOFFSETTO:-0600
TZNAME:CST
DTSTART:20261101T070000
END:STANDARD
END:VTIMEZONE
BEGIN:VEVENT
DTSTART;VALUE=DATE:20260715
DTEND;VALUE=DATE:20260717
DTSTAMP:20260423T124248
CREATED:20260331T211118Z
LAST-MODIFIED:20260423T164653Z
UID:55952-1784088000-1784174399@iowacitybirdclub.org
SUMMARY:Deadline to Register for Butterfly Count
DESCRIPTION:July 15th – Deadline to Register for Butterfly Count.   Contact Chris Edwards at at 319-430-4732 or credwards@aol.com. Iowa City Butterfly Count will be held on July 18th.  As part of the North American Butterfly Association’s Fourth of July Butterfly Count program\, we’ll visit Kent Park\, Hawkeye Wildlife Area\, Lake Macbride\, and other areas to tally as many butterflies as we can find.
URL:https://iowacitybirdclub.org/event/deadline-to-register-for-butterfly-count-2/
LOCATION:IA
END:VEVENT
END:VCALENDAR