BEGIN:VCALENDAR
VERSION:2.0
PRODID:-//Iowa City Bird Club - ECPv6.15.3//NONSGML v1.0//EN
CALSCALE:GREGORIAN
METHOD:PUBLISH
X-ORIGINAL-URL:https://iowacitybirdclub.org
X-WR-CALDESC:Events for Iowa City Bird Club
REFRESH-INTERVAL;VALUE=DURATION:PT1H
X-Robots-Tag:noindex
X-PUBLISHED-TTL:PT1H
BEGIN:VTIMEZONE
TZID:America/Chicago
BEGIN:DAYLIGHT
TZOFFSETFROM:-0600
TZOFFSETTO:-0500
TZNAME:CDT
DTSTART:20260308T080000
END:DAYLIGHT
BEGIN:STANDARD
TZOFFSETFROM:-0500
TZOFFSETTO:-0600
TZNAME:CST
DTSTART:20261101T070000
END:STANDARD
END:VTIMEZONE
BEGIN:VEVENT
DTSTART;TZID=America/Chicago:20260627T080000
DTEND;TZID=America/Chicago:20260627T120000
DTSTAMP:20260423T111149
CREATED:20260331T211115Z
LAST-MODIFIED:20260423T154649Z
UID:55950-1782547200-1782561600@iowacitybirdclub.org
SUMMARY:Field Trip: Cedar River Crossing
DESCRIPTION:Cedar River Crossing Conservation Area\, 5473 Sutliff Rd. NE\, Solon\, innortheast Johnson County. Meet at the lower parking lot near the old Sutliff bridge. Join leaders Mark and Deb Rolfes for a morning hike through this Johnson County Conservation property that includes wetlands\, prairie\, and forest. Target species include warblers\, sparrows\, swallows\, shorebirds\, and waterfowl. Trails are mowed\, and some rough paths can be wet or muddy. Bring a spotting scope if you have one.  We will wrap up around noon.  \nFor a map and informationvisit https://www.johnsoncountyiowa.gov/conservation/public-use-areas. \nMeet Mark and Deb Rolfes in the parking lot near the restrooms 5473 Sutliff Rd. NE\, Solon
URL:https://iowacitybirdclub.org/event/field-trip-cedar-river-crossing-3/
LOCATION:5473 Sutliff Rd NE\, Solon\, IA\, United States
END:VEVENT
END:VCALENDAR