BEGIN:VCALENDAR
VERSION:2.0
PRODID:-//Iowa City Bird Club - ECPv6.15.3//NONSGML v1.0//EN
CALSCALE:GREGORIAN
METHOD:PUBLISH
X-WR-CALNAME:Iowa City Bird Club
X-ORIGINAL-URL:https://iowacitybirdclub.org
X-WR-CALDESC:Events for Iowa City Bird Club
REFRESH-INTERVAL;VALUE=DURATION:PT1H
X-Robots-Tag:noindex
X-PUBLISHED-TTL:PT1H
BEGIN:VTIMEZONE
TZID:America/Chicago
BEGIN:DAYLIGHT
TZOFFSETFROM:-0600
TZOFFSETTO:-0500
TZNAME:CDT
DTSTART:20260308T080000
END:DAYLIGHT
BEGIN:STANDARD
TZOFFSETFROM:-0500
TZOFFSETTO:-0600
TZNAME:CST
DTSTART:20261101T070000
END:STANDARD
END:VTIMEZONE
BEGIN:VEVENT
DTSTART;TZID=America/Chicago:20260411T080000
DTEND;TZID=America/Chicago:20260411T120000
DTSTAMP:20260423T081306
CREATED:20251229T182446Z
LAST-MODIFIED:20260411T164553Z
UID:53710-1775894400-1775908800@iowacitybirdclub.org
SUMMARY:Beginner Field Trip: KENT PARK
DESCRIPTION:KENT PARK  Beginning birder trip for current or past participants in the Introduction to Birding Course. We will explore the trails in this park looking for migrating songbirds and resident woodland birds.  \nMeet at the Conservation Education Center in Kent Park\, 2048 Hwy. 6 NW\, Oxford
URL:https://iowacitybirdclub.org/event/beginner-field-trip-kent-park-2/
LOCATION:F.W. Kent Park\, Oxford\, IA\, United States
END:VEVENT
BEGIN:VEVENT
DTSTART;TZID=America/Chicago:20260411T080000
DTEND;TZID=America/Chicago:20260411T120000
DTSTAMP:20260423T081306
CREATED:20260331T211004Z
LAST-MODIFIED:20260411T164551Z
UID:55928-1775894400-1775908800@iowacitybirdclub.org
SUMMARY:Field Trip: Redbird Farms Wildlife Managementgmt
DESCRIPTION:Redbird Farms Wildlife Management Area\, 2290 Black Diamond Rd.SW\, southwest of Iowa City.  Abner Miller will lead us on a walk through Redbird Farms\, which offers ponds\, timber\, and open areas. We’ll look for ducks\, turkeys\, sparrows\, early warblers\, woodpeckers\, wrens\, and raptors.  There are no bathrooms on site.  \nMeet at the parking area at 2290 Black Diamond Rd.eBird information on Redbird Farms: https://ebird.org/hotspot/L1668696.
URL:https://iowacitybirdclub.org/event/field-trip-redbird-farms-wildlife-managementgmt/
LOCATION:Redbird Farms Wildlife Management Area\, 2290 Black Diamond Rd SW\, Iowa City\, IA\, United States
END:VEVENT
END:VCALENDAR