BEGIN:VCALENDAR
VERSION:2.0
PRODID:-//Iowa City Bird Club - ECPv6.15.3//NONSGML v1.0//EN
CALSCALE:GREGORIAN
METHOD:PUBLISH
X-WR-CALNAME:Iowa City Bird Club
X-ORIGINAL-URL:https://iowacitybirdclub.org
X-WR-CALDESC:Events for Iowa City Bird Club
REFRESH-INTERVAL;VALUE=DURATION:PT1H
X-Robots-Tag:noindex
X-PUBLISHED-TTL:PT1H
BEGIN:VTIMEZONE
TZID:America/Chicago
BEGIN:DAYLIGHT
TZOFFSETFROM:-0600
TZOFFSETTO:-0500
TZNAME:CDT
DTSTART:20260308T080000
END:DAYLIGHT
BEGIN:STANDARD
TZOFFSETFROM:-0500
TZOFFSETTO:-0600
TZNAME:CST
DTSTART:20261101T070000
END:STANDARD
END:VTIMEZONE
BEGIN:VEVENT
DTSTART;TZID=America/Chicago:20260204T080000
DTEND;TZID=America/Chicago:20260204T100000
DTSTAMP:20260423T111548
CREATED:20251214T024100Z
LAST-MODIFIED:20260204T154218Z
UID:53374-1770192000-1770199200@iowacitybirdclub.org
SUMMARY:Kent Park Bird Walk
DESCRIPTION:Kent Park Bird Walk. Join leader Chris Edwards on the first Wednesday of each month for a bird walk in Kent Park.  In the winter months we’ll spend time in the bird blind and then go for a walk. In the summer months we’llswitch to butterfly walks. \nMeet in the parking lot of Conservation Education Center.
URL:https://iowacitybirdclub.org/event/kent-park-bird-walk-17/
LOCATION:F.W. Kent Park\, Oxford\, IA\, United States
END:VEVENT
END:VCALENDAR