BEGIN:VCALENDAR
VERSION:2.0
PRODID:-//Iowa City Bird Club - ECPv6.15.3//NONSGML v1.0//EN
CALSCALE:GREGORIAN
METHOD:PUBLISH
X-WR-CALNAME:Iowa City Bird Club
X-ORIGINAL-URL:https://iowacitybirdclub.org
X-WR-CALDESC:Events for Iowa City Bird Club
REFRESH-INTERVAL;VALUE=DURATION:PT1H
X-Robots-Tag:noindex
X-PUBLISHED-TTL:PT1H
BEGIN:VTIMEZONE
TZID:America/Chicago
BEGIN:DAYLIGHT
TZOFFSETFROM:-0600
TZOFFSETTO:-0500
TZNAME:CDT
DTSTART:20250309T080000
END:DAYLIGHT
BEGIN:STANDARD
TZOFFSETFROM:-0500
TZOFFSETTO:-0600
TZNAME:CST
DTSTART:20251102T070000
END:STANDARD
END:VTIMEZONE
BEGIN:VEVENT
DTSTART;VALUE=DATE:20250719
DTEND;VALUE=DATE:20250721
DTSTAMP:20260423T223136
CREATED:20250414T001906Z
LAST-MODIFIED:20250719T234408Z
UID:47461-1752897600-1752983999@iowacitybirdclub.org
SUMMARY:Iowa City Butterfly Count
DESCRIPTION:July 19th\, Saturday\, Iowa City Butterfly Count.  As part of the North American Butterfly Association’s Fourth of July Butterfly Count program\, we’ll visit Kent Park\, Hawkeye Wildlife Area\, Lake Macbride\, and other areas to tally as many butterflies as we can find.   \nMust register by July 16th to participate\, contact Chris Edwards at  credwards@aol.com. 
URL:https://iowacitybirdclub.org/event/iowa-city-butterfly-count-4/
LOCATION:IA
END:VEVENT
END:VCALENDAR