BEGIN:VCALENDAR
VERSION:2.0
PRODID:-//Iowa City Bird Club - ECPv6.15.3//NONSGML v1.0//EN
CALSCALE:GREGORIAN
METHOD:PUBLISH
X-ORIGINAL-URL:https://iowacitybirdclub.org
X-WR-CALDESC:Events for Iowa City Bird Club
REFRESH-INTERVAL;VALUE=DURATION:PT1H
X-Robots-Tag:noindex
X-PUBLISHED-TTL:PT1H
BEGIN:VTIMEZONE
TZID:America/Chicago
BEGIN:DAYLIGHT
TZOFFSETFROM:-0600
TZOFFSETTO:-0500
TZNAME:CDT
DTSTART:20250309T080000
END:DAYLIGHT
BEGIN:STANDARD
TZOFFSETFROM:-0500
TZOFFSETTO:-0600
TZNAME:CST
DTSTART:20251102T070000
END:STANDARD
END:VTIMEZONE
BEGIN:VEVENT
DTSTART;TZID=America/Chicago:20250523T063000
DTEND;TZID=America/Chicago:20250523T080000
DTSTAMP:20260424T014627
CREATED:20250414T001904Z
LAST-MODIFIED:20250523T121719Z
UID:47459-1747981800-1747987200@iowacitybirdclub.org
SUMMARY:Hickory Hill Park Warbler Walks
DESCRIPTION:April 28 – May 23\, Weekdays\, Mon-Fri\, 6:30-8:00 a.m.\,  Hickory Hill Park Warbler Walks.  Start your weekdays watching warblers and other spring migrants in the park with our rotating crew of expert leaders.  \nMeet at the north parking lot at 800 Conklin Lane\, off N. Dodge St.
URL:https://iowacitybirdclub.org/event/hickory-hill-park-warbler-walks-86/
LOCATION:Hickory Hill Park\, 1439 E Bloomington St\, Iowa City\, IA\, United States
END:VEVENT
END:VCALENDAR