BEGIN:VCALENDAR
VERSION:2.0
PRODID:-//Iowa City Bird Club - ECPv6.15.3//NONSGML v1.0//EN
CALSCALE:GREGORIAN
METHOD:PUBLISH
X-WR-CALNAME:Iowa City Bird Club
X-ORIGINAL-URL:https://iowacitybirdclub.org
X-WR-CALDESC:Events for Iowa City Bird Club
REFRESH-INTERVAL;VALUE=DURATION:PT1H
X-Robots-Tag:noindex
X-PUBLISHED-TTL:PT1H
BEGIN:VTIMEZONE
TZID:America/Chicago
BEGIN:DAYLIGHT
TZOFFSETFROM:-0600
TZOFFSETTO:-0500
TZNAME:CDT
DTSTART:20250309T080000
END:DAYLIGHT
BEGIN:STANDARD
TZOFFSETFROM:-0500
TZOFFSETTO:-0600
TZNAME:CST
DTSTART:20251102T070000
END:STANDARD
END:VTIMEZONE
BEGIN:VEVENT
DTSTART;TZID=America/Chicago:20250426T080000
DTEND;TZID=America/Chicago:20250426T120000
DTSTAMP:20260424T031038
CREATED:20250414T001806Z
LAST-MODIFIED:20250426T162626Z
UID:47433-1745654400-1745668800@iowacitybirdclub.org
SUMMARY:Field Trip: Hawkeye wildlife Management Area
DESCRIPTION: HAWKEYE WILDLIFE MANAGEMENT AREA: We expect to see migrating shorebirds\, waterfowl\, early warblers\, and sparrows.   Meet leader Jason McCurdy in the parking  lot on Swan Lake Road across from Swan Lake (GPS coordinates 41.776108\, -91.678314).  We’ll carpool our way to several stopping points. Expect moderate hiking at some viewing areas. Dress for the weather and wetand muddy trails. Bring a spotting scope if you have one. \nMeet at the Swan Lake parking lot (GPS coordinates 41.776081\, 91.675009).
URL:https://iowacitybirdclub.org/event/field-trip-hawkeye-wildlife-management-area/
LOCATION:Hawkeye Wildlife Management Area\, Oxford\, IA\, United States
END:VEVENT
END:VCALENDAR