BEGIN:VCALENDAR
VERSION:2.0
PRODID:-//Iowa City Bird Club - ECPv6.15.3//NONSGML v1.0//EN
CALSCALE:GREGORIAN
METHOD:PUBLISH
X-WR-CALNAME:Iowa City Bird Club
X-ORIGINAL-URL:https://iowacitybirdclub.org
X-WR-CALDESC:Events for Iowa City Bird Club
REFRESH-INTERVAL;VALUE=DURATION:PT1H
X-Robots-Tag:noindex
X-PUBLISHED-TTL:PT1H
BEGIN:VTIMEZONE
TZID:America/Chicago
BEGIN:DAYLIGHT
TZOFFSETFROM:-0600
TZOFFSETTO:-0500
TZNAME:CDT
DTSTART:20250309T080000
END:DAYLIGHT
BEGIN:STANDARD
TZOFFSETFROM:-0500
TZOFFSETTO:-0600
TZNAME:CST
DTSTART:20251102T070000
END:STANDARD
END:VTIMEZONE
BEGIN:VEVENT
DTSTART;TZID=America/Chicago:20250405T080000
DTEND;TZID=America/Chicago:20250405T090000
DTSTAMP:20260424T031038
CREATED:20250323T143511Z
LAST-MODIFIED:20250405T131515Z
UID:46937-1743840000-1743843600@iowacitybirdclub.org
SUMMARY:Field Trip: Two Horse Farm
DESCRIPTION:Two Horse Farm\, 2257 Sugar Bottom Road NE\, Solon. This new Johnson County Conservation property (acquired in 2022) features restored prairie and oak-hickory forest with abundant edge habitat. Mary Bowler and Brian Broderick will guide us through their favorite birding spot.  More birders discovering this excellent new hotspot will help grow the species list\, presently at 75.  We’ll look for early spring migrants like Winter Wren\, Hermit Thrush\, kinglets\, Yellow-bellied Sapsucker\, and Yellow-rumped Warbler. Expect to hike up to 2 miles on mowed paths that may be wet. We’ll finish by noon
URL:https://iowacitybirdclub.org/event/field-trip-two-horse-farm-2/
LOCATION:2257 Sugar Bottom Rd NE\, Solon\, IA\, United States
END:VEVENT
BEGIN:VEVENT
DTSTART;TZID=America/Chicago:20250405T080000
DTEND;TZID=America/Chicago:20250405T120000
DTSTAMP:20260424T031038
CREATED:20241227T020833Z
LAST-MODIFIED:20250405T161334Z
UID:44972-1743840000-1743854400@iowacitybirdclub.org
SUMMARY:Beginner Field Trip: HAWKEYE WILDLIFE AREA
DESCRIPTION: HAWKEYE WILDLIFE AREA Beginning birder trip for current or past participants in the Introduction to Birding Course. We expect to see ducks\, geese\, American White Pelicans\, and other early spring migrants. Wear boots for walking in wet areas\, and bring a spotting scope if you have one.  \nMeet at the Swan Lake parking lot (GPS coordinates 41.776081\, 91.675009).
URL:https://iowacitybirdclub.org/event/beginner-field-trip-hawkeye-wildlife-area/
LOCATION:Hawkeye Wildlife Management Area\, Oxford\, IA\, United States
END:VEVENT
END:VCALENDAR