BEGIN:VCALENDAR
VERSION:2.0
PRODID:-//Iowa City Bird Club - ECPv6.15.3//NONSGML v1.0//EN
CALSCALE:GREGORIAN
METHOD:PUBLISH
X-ORIGINAL-URL:https://iowacitybirdclub.org
X-WR-CALDESC:Events for Iowa City Bird Club
REFRESH-INTERVAL;VALUE=DURATION:PT1H
X-Robots-Tag:noindex
X-PUBLISHED-TTL:PT1H
BEGIN:VTIMEZONE
TZID:America/Chicago
BEGIN:DAYLIGHT
TZOFFSETFROM:-0600
TZOFFSETTO:-0500
TZNAME:CDT
DTSTART:20250309T080000
END:DAYLIGHT
BEGIN:STANDARD
TZOFFSETFROM:-0500
TZOFFSETTO:-0600
TZNAME:CST
DTSTART:20251102T070000
END:STANDARD
END:VTIMEZONE
BEGIN:VEVENT
DTSTART;TZID=America/Chicago:20250322T080000
DTEND;TZID=America/Chicago:20250322T120000
DTSTAMP:20260424T045936
CREATED:20241227T020809Z
LAST-MODIFIED:20250322T165927Z
UID:44965-1742630400-1742644800@iowacitybirdclub.org
SUMMARY:Beginner Field Trip: CONE MARSH
DESCRIPTION:CONE MARSH: Beginning birder trip for current or past participants in the Introduction to Birding Course. Cone Marsh is an excellent place to view migrating ducks\, geese\, Sandhill Cranes\, and other water birds. Wear boots for walking in wet areas\, and bring a spotting scope if you have one.  \nMeet at Fareway parking lot\, 2765 Commerce Dr.\, Iowa City. From here we carpool to Cone Marsh\, 3rd St.\, Conesville.
URL:https://iowacitybirdclub.org/event/beginner-field-trip-cone-marsh-2/
LOCATION:Cone Marsh State Wildlife Management Area\, Conesville\, IA\, United States
END:VEVENT
END:VCALENDAR