BEGIN:VCALENDAR
VERSION:2.0
PRODID:-//Iowa City Bird Club - ECPv6.15.3//NONSGML v1.0//EN
CALSCALE:GREGORIAN
METHOD:PUBLISH
X-ORIGINAL-URL:https://iowacitybirdclub.org
X-WR-CALDESC:Events for Iowa City Bird Club
REFRESH-INTERVAL;VALUE=DURATION:PT1H
X-Robots-Tag:noindex
X-PUBLISHED-TTL:PT1H
BEGIN:VTIMEZONE
TZID:America/Chicago
BEGIN:DAYLIGHT
TZOFFSETFROM:-0600
TZOFFSETTO:-0500
TZNAME:CDT
DTSTART:20250309T080000
END:DAYLIGHT
BEGIN:STANDARD
TZOFFSETFROM:-0500
TZOFFSETTO:-0600
TZNAME:CST
DTSTART:20251102T070000
END:STANDARD
END:VTIMEZONE
BEGIN:VEVENT
DTSTART;TZID=America/Chicago:20250308T063000
DTEND;TZID=America/Chicago:20250308T140000
DTSTAMP:20260424T045937
CREATED:20240103T205917Z
LAST-MODIFIED:20250308T191535Z
UID:30485-1741415400-1741442400@iowacitybirdclub.org
SUMMARY:Field Trip: Burlington Area Mississippi River
DESCRIPTION:Burlington Area and Mississippi River: for spring waterfowl migration. Target birds include ducks\, geese\, pelicans\, Winter Wren\, and many more. Fifty-five species were seen in 2024! This is an all-day trip led by Burlington local expert birder Chuck Fuller. Walking is usually short distance from frequent stops at locks and dams\, riverside parks\, and other hotspots. We will stop for lunch at a nearby restaurant. Dress for cold and wind\, and bring a scope if you have one.  \nTo carpool\, meet Karen Disbrow at 6:30 a.m. at the front parking lot of the Johnson County Fairgrounds\, 3109 Old Highway 218 South\, Iowa City. Alternately\, you can meet us at 8 a.m. at the Port of Burlington\, 400 Front Street\, Burlington. \n  \n 
URL:https://iowacitybirdclub.org/event/field-trip-burlington-area-mississippi-river-5/
LOCATION:Fin & Feather Inc\, 125 IA-1\, Iowa City\, IA 52246\, USA\, United States
END:VEVENT
END:VCALENDAR