BEGIN:VCALENDAR
VERSION:2.0
PRODID:-//Iowa City Bird Club - ECPv6.15.3//NONSGML v1.0//EN
CALSCALE:GREGORIAN
METHOD:PUBLISH
X-WR-CALNAME:Iowa City Bird Club
X-ORIGINAL-URL:https://iowacitybirdclub.org
X-WR-CALDESC:Events for Iowa City Bird Club
REFRESH-INTERVAL;VALUE=DURATION:PT1H
X-Robots-Tag:noindex
X-PUBLISHED-TTL:PT1H
BEGIN:VTIMEZONE
TZID:America/Chicago
BEGIN:DAYLIGHT
TZOFFSETFROM:-0600
TZOFFSETTO:-0500
TZNAME:CDT
DTSTART:20240310T080000
END:DAYLIGHT
BEGIN:STANDARD
TZOFFSETFROM:-0500
TZOFFSETTO:-0600
TZNAME:CST
DTSTART:20241103T070000
END:STANDARD
END:VTIMEZONE
BEGIN:VEVENT
DTSTART;TZID=America/Chicago:20241227T080000
DTEND;TZID=America/Chicago:20241227T170000
DTSTAMP:20260424T094625
CREATED:20241227T235213Z
LAST-MODIFIED:20241227T235213Z
UID:44989-1735286400-1735318800@iowacitybirdclub.org
SUMMARY:Testing
DESCRIPTION:Testing
URL:https://iowacitybirdclub.org/event/testing/
LOCATION:Environmental Education Center\, 2401 Scott Blvd SE Iowa City\, IA\, 2401 Scott Blvd SE\, Iowa City\, IA\, 52240\, United States
END:VEVENT
BEGIN:VEVENT
DTSTART;TZID=America/Chicago:20241227T180000
DTEND;TZID=America/Chicago:20241227T190000
DTSTAMP:20260424T094625
CREATED:20241227T235707Z
LAST-MODIFIED:20241227T235707Z
UID:44992-1735322400-1735326000@iowacitybirdclub.org
SUMMARY:Testing 1
DESCRIPTION:
URL:https://iowacitybirdclub.org/event/testing-1/
LOCATION:IA
END:VEVENT
END:VCALENDAR