BEGIN:VCALENDAR
VERSION:2.0
PRODID:-//Iowa City Bird Club - ECPv6.15.3//NONSGML v1.0//EN
CALSCALE:GREGORIAN
METHOD:PUBLISH
X-ORIGINAL-URL:https://iowacitybirdclub.org
X-WR-CALDESC:Events for Iowa City Bird Club
REFRESH-INTERVAL;VALUE=DURATION:PT1H
X-Robots-Tag:noindex
X-PUBLISHED-TTL:PT1H
BEGIN:VTIMEZONE
TZID:America/Chicago
BEGIN:DAYLIGHT
TZOFFSETFROM:-0600
TZOFFSETTO:-0500
TZNAME:CDT
DTSTART:20240310T080000
END:DAYLIGHT
BEGIN:STANDARD
TZOFFSETFROM:-0500
TZOFFSETTO:-0600
TZNAME:CST
DTSTART:20241103T070000
END:STANDARD
END:VTIMEZONE
BEGIN:VEVENT
DTSTART;VALUE=DATE:20241211
DTEND;VALUE=DATE:20241213
DTSTAMP:20260424T094701
CREATED:20231128T152101Z
LAST-MODIFIED:20241208T234534Z
UID:29105-1733889600-1733975999@iowacitybirdclub.org
SUMMARY:REGISTRATION DEADLINE Christmas Bird Count
DESCRIPTION:This year’s Iowa City Christmas Bird Count will be held Sunday\, December 15.  We need participants in the field as well as feeder watchers.  If you wish to be a field participant\, you will be assigned to a small group with an experienced leader\, and your leader will contact you to coordinate a meeting time and place on the day of the count.  You can participate for part or all of the day\, and some groups look for owls before dawn.  Most groups spend some time hiking outdoors and some time birding from the car\, so you will need to dress for the weather. \nYou can participate for part or all of the day. We will have a mid-day compilation at noon in Room N1/N2 at the North Liberty Community Center\, 520 W Cherry St.\, North Liberty. Bring your own lunch  \nTo participate\, please contact me ASAP by email (preferred) at credwards@aol.com or by phone or text at 319-430-4732.  The sign-up deadline is Wednesday\, December 11\, but it is very helpful if you let me know sooner.  I’ll need to know if you want to participate in the field or as a feeder watcher.  Thanks! \n Chris Edwards
URL:https://iowacitybirdclub.org/event/registration-deadline-christmas-bird-count/
LOCATION:IA
END:VEVENT
END:VCALENDAR