BEGIN:VCALENDAR
VERSION:2.0
PRODID:-//Iowa City Bird Club - ECPv6.15.3//NONSGML v1.0//EN
CALSCALE:GREGORIAN
METHOD:PUBLISH
X-ORIGINAL-URL:https://iowacitybirdclub.org
X-WR-CALDESC:Events for Iowa City Bird Club
REFRESH-INTERVAL;VALUE=DURATION:PT1H
X-Robots-Tag:noindex
X-PUBLISHED-TTL:PT1H
BEGIN:VTIMEZONE
TZID:America/Chicago
BEGIN:DAYLIGHT
TZOFFSETFROM:-0600
TZOFFSETTO:-0500
TZNAME:CDT
DTSTART:20230312T080000
END:DAYLIGHT
BEGIN:STANDARD
TZOFFSETFROM:-0500
TZOFFSETTO:-0600
TZNAME:CST
DTSTART:20231105T070000
END:STANDARD
END:VTIMEZONE
BEGIN:VEVENT
DTSTART;TZID=America/Chicago:20230325T090000
DTEND;TZID=America/Chicago:20230325T150000
DTSTAMP:20260425T232546
CREATED:20230301T014135Z
LAST-MODIFIED:20230301T014621Z
UID:20298-1679734800-1679756400@iowacitybirdclub.org
SUMMARY:15th Annual Purple Martin Workshop/Seminar
DESCRIPTION:An active Purple Martin colony brings joy to everyone. If you want to establish a new\n\n\ncolony or improve an existing one\, this meeting is for you. Beginners and experts will\nbenefit from the ideas and strategies that will be shared at this program.\n\n\n\nFor more information\, or to reserve booth space\, please contact:\nEvan Gingerich\, 2282 Johnson-Washington Rd. SW\, Kalona\, IA 52247 (319) 359-0997\nor Jim Walters at (319) 466-1134\n\n\n\n\n\nLocation:\nCAM Iowa Clothing Center\n(1005 Nutmeg Ave. Kalona\, Iowa)\n1.8 miles north of Kalona\, IA and one mile\neast on Johnson/Washington Rd. off Hwy 1.\nWatch for signs.\n\n\n\nSchedule:\n8:00 A.M. Building opens\n8:30 A.M. Registration & coffee and doughnuts for early birds\n9:00 A.M.  Introductions\n9:10 A.M. “Monitoring Kent Park Bluebirds: Learning the Hard Way.” Ben Rowald\, Iowa City\, IA\n10:10 A.M. “Attracting Birds to Your Yard.” Ivan Ray Miller\, Jamesport\, MO\n11:10 A.M. “Martins Pearl Button Collecting.”Bruce Hochstetler\, Wellman\, IA\n11:30 A.M. Break\, Lunch available on site\n(free will offering to CAM Center appreciated)\n1:00 P.M. “Purple Martins for the People.” Tim Gedler\, West Des Moines\, IA\n2:00 P.M. Questions and Answers. Panel of veteran martin landlords\n2:30 P.M. Door Prizes & Auction
URL:https://iowacitybirdclub.org/event/15th-annual-purple-martin-workshop-seminar/
LOCATION:CAM Iowa Clothing Center\, 1005 Nutmeg Avenue\, Kalona\, Iowa\, 52247
END:VEVENT
END:VCALENDAR