BEGIN:VCALENDAR
VERSION:2.0
PRODID:-//Iowa City Bird Club - ECPv6.15.3//NONSGML v1.0//EN
CALSCALE:GREGORIAN
METHOD:PUBLISH
X-ORIGINAL-URL:https://iowacitybirdclub.org
X-WR-CALDESC:Events for Iowa City Bird Club
REFRESH-INTERVAL;VALUE=DURATION:PT1H
X-Robots-Tag:noindex
X-PUBLISHED-TTL:PT1H
BEGIN:VTIMEZONE
TZID:UTC
BEGIN:STANDARD
TZOFFSETFROM:+0000
TZOFFSETTO:+0000
TZNAME:UTC
DTSTART:20230101T000000
END:STANDARD
END:VTIMEZONE
BEGIN:VEVENT
DTSTART;TZID=UTC:20230323T163000
DTEND;TZID=UTC:20230323T190000
DTSTAMP:20260425T232528
CREATED:20230128T192955Z
LAST-MODIFIED:20230128T192955Z
UID:20212-1679589000-1679598000@iowacitybirdclub.org
SUMMARY:Prairie Preview
DESCRIPTION:Join us for this community event that feels like a family reunion! Learn about environmental groups and how you can take action. Free and open to the public. \nKeynote speaker Connie Mutel will share visionary ideas promoting biodiversity and hope from her latest book\, Tending Iowa’s Land: Pathways to a Sustainable Future. \nBook contributor and Bur Oak Land Trust Board President\, Larry Weber will speak about his water-focused vision for land management. \n25+ organizations represented Light refreshments available
URL:https://iowacitybirdclub.org/event/prairie-preview/
LOCATION:The Center (Formerly the Senior Center)\, 28 S. Linn Street\, Iowa City\, IA\, 52240\, United States
END:VEVENT
END:VCALENDAR